{"text_format":"3","workbook":"xlsx","n_sheets":2,"sheets":["Übern.Jahr","Übern.Mon"],"not_rendered":{"defined_names":2},"read":"whole","date_system":"1900"}

{"sheet":"Übern.Jahr","index":0,"n_rows":42,"n_cols":31,"rows_kept":42,"merged":[[2,2,3,2],[2,3,3,3],[2,4,3,4],[2,5,3,5],[2,6,3,6],[2,7,3,7],[2,8,3,8],[2,9,3,9],[2,10,3,10],[2,11,3,11],[2,12,3,12],[2,13,3,13],[2,14,3,14],[2,15,3,15],[2,16,3,16],[2,17,3,17],[2,18,3,18],[2,19,3,19],[2,20,3,20],[2,21,3,21],[2,22,3,22],[2,23,3,23],[2,24,3,24],[2,25,3,25],[2,26,3,26],[2,27,3,27],[2,28,3,28],[2,29,3,29],[2,30,3,30]]}
[null,"Übernachtungen in den Berichtsgemeinden im Jahre"]
[]
["GKZ","Region",1996,1997,1998,1999,2000,2001,2002,2003,2004,2005,2006,2007,2008,2009,2010,2011,2012,2013,2014,2015,2016,2017,2018,2019,2020,2021,2022,2023,2024]
[null,"Gemeinde"]
[]
[null,"Neusiedler See",{"$f":"SUM(Übern.Mon!C6:N6)","v":{"v":1250623,"d":"1,250,623"}},{"$f":"SUM(Übern.Mon!O6:Z6)","v":{"v":1194908,"d":"1,194,908"}},{"$f":"SUM(Übern.Mon!AA6:AL6)","v":{"v":1304388,"d":"1,304,388"}},{"$f":"SUM(Übern.Mon!AM6:AX6)","v":{"v":1343803,"d":"1,343,803"}},{"$f":"SUM(Übern.Mon!AY6:BJ6)","v":{"v":1379415,"d":"1,379,415"}},{"$f":"SUM(Übern.Mon!BK6:BV6)","v":{"v":1407792,"d":"1,407,792"}},{"$f":"SUM(Übern.Mon!BW6:CH6)","v":{"v":1413644,"d":"1,413,644"}},{"$f":"SUM(Übern.Mon!CI6:CT6)","v":{"v":1381385,"d":"1,381,385"}},{"$f":"SUM(Übern.Mon!CU6:DF6)","v":{"v":1279140,"d":"1,279,140"}},{"$f":"SUM(Übern.Mon!DG6:DR6)","v":{"v":1283696,"d":"1,283,696"}},{"$f":"SUM(Übern.Mon!DS6:ED6)","v":{"v":1224425,"d":"1,224,425"}},{"$f":"SUM(Übern.Mon!EE6:EP6)","v":{"v":1273560,"d":"1,273,560"}},{"$f":"SUM(Übern.Mon!EQ6:FB6)","v":{"v":1308338,"d":"1,308,338"}},{"$f":"SUM(Übern.Mon!FC6:FN6)","v":{"v":1369395,"d":"1,369,395"}},{"$f":"SUM(Übern.Mon!FO6:FZ6)","v":{"v":1390442,"d":"1,390,442"}},{"$f":"SUM(Übern.Mon!GA6:GL6)","v":{"v":1439403,"d":"1,439,403"}},{"$f":"SUM(Übern.Mon!GM6:GX6)","v":{"v":1456027,"d":"1,456,027"}},{"$f":"SUM(Übern.Mon!GY6:HJ6)","v":{"v":1430001,"d":"1,430,001"}},{"$f":"SUM(Übern.Mon!HK6:HV6)","v":{"v":1430328,"d":"1,430,328"}},{"$f":"SUM(Übern.Mon!HW6:IH6)","v":{"v":1435958,"d":"1,435,958"}},{"$f":"SUM(Übern.Mon!II6:IT6)","v":{"v":1544673,"d":"1,544,673"}},{"$f":"SUM(Übern.Mon!IU6:JF6)","v":{"v":1577114,"d":"1,577,114"}},{"$f":"SUM(Übern.Mon!JG6:JR6)","v":{"v":1558115,"d":"1,558,115"}},{"$f":"SUM(Übern.Mon!JS6:KD6)","v":{"v":1629118,"d":"1,629,118"}},{"$f":"SUM(Übern.Mon!KE6:KP6)","v":{"v":1285401,"d":"1,285,401"}},{"$f":"SUM(Übern.Mon!KQ6:LB6)","v":{"v":1393976,"d":"1,393,976"}},{"$f":"SUM(Übern.Mon!LC6:LN6)","v":{"v":1547283,"d":"1,547,283"}},{"$f":"SUM(AD7:AD42)","v":{"v":1724664,"d":"1,724,664"}},{"$f":"SUM(AE7:AE42)","v":{"v":1796629,"d":"1,796,629"}}]
["10701","Andau (ab 5/99)",{"$f":"SUM(Übern.Mon!C7:N7)","v":0},{"$f":"SUM(Übern.Mon!O7:Z7)","v":0},{"$f":"SUM(Übern.Mon!AA7:AL7)","v":0},{"$f":"SUM(Übern.Mon!AM7:AX7)","v":{"v":11426,"d":"11,426"}},{"$f":"SUM(Übern.Mon!AY7:BJ7)","v":{"v":10171,"d":"10,171"}},{"$f":"SUM(Übern.Mon!BK7:BV7)","v":{"v":9050,"d":"9,050"}},{"$f":"SUM(Übern.Mon!BW7:CH7)","v":{"v":8462,"d":"8,462"}},{"$f":"SUM(Übern.Mon!CI7:CT7)","v":{"v":7678,"d":"7,678"}},{"$f":"SUM(Übern.Mon!CU7:DF7)","v":{"v":7039,"d":"7,039"}},{"$f":"SUM(Übern.Mon!DG7:DR7)","v":{"v":7495,"d":"7,495"}},{"$f":"SUM(Übern.Mon!DS7:ED7)","v":{"v":7074,"d":"7,074"}},{"$f":"SUM(Übern.Mon!EE7:EP7)","v":{"v":7087,"d":"7,087"}},{"$f":"SUM(Übern.Mon!EQ7:FB7)","v":{"v":6295,"d":"6,295"}},{"$f":"SUM(Übern.Mon!FC7:FN7)","v":{"v":6398,"d":"6,398"}},{"$f":"SUM(Übern.Mon!FO7:FZ7)","v":{"v":4162,"d":"4,162"}},{"$f":"SUM(Übern.Mon!GA7:GL7)","v":{"v":7465,"d":"7,465"}},{"$f":"SUM(Übern.Mon!GM7:GX7)","v":{"v":6403,"d":"6,403"}},{"$f":"SUM(Übern.Mon!GY7:HJ7)","v":{"v":5217,"d":"5,217"}},{"$f":"SUM(Übern.Mon!HK7:HV7)","v":{"v":5271,"d":"5,271"}},{"$f":"SUM(Übern.Mon!HW7:IH7)","v":{"v":4871,"d":"4,871"}},{"$f":"SUM(Übern.Mon!II7:IT7)","v":{"v":6996,"d":"6,996"}},{"$f":"SUM(Übern.Mon!IU7:JF7)","v":{"v":7255,"d":"7,255"}},{"$f":"SUM(Übern.Mon!JG7:JR7)","v":{"v":8946,"d":"8,946"}},{"$f":"SUM(Übern.Mon!JS7:KD7)","v":{"v":10739,"d":"10,739"}},{"$f":"SUM(Übern.Mon!KE7:KP7)","v":{"v":12010,"d":"12,010"}},{"$f":"SUM(Übern.Mon!KQ7:LB7)","v":{"v":13456,"d":"13,456"}},{"$f":"SUM(Übern.Mon!LC7:LN7)","v":{"v":43091,"d":"43,091"}},{"$f":"SUM(Übern.Mon!LO7:LZ7)","v":{"v":63350,"d":"63,350"}},{"$f":"SUM(Übern.Mon!MA7:ML7)","v":{"v":67009,"d":"67,009"}}]
["10702","Apetlon",{"$f":"SUM(Übern.Mon!C8:N8)","v":{"v":22378,"d":"22,378"}},{"$f":"SUM(Übern.Mon!O8:Z8)","v":{"v":20581,"d":"20,581"}},{"$f":"SUM(Übern.Mon!AA8:AL8)","v":{"v":20192,"d":"20,192"}},{"$f":"SUM(Übern.Mon!AM8:AX8)","v":{"v":21264,"d":"21,264"}},{"$f":"SUM(Übern.Mon!AY8:BJ8)","v":{"v":20184,"d":"20,184"}},{"$f":"SUM(Übern.Mon!BK8:BV8)","v":{"v":20170,"d":"20,170"}},{"$f":"SUM(Übern.Mon!BW8:CH8)","v":{"v":20497,"d":"20,497"}},{"$f":"SUM(Übern.Mon!CI8:CT8)","v":{"v":20989,"d":"20,989"}},{"$f":"SUM(Übern.Mon!CU8:DF8)","v":{"v":20744,"d":"20,744"}},{"$f":"SUM(Übern.Mon!DG8:DR8)","v":{"v":18260,"d":"18,260"}},{"$f":"SUM(Übern.Mon!DS8:ED8)","v":{"v":15743,"d":"15,743"}},{"$f":"SUM(Übern.Mon!EE8:EP8)","v":{"v":16956,"d":"16,956"}},{"$f":"SUM(Übern.Mon!EQ8:FB8)","v":{"v":17149,"d":"17,149"}},{"$f":"SUM(Übern.Mon!FC8:FN8)","v":{"v":20524,"d":"20,524"}},{"$f":"SUM(Übern.Mon!FO8:FZ8)","v":{"v":19627,"d":"19,627"}},{"$f":"SUM(Übern.Mon!GA8:GL8)","v":{"v":17991,"d":"17,991"}},{"$f":"SUM(Übern.Mon!GM8:GX8)","v":{"v":16949,"d":"16,949"}},{"$f":"SUM(Übern.Mon!GY8:HJ8)","v":{"v":17782,"d":"17,782"}},{"$f":"SUM(Übern.Mon!HK8:HV8)","v":{"v":17504,"d":"17,504"}},{"$f":"SUM(Übern.Mon!HW8:IH8)","v":{"v":16302,"d":"16,302"}},{"$f":"SUM(Übern.Mon!II8:IT8)","v":{"v":16553,"d":"16,553"}},{"$f":"SUM(Übern.Mon!IU8:JF8)","v":{"v":18466,"d":"18,466"}},{"$f":"SUM(Übern.Mon!JG8:JR8)","v":{"v":16476,"d":"16,476"}},{"$f":"SUM(Übern.Mon!JS8:KD8)","v":{"v":17849,"d":"17,849"}},{"$f":"SUM(Übern.Mon!KE8:KP8)","v":{"v":17089,"d":"17,089"}},{"$f":"SUM(Übern.Mon!KQ8:LB8)","v":{"v":16870,"d":"16,870"}},{"$f":"SUM(Übern.Mon!LC8:LN8)","v":{"v":15990,"d":"15,990"}},{"$f":"SUM(Übern.Mon!LO8:LZ8)","v":{"v":13594,"d":"13,594"}},{"$f":"SUM(Übern.Mon!MA8:ML8)","v":{"v":12894,"d":"12,894"}}]
["10301","Breitenbrunn",{"$f":"SUM(Übern.Mon!C9:N9)","v":{"v":19446,"d":"19,446"}},{"$f":"SUM(Übern.Mon!O9:Z9)","v":{"v":16507,"d":"16,507"}},{"$f":"SUM(Übern.Mon!AA9:AL9)","v":{"v":18423,"d":"18,423"}},{"$f":"SUM(Übern.Mon!AM9:AX9)","v":{"v":18778,"d":"18,778"}},{"$f":"SUM(Übern.Mon!AY9:BJ9)","v":{"v":19333,"d":"19,333"}},{"$f":"SUM(Übern.Mon!BK9:BV9)","v":{"v":16727,"d":"16,727"}},{"$f":"SUM(Übern.Mon!BW9:CH9)","v":{"v":19881,"d":"19,881"}},{"$f":"SUM(Übern.Mon!CI9:CT9)","v":{"v":19380,"d":"19,380"}},{"$f":"SUM(Übern.Mon!CU9:DF9)","v":{"v":17924,"d":"17,924"}},{"$f":"SUM(Übern.Mon!DG9:DR9)","v":{"v":17334,"d":"17,334"}},{"$f":"SUM(Übern.Mon!DS9:ED9)","v":{"v":17149,"d":"17,149"}},{"$f":"SUM(Übern.Mon!EE9:EP9)","v":{"v":17702,"d":"17,702"}},{"$f":"SUM(Übern.Mon!EQ9:FB9)","v":{"v":16862,"d":"16,862"}},{"$f":"SUM(Übern.Mon!FC9:FN9)","v":{"v":16610,"d":"16,610"}},{"$f":"SUM(Übern.Mon!FO9:FZ9)","v":{"v":15776,"d":"15,776"}},{"$f":"SUM(Übern.Mon!GA9:GL9)","v":{"v":16610,"d":"16,610"}},{"$f":"SUM(Übern.Mon!GM9:GX9)","v":{"v":17312,"d":"17,312"}},{"$f":"SUM(Übern.Mon!GY9:HJ9)","v":{"v":15876,"d":"15,876"}},{"$f":"SUM(Übern.Mon!HK9:HV9)","v":{"v":13740,"d":"13,740"}},{"$f":"SUM(Übern.Mon!HW9:IH9)","v":{"v":13006,"d":"13,006"}},{"$f":"SUM(Übern.Mon!II9:IT9)","v":{"v":13319,"d":"13,319"}},{"$f":"SUM(Übern.Mon!IU9:JF9)","v":{"v":15249,"d":"15,249"}},{"$f":"SUM(Übern.Mon!JG9:JR9)","v":{"v":12545,"d":"12,545"}},{"$f":"SUM(Übern.Mon!JS9:KD9)","v":{"v":16416,"d":"16,416"}},{"$f":"SUM(Übern.Mon!KE9:KP9)","v":{"v":17405,"d":"17,405"}},{"$f":"SUM(Übern.Mon!KQ9:LB9)","v":{"v":17024,"d":"17,024"}},{"$f":"SUM(Übern.Mon!LC9:LN9)","v":{"v":16026,"d":"16,026"}},{"$f":"SUM(Übern.Mon!LO9:LZ9)","v":{"v":13725,"d":"13,725"}},{"$f":"SUM(Übern.Mon!MA9:ML9)","v":{"v":14280,"d":"14,280"}}]
["10703","Bruckneudorf",{"$f":"SUM(Übern.Mon!C10:N10)","v":{"v":10572,"d":"10,572"}},{"$f":"SUM(Übern.Mon!O10:Z10)","v":{"v":10312,"d":"10,312"}},{"$f":"SUM(Übern.Mon!AA10:AL10)","v":{"v":8518,"d":"8,518"}},{"$f":"SUM(Übern.Mon!AM10:AX10)","v":{"v":9261,"d":"9,261"}},{"$f":"SUM(Übern.Mon!AY10:BJ10)","v":{"v":8262,"d":"8,262"}},{"$f":"SUM(Übern.Mon!BK10:BV10)","v":{"v":7296,"d":"7,296"}},{"$f":"SUM(Übern.Mon!BW10:CH10)","v":{"v":6644,"d":"6,644"}},{"$f":"SUM(Übern.Mon!CI10:CT10)","v":{"v":5769,"d":"5,769"}},{"$f":"SUM(Übern.Mon!CU10:DF10)","v":{"v":5290,"d":"5,290"}},{"$f":"SUM(Übern.Mon!DG10:DR10)","v":{"v":5476,"d":"5,476"}},{"$f":"SUM(Übern.Mon!DS10:ED10)","v":{"v":5557,"d":"5,557"}},{"$f":"SUM(Übern.Mon!EE10:EP10)","v":{"v":5259,"d":"5,259"}},{"$f":"SUM(Übern.Mon!EQ10:FB10)","v":{"v":3509,"d":"3,509"}},{"$f":"SUM(Übern.Mon!FC10:FN10)","v":{"v":2756,"d":"2,756"}},{"$f":"SUM(Übern.Mon!FO10:FZ10)","v":{"v":5431,"d":"5,431"}},{"$f":"SUM(Übern.Mon!GA10:GL10)","v":{"v":6692,"d":"6,692"}},{"$f":"SUM(Übern.Mon!GM10:GX10)","v":{"v":6221,"d":"6,221"}},{"$f":"SUM(Übern.Mon!GY10:HJ10)","v":{"v":3455,"d":"3,455"}},{"$f":"SUM(Übern.Mon!HK10:HV10)","v":{"v":3792,"d":"3,792"}},{"$f":"SUM(Übern.Mon!HW10:IH10)","v":{"v":4054,"d":"4,054"}},{"$f":"SUM(Übern.Mon!II10:IT10)","v":{"v":2742,"d":"2,742"}},{"$f":"SUM(Übern.Mon!IU10:JF10)","v":{"v":5064,"d":"5,064"}},{"$f":"SUM(Übern.Mon!JG10:JR10)","v":{"v":6681,"d":"6,681"}},{"$f":"SUM(Übern.Mon!JS10:KD10)","v":{"v":7509,"d":"7,509"}},{"$f":"SUM(Übern.Mon!KE10:KP10)","v":{"v":3637,"d":"3,637"}},{"$f":"SUM(Übern.Mon!KQ10:LB10)","v":{"v":4809,"d":"4,809"}},{"$f":"SUM(Übern.Mon!LC10:LN10)","v":{"v":4650,"d":"4,650"}},{"$f":"SUM(Übern.Mon!LO10:LZ10)","v":{"v":4192,"d":"4,192"}},{"$f":"SUM(Übern.Mon!MA10:ML10)","v":{"v":6460,"d":"6,460"}}]
["10302","Donnerskirchen",{"$f":"SUM(Übern.Mon!C11:N11)","v":{"v":11889,"d":"11,889"}},{"$f":"SUM(Übern.Mon!O11:Z11)","v":{"v":9408,"d":"9,408"}},{"$f":"SUM(Übern.Mon!AA11:AL11)","v":{"v":9933,"d":"9,933"}},{"$f":"SUM(Übern.Mon!AM11:AX11)","v":{"v":9553,"d":"9,553"}},{"$f":"SUM(Übern.Mon!AY11:BJ11)","v":{"v":9480,"d":"9,480"}},{"$f":"SUM(Übern.Mon!BK11:BV11)","v":{"v":8462,"d":"8,462"}},{"$f":"SUM(Übern.Mon!BW11:CH11)","v":{"v":8530,"d":"8,530"}},{"$f":"SUM(Übern.Mon!CI11:CT11)","v":{"v":9406,"d":"9,406"}},{"$f":"SUM(Übern.Mon!CU11:DF11)","v":{"v":10297,"d":"10,297"}},{"$f":"SUM(Übern.Mon!DG11:DR11)","v":{"v":14307,"d":"14,307"}},{"$f":"SUM(Übern.Mon!DS11:ED11)","v":{"v":13549,"d":"13,549"}},{"$f":"SUM(Übern.Mon!EE11:EP11)","v":{"v":13493,"d":"13,493"}},{"$f":"SUM(Übern.Mon!EQ11:FB11)","v":{"v":20797,"d":"20,797"}},{"$f":"SUM(Übern.Mon!FC11:FN11)","v":{"v":20379,"d":"20,379"}},{"$f":"SUM(Übern.Mon!FO11:FZ11)","v":{"v":15545,"d":"15,545"}},{"$f":"SUM(Übern.Mon!GA11:GL11)","v":{"v":10699,"d":"10,699"}},{"$f":"SUM(Übern.Mon!GM11:GX11)","v":{"v":10184,"d":"10,184"}},{"$f":"SUM(Übern.Mon!GY11:HJ11)","v":{"v":13303,"d":"13,303"}},{"$f":"SUM(Übern.Mon!HK11:HV11)","v":{"v":12924,"d":"12,924"}},{"$f":"SUM(Übern.Mon!HW11:IH11)","v":{"v":9953,"d":"9,953"}},{"$f":"SUM(Übern.Mon!II11:IT11)","v":{"v":8954,"d":"8,954"}},{"$f":"SUM(Übern.Mon!IU11:JF11)","v":{"v":9727,"d":"9,727"}},{"$f":"SUM(Übern.Mon!JG11:JR11)","v":{"v":10495,"d":"10,495"}},{"$f":"SUM(Übern.Mon!JS11:KD11)","v":{"v":13422,"d":"13,422"}},{"$f":"SUM(Übern.Mon!KE11:KP11)","v":{"v":9676,"d":"9,676"}},{"$f":"SUM(Übern.Mon!KQ11:LB11)","v":{"v":10932,"d":"10,932"}},{"$f":"SUM(Übern.Mon!LC11:LN11)","v":{"v":10952,"d":"10,952"}},{"$f":"SUM(Übern.Mon!LO11:LZ11)","v":{"v":11229,"d":"11,229"}},{"$f":"SUM(Übern.Mon!MA11:ML11)","v":{"v":12346,"d":"12,346"}}]
["10101","Eisenstadt",{"$f":"SUM(Übern.Mon!C12:N12)","v":{"v":32668,"d":"32,668"}},{"$f":"SUM(Übern.Mon!O12:Z12)","v":{"v":35412,"d":"35,412"}},{"$f":"SUM(Übern.Mon!AA12:AL12)","v":{"v":42572,"d":"42,572"}},{"$f":"SUM(Übern.Mon!AM12:AX12)","v":{"v":45041,"d":"45,041"}},{"$f":"SUM(Übern.Mon!AY12:BJ12)","v":{"v":45927,"d":"45,927"}},{"$f":"SUM(Übern.Mon!BK12:BV12)","v":{"v":50861,"d":"50,861"}},{"$f":"SUM(Übern.Mon!BW12:CH12)","v":{"v":47342,"d":"47,342"}},{"$f":"SUM(Übern.Mon!CI12:CT12)","v":{"v":45899,"d":"45,899"}},{"$f":"SUM(Übern.Mon!CU12:DF12)","v":{"v":42108,"d":"42,108"}},{"$f":"SUM(Übern.Mon!DG12:DR12)","v":{"v":49414,"d":"49,414"}},{"$f":"SUM(Übern.Mon!DS12:ED12)","v":{"v":52568,"d":"52,568"}},{"$f":"SUM(Übern.Mon!EE12:EP12)","v":{"v":59996,"d":"59,996"}},{"$f":"SUM(Übern.Mon!EQ12:FB12)","v":{"v":56028,"d":"56,028"}},{"$f":"SUM(Übern.Mon!FC12:FN12)","v":{"v":61755,"d":"61,755"}},{"$f":"SUM(Übern.Mon!FO12:FZ12)","v":{"v":59913,"d":"59,913"}},{"$f":"SUM(Übern.Mon!GA12:GL12)","v":{"v":59445,"d":"59,445"}},{"$f":"SUM(Übern.Mon!GM12:GX12)","v":{"v":51845,"d":"51,845"}},{"$f":"SUM(Übern.Mon!GY12:HJ12)","v":{"v":50536,"d":"50,536"}},{"$f":"SUM(Übern.Mon!HK12:HV12)","v":{"v":59148,"d":"59,148"}},{"$f":"SUM(Übern.Mon!HW12:IH12)","v":{"v":55681,"d":"55,681"}},{"$f":"SUM(Übern.Mon!II12:IT12)","v":{"v":52795,"d":"52,795"}},{"$f":"SUM(Übern.Mon!IU12:JF12)","v":{"v":54640,"d":"54,640"}},{"$f":"SUM(Übern.Mon!JG12:JR12)","v":{"v":55932,"d":"55,932"}},{"$f":"SUM(Übern.Mon!JS12:KD12)","v":{"v":62879,"d":"62,879"}},{"$f":"SUM(Übern.Mon!KE12:KP12)","v":{"v":23106,"d":"23,106"}},{"$f":"SUM(Übern.Mon!KQ12:LB12)","v":{"v":32058,"d":"32,058"}},{"$f":"SUM(Übern.Mon!LC12:LN12)","v":{"v":35786,"d":"35,786"}},{"$f":"SUM(Übern.Mon!LO12:LZ12)","v":{"v":56805,"d":"56,805"}},{"$f":"SUM(Übern.Mon!MA12:ML12)","v":{"v":62713,"d":"62,713"}}]
["10705","Frauenkirchen",{"$f":"SUM(Übern.Mon!C13:N13)","v":{"v":3501,"d":"3,501"}},{"$f":"SUM(Übern.Mon!O13:Z13)","v":{"v":3721,"d":"3,721"}},{"$f":"SUM(Übern.Mon!AA13:AL13)","v":{"v":2932,"d":"2,932"}},{"$f":"SUM(Übern.Mon!AM13:AX13)","v":{"v":3205,"d":"3,205"}},{"$f":"SUM(Übern.Mon!AY13:BJ13)","v":{"v":2985,"d":"2,985"}},{"$f":"SUM(Übern.Mon!BK13:BV13)","v":{"v":2154,"d":"2,154"}},{"$f":"SUM(Übern.Mon!BW13:CH13)","v":{"v":1599,"d":"1,599"}},{"$f":"SUM(Übern.Mon!CI13:CT13)","v":{"v":1561,"d":"1,561"}},{"$f":"SUM(Übern.Mon!CU13:DF13)","v":{"v":1978,"d":"1,978"}},{"$f":"SUM(Übern.Mon!DG13:DR13)","v":{"v":2400,"d":"2,400"}},{"$f":"SUM(Übern.Mon!DS13:ED13)","v":{"v":3099,"d":"3,099"}},{"$f":"SUM(Übern.Mon!EE13:EP13)","v":{"v":2528,"d":"2,528"}},{"$f":"SUM(Übern.Mon!EQ13:FB13)","v":{"v":2572,"d":"2,572"}},{"$f":"SUM(Übern.Mon!FC13:FN13)","v":{"v":9671,"d":"9,671"}},{"$f":"SUM(Übern.Mon!FO13:FZ13)","v":{"v":66179,"d":"66,179"}},{"$f":"SUM(Übern.Mon!GA13:GL13)","v":{"v":72616,"d":"72,616"}},{"$f":"SUM(Übern.Mon!GM13:GX13)","v":{"v":76590,"d":"76,590"}},{"$f":"SUM(Übern.Mon!GY13:HJ13)","v":{"v":79276,"d":"79,276"}},{"$f":"SUM(Übern.Mon!HK13:HV13)","v":{"v":84528,"d":"84,528"}},{"$f":"SUM(Übern.Mon!HW13:IH13)","v":{"v":105991,"d":"105,991"}},{"$f":"SUM(Übern.Mon!II13:IT13)","v":{"v":117777,"d":"117,777"}},{"$f":"SUM(Übern.Mon!IU13:JF13)","v":{"v":119696,"d":"119,696"}},{"$f":"SUM(Übern.Mon!JG13:JR13)","v":{"v":120863,"d":"120,863"}},{"$f":"SUM(Übern.Mon!JS13:KD13)","v":{"v":127115,"d":"127,115"}},{"$f":"SUM(Übern.Mon!KE13:KP13)","v":{"v":84981,"d":"84,981"}},{"$f":"SUM(Übern.Mon!KQ13:LB13)","v":{"v":82239,"d":"82,239"}},{"$f":"SUM(Übern.Mon!LC13:LN13)","v":{"v":125028,"d":"125,028"}},{"$f":"SUM(Übern.Mon!LO13:LZ13)","v":{"v":123295,"d":"123,295"}},{"$f":"SUM(Übern.Mon!MA13:ML13)","v":{"v":125363,"d":"125,363"}}]
["10707","Gols",{"$f":"SUM(Übern.Mon!C14:N14)","v":{"v":9521,"d":"9,521"}},{"$f":"SUM(Übern.Mon!O14:Z14)","v":{"v":8868,"d":"8,868"}},{"$f":"SUM(Übern.Mon!AA14:AL14)","v":{"v":9775,"d":"9,775"}},{"$f":"SUM(Übern.Mon!AM14:AX14)","v":{"v":9134,"d":"9,134"}},{"$f":"SUM(Übern.Mon!AY14:BJ14)","v":{"v":11735,"d":"11,735"}},{"$f":"SUM(Übern.Mon!BK14:BV14)","v":{"v":14731,"d":"14,731"}},{"$f":"SUM(Übern.Mon!BW14:CH14)","v":{"v":16106,"d":"16,106"}},{"$f":"SUM(Übern.Mon!CI14:CT14)","v":{"v":14270,"d":"14,270"}},{"$f":"SUM(Übern.Mon!CU14:DF14)","v":{"v":15587,"d":"15,587"}},{"$f":"SUM(Übern.Mon!DG14:DR14)","v":{"v":15967,"d":"15,967"}},{"$f":"SUM(Übern.Mon!DS14:ED14)","v":{"v":17905,"d":"17,905"}},{"$f":"SUM(Übern.Mon!EE14:EP14)","v":{"v":16640,"d":"16,640"}},{"$f":"SUM(Übern.Mon!EQ14:FB14)","v":{"v":19990,"d":"19,990"}},{"$f":"SUM(Übern.Mon!FC14:FN14)","v":{"v":19176,"d":"19,176"}},{"$f":"SUM(Übern.Mon!FO14:FZ14)","v":{"v":16582,"d":"16,582"}},{"$f":"SUM(Übern.Mon!GA14:GL14)","v":{"v":16431,"d":"16,431"}},{"$f":"SUM(Übern.Mon!GM14:GX14)","v":{"v":17246,"d":"17,246"}},{"$f":"SUM(Übern.Mon!GY14:HJ14)","v":{"v":16875,"d":"16,875"}},{"$f":"SUM(Übern.Mon!HK14:HV14)","v":{"v":18552,"d":"18,552"}},{"$f":"SUM(Übern.Mon!HW14:IH14)","v":{"v":21259,"d":"21,259"}},{"$f":"SUM(Übern.Mon!II14:IT14)","v":{"v":28365,"d":"28,365"}},{"$f":"SUM(Übern.Mon!IU14:JF14)","v":{"v":30498,"d":"30,498"}},{"$f":"SUM(Übern.Mon!JG14:JR14)","v":{"v":29607,"d":"29,607"}},{"$f":"SUM(Übern.Mon!JS14:KD14)","v":{"v":29631,"d":"29,631"}},{"$f":"SUM(Übern.Mon!KE14:KP14)","v":{"v":22894,"d":"22,894"}},{"$f":"SUM(Übern.Mon!KQ14:LB14)","v":{"v":24891,"d":"24,891"}},{"$f":"SUM(Übern.Mon!LC14:LN14)","v":{"v":29008,"d":"29,008"}},{"$f":"SUM(Übern.Mon!LO14:LZ14)","v":{"v":23419,"d":"23,419"}},{"$f":"SUM(Übern.Mon!MA14:ML14)","v":{"v":29718,"d":"29,718"}}]
[10708,"Halbturn (bis 4/99) (ab 11/13)",{"$f":"SUM(Übern.Mon!C15:N15)","v":680},{"$f":"SUM(Übern.Mon!O15:Z15)","v":329},{"$f":"SUM(Übern.Mon!AA15:AL15)","v":628},{"$nulls":14},{"$f":"SUM(Übern.Mon!GY15:HJ15)","v":275},{"$f":"SUM(Übern.Mon!HK15:HV15)","v":{"v":3469,"d":"3,469"}},{"$f":"SUM(Übern.Mon!HW15:IH15)","v":{"v":2957,"d":"2,957"}},{"$f":"SUM(Übern.Mon!II15:IT15)","v":{"v":2961,"d":"2,961"}},{"$f":"SUM(Übern.Mon!IU15:JF15)","v":{"v":2770,"d":"2,770"}},{"$f":"SUM(Übern.Mon!JG15:JR15)","v":{"v":1428,"d":"1,428"}},{"$f":"SUM(Übern.Mon!JS15:KD15)","v":{"v":6047,"d":"6,047"}},{"$f":"SUM(Übern.Mon!KE15:KP15)","v":{"v":6696,"d":"6,696"}},{"$f":"SUM(Übern.Mon!KQ15:LB15)","v":{"v":6867,"d":"6,867"}},{"$f":"SUM(Übern.Mon!LC15:LN15)","v":{"v":7787,"d":"7,787"}},{"$f":"SUM(Übern.Mon!LO15:LZ15)","v":{"v":5940,"d":"5,940"}},{"$f":"SUM(Übern.Mon!MA15:ML15)","v":{"v":6669,"d":"6,669"}}]
[10304,"Hornstein (bis 4/99) (ab 11/15 bis 10/17)",{"$f":"SUM(Übern.Mon!C16:N16)","v":818},{"$f":"SUM(Übern.Mon!O16:Z16)","v":621},{"$f":"SUM(Übern.Mon!AA16:AL16)","v":843},{"$nulls":17},{"$f":"SUM(Übern.Mon!II16:IT16)","v":422},{"$f":"SUM(Übern.Mon!IU16:JF16)","v":423}]
["10709","Illmitz",{"$f":"SUM(Übern.Mon!C17:N17)","v":{"v":128548,"d":"128,548"}},{"$f":"SUM(Übern.Mon!O17:Z17)","v":{"v":126756,"d":"126,756"}},{"$f":"SUM(Übern.Mon!AA17:AL17)","v":{"v":129331,"d":"129,331"}},{"$f":"SUM(Übern.Mon!AM17:AX17)","v":{"v":140494,"d":"140,494"}},{"$f":"SUM(Übern.Mon!AY17:BJ17)","v":{"v":152092,"d":"152,092"}},{"$f":"SUM(Übern.Mon!BK17:BV17)","v":{"v":160249,"d":"160,249"}},{"$f":"SUM(Übern.Mon!BW17:CH17)","v":{"v":161495,"d":"161,495"}},{"$f":"SUM(Übern.Mon!CI17:CT17)","v":{"v":156003,"d":"156,003"}},{"$f":"SUM(Übern.Mon!CU17:DF17)","v":{"v":147028,"d":"147,028"}},{"$f":"SUM(Übern.Mon!DG17:DR17)","v":{"v":147954,"d":"147,954"}},{"$f":"SUM(Übern.Mon!DS17:ED17)","v":{"v":136305,"d":"136,305"}},{"$f":"SUM(Übern.Mon!EE17:EP17)","v":{"v":141695,"d":"141,695"}},{"$f":"SUM(Übern.Mon!EQ17:FB17)","v":{"v":147105,"d":"147,105"}},{"$f":"SUM(Übern.Mon!FC17:FN17)","v":{"v":152384,"d":"152,384"}},{"$f":"SUM(Übern.Mon!FO17:FZ17)","v":{"v":150544,"d":"150,544"}},{"$f":"SUM(Übern.Mon!GA17:GL17)","v":{"v":149464,"d":"149,464"}},{"$f":"SUM(Übern.Mon!GM17:GX17)","v":{"v":151062,"d":"151,062"}},{"$f":"SUM(Übern.Mon!GY17:HJ17)","v":{"v":140420,"d":"140,420"}},{"$f":"SUM(Übern.Mon!HK17:HV17)","v":{"v":138539,"d":"138,539"}},{"$f":"SUM(Übern.Mon!HW17:IH17)","v":{"v":136424,"d":"136,424"}},{"$f":"SUM(Übern.Mon!II17:IT17)","v":{"v":142017,"d":"142,017"}},{"$f":"SUM(Übern.Mon!IU17:JF17)","v":{"v":145197,"d":"145,197"}},{"$f":"SUM(Übern.Mon!JG17:JR17)","v":{"v":141400,"d":"141,400"}},{"$f":"SUM(Übern.Mon!JS17:KD17)","v":{"v":144929,"d":"144,929"}},{"$f":"SUM(Übern.Mon!KE17:KP17)","v":{"v":112204,"d":"112,204"}},{"$f":"SUM(Übern.Mon!KQ17:LB17)","v":{"v":120694,"d":"120,694"}},{"$f":"SUM(Übern.Mon!LC17:LN17)","v":{"v":116953,"d":"116,953"}},{"$f":"SUM(Übern.Mon!LO17:LZ17)","v":{"v":113764,"d":"113,764"}},{"$f":"SUM(Übern.Mon!MA17:ML17)","v":{"v":108409,"d":"108,409"}}]
["10710","Jois",{"$f":"SUM(Übern.Mon!C18:N18)","v":{"v":29500,"d":"29,500"}},{"$f":"SUM(Übern.Mon!O18:Z18)","v":{"v":26622,"d":"26,622"}},{"$f":"SUM(Übern.Mon!AA18:AL18)","v":{"v":31161,"d":"31,161"}},{"$f":"SUM(Übern.Mon!AM18:AX18)","v":{"v":33718,"d":"33,718"}},{"$f":"SUM(Übern.Mon!AY18:BJ18)","v":{"v":33683,"d":"33,683"}},{"$f":"SUM(Übern.Mon!BK18:BV18)","v":{"v":33965,"d":"33,965"}},{"$f":"SUM(Übern.Mon!BW18:CH18)","v":{"v":33318,"d":"33,318"}},{"$f":"SUM(Übern.Mon!CI18:CT18)","v":{"v":34236,"d":"34,236"}},{"$f":"SUM(Übern.Mon!CU18:DF18)","v":{"v":31916,"d":"31,916"}},{"$f":"SUM(Übern.Mon!DG18:DR18)","v":{"v":29190,"d":"29,190"}},{"$f":"SUM(Übern.Mon!DS18:ED18)","v":{"v":26975,"d":"26,975"}},{"$f":"SUM(Übern.Mon!EE18:EP18)","v":{"v":24150,"d":"24,150"}},{"$f":"SUM(Übern.Mon!EQ18:FB18)","v":{"v":27561,"d":"27,561"}},{"$f":"SUM(Übern.Mon!FC18:FN18)","v":{"v":20118,"d":"20,118"}},{"$f":"SUM(Übern.Mon!FO18:FZ18)","v":{"v":24869,"d":"24,869"}},{"$f":"SUM(Übern.Mon!GA18:GL18)","v":{"v":24305,"d":"24,305"}},{"$f":"SUM(Übern.Mon!GM18:GX18)","v":{"v":28662,"d":"28,662"}},{"$f":"SUM(Übern.Mon!GY18:HJ18)","v":{"v":28205,"d":"28,205"}},{"$f":"SUM(Übern.Mon!HK18:HV18)","v":{"v":25572,"d":"25,572"}},{"$f":"SUM(Übern.Mon!HW18:IH18)","v":{"v":28143,"d":"28,143"}},{"$f":"SUM(Übern.Mon!II18:IT18)","v":{"v":29984,"d":"29,984"}},{"$f":"SUM(Übern.Mon!IU18:JF18)","v":{"v":35228,"d":"35,228"}},{"$f":"SUM(Übern.Mon!JG18:JR18)","v":{"v":36049,"d":"36,049"}},{"$f":"SUM(Übern.Mon!JS18:KD18)","v":{"v":39755,"d":"39,755"}},{"$f":"SUM(Übern.Mon!KE18:KP18)","v":{"v":29309,"d":"29,309"}},{"$f":"SUM(Übern.Mon!KQ18:LB18)","v":{"v":33388,"d":"33,388"}},{"$f":"SUM(Übern.Mon!LC18:LN18)","v":{"v":37418,"d":"37,418"}},{"$f":"SUM(Übern.Mon!LO18:LZ18)","v":{"v":35756,"d":"35,756"}},{"$f":"SUM(Übern.Mon!MA18:ML18)","v":{"v":35774,"d":"35,774"}}]
["10711","Kittsee (ab 11/09)",{"$nulls":13},{"$f":"SUM(Übern.Mon!FC19:FN19)","v":223},{"$f":"SUM(Übern.Mon!FO19:FZ19)","v":{"v":1200,"d":"1,200"}},{"$f":"SUM(Übern.Mon!GA19:GL19)","v":{"v":1365,"d":"1,365"}},{"$f":"SUM(Übern.Mon!GM19:GX19)","v":{"v":2657,"d":"2,657"}},{"$f":"SUM(Übern.Mon!GY19:HJ19)","v":{"v":30924,"d":"30,924"}},{"$f":"SUM(Übern.Mon!HK19:HV19)","v":{"v":31707,"d":"31,707"}},{"$f":"SUM(Übern.Mon!HW19:IH19)","v":{"v":34283,"d":"34,283"}},{"$f":"SUM(Übern.Mon!II19:IT19)","v":{"v":35688,"d":"35,688"}},{"$f":"SUM(Übern.Mon!IU19:JF19)","v":{"v":35968,"d":"35,968"}},{"$f":"SUM(Übern.Mon!JG19:JR19)","v":{"v":37930,"d":"37,930"}},{"$f":"SUM(Übern.Mon!JS19:KD19)","v":{"v":38569,"d":"38,569"}},{"$f":"SUM(Übern.Mon!KE19:KP19)","v":{"v":28433,"d":"28,433"}},{"$f":"SUM(Übern.Mon!KQ19:LB19)","v":{"v":34174,"d":"34,174"}},{"$f":"SUM(Übern.Mon!LC19:LN19)","v":{"v":34561,"d":"34,561"}},{"$f":"SUM(Übern.Mon!LO19:LZ19)","v":{"v":40027,"d":"40,027"}},{"$f":"SUM(Übern.Mon!MA19:ML19)","v":{"v":39758,"d":"39,758"}}]
[10305,"Klingenbach (ab11/15)",{"$nulls":19},{"$f":"SUM(Übern.Mon!HW20:IH20)","v":692},{"$f":"SUM(Übern.Mon!II20:IT20)","v":{"v":4703,"d":"4,703"}},{"$f":"SUM(Übern.Mon!IU20:JF20)","v":{"v":4398,"d":"4,398"}},{"$f":"SUM(Übern.Mon!JG20:JR20)","v":{"v":4708,"d":"4,708"}},{"$f":"SUM(Übern.Mon!JS20:KD20)","v":{"v":6966,"d":"6,966"}},{"$f":"SUM(Übern.Mon!KE20:KP20)","v":{"v":6300,"d":"6,300"}},{"$f":"SUM(Übern.Mon!KQ20:LB20)","v":{"v":6986,"d":"6,986"}},{"$f":"SUM(Übern.Mon!LC20:LN20)","v":{"v":7525,"d":"7,525"}},{"$f":"SUM(Übern.Mon!LO20:LZ20)","v":{"v":6605,"d":"6,605"}},{"$f":"SUM(Übern.Mon!MA20:ML20)","v":{"v":5908,"d":"5,908"}}]
["10712","Mönchhof",{"$f":"SUM(Übern.Mon!C21:N21)","v":{"v":45195,"d":"45,195"}},{"$f":"SUM(Übern.Mon!O21:Z21)","v":{"v":46935,"d":"46,935"}},{"$f":"SUM(Übern.Mon!AA21:AL21)","v":{"v":43963,"d":"43,963"}},{"$f":"SUM(Übern.Mon!AM21:AX21)","v":{"v":39822,"d":"39,822"}},{"$f":"SUM(Übern.Mon!AY21:BJ21)","v":{"v":39520,"d":"39,520"}},{"$f":"SUM(Übern.Mon!BK21:BV21)","v":{"v":39018,"d":"39,018"}},{"$f":"SUM(Übern.Mon!BW21:CH21)","v":{"v":37188,"d":"37,188"}},{"$f":"SUM(Übern.Mon!CI21:CT21)","v":{"v":35585,"d":"35,585"}},{"$f":"SUM(Übern.Mon!CU21:DF21)","v":{"v":34350,"d":"34,350"}},{"$f":"SUM(Übern.Mon!DG21:DR21)","v":{"v":36486,"d":"36,486"}},{"$f":"SUM(Übern.Mon!DS21:ED21)","v":{"v":36707,"d":"36,707"}},{"$f":"SUM(Übern.Mon!EE21:EP21)","v":{"v":36362,"d":"36,362"}},{"$f":"SUM(Übern.Mon!EQ21:FB21)","v":{"v":32691,"d":"32,691"}},{"$f":"SUM(Übern.Mon!FC21:FN21)","v":{"v":31128,"d":"31,128"}},{"$f":"SUM(Übern.Mon!FO21:FZ21)","v":{"v":26317,"d":"26,317"}},{"$f":"SUM(Übern.Mon!GA21:GL21)","v":{"v":27437,"d":"27,437"}},{"$f":"SUM(Übern.Mon!GM21:GX21)","v":{"v":33104,"d":"33,104"}},{"$f":"SUM(Übern.Mon!GY21:HJ21)","v":{"v":35242,"d":"35,242"}},{"$f":"SUM(Übern.Mon!HK21:HV21)","v":{"v":33081,"d":"33,081"}},{"$f":"SUM(Übern.Mon!HW21:IH21)","v":{"v":34252,"d":"34,252"}},{"$f":"SUM(Übern.Mon!II21:IT21)","v":{"v":34109,"d":"34,109"}},{"$f":"SUM(Übern.Mon!IU21:JF21)","v":{"v":30227,"d":"30,227"}},{"$f":"SUM(Übern.Mon!JG21:JR21)","v":{"v":5778,"d":"5,778"}},{"$f":"SUM(Übern.Mon!JS21:KD21)","v":{"v":15952,"d":"15,952"}},{"$f":"SUM(Übern.Mon!KE21:KP21)","v":{"v":13834,"d":"13,834"}},{"$f":"SUM(Übern.Mon!KQ21:LB21)","v":{"v":20544,"d":"20,544"}},{"$f":"SUM(Übern.Mon!LC21:LN21)","v":{"v":18459,"d":"18,459"}},{"$f":"SUM(Übern.Mon!LO21:LZ21)","v":{"v":15474,"d":"15,474"}},{"$f":"SUM(Übern.Mon!MA21:ML21)","v":{"v":15798,"d":"15,798"}}]
["10307","Mörbisch a. See",{"$f":"SUM(Übern.Mon!C22:N22)","v":{"v":113578,"d":"113,578"}},{"$f":"SUM(Übern.Mon!O22:Z22)","v":{"v":105537,"d":"105,537"}},{"$f":"SUM(Übern.Mon!AA22:AL22)","v":{"v":118607,"d":"118,607"}},{"$f":"SUM(Übern.Mon!AM22:AX22)","v":{"v":120152,"d":"120,152"}},{"$f":"SUM(Übern.Mon!AY22:BJ22)","v":{"v":122466,"d":"122,466"}},{"$f":"SUM(Übern.Mon!BK22:BV22)","v":{"v":126457,"d":"126,457"}},{"$f":"SUM(Übern.Mon!BW22:CH22)","v":{"v":128885,"d":"128,885"}},{"$f":"SUM(Übern.Mon!CI22:CT22)","v":{"v":126059,"d":"126,059"}},{"$f":"SUM(Übern.Mon!CU22:DF22)","v":{"v":121121,"d":"121,121"}},{"$f":"SUM(Übern.Mon!DG22:DR22)","v":{"v":112954,"d":"112,954"}},{"$f":"SUM(Übern.Mon!DS22:ED22)","v":{"v":99885,"d":"99,885"}},{"$f":"SUM(Übern.Mon!EE22:EP22)","v":{"v":103837,"d":"103,837"}},{"$f":"SUM(Übern.Mon!EQ22:FB22)","v":{"v":110313,"d":"110,313"}},{"$f":"SUM(Übern.Mon!FC22:FN22)","v":{"v":112547,"d":"112,547"}},{"$f":"SUM(Übern.Mon!FO22:FZ22)","v":{"v":99754,"d":"99,754"}},{"$f":"SUM(Übern.Mon!GA22:GL22)","v":{"v":104787,"d":"104,787"}},{"$f":"SUM(Übern.Mon!GM22:GX22)","v":{"v":107093,"d":"107,093"}},{"$f":"SUM(Übern.Mon!GY22:HJ22)","v":{"v":101944,"d":"101,944"}},{"$f":"SUM(Übern.Mon!HK22:HV22)","v":{"v":100648,"d":"100,648"}},{"$f":"SUM(Übern.Mon!HW22:IH22)","v":{"v":98475,"d":"98,475"}},{"$f":"SUM(Übern.Mon!II22:IT22)","v":{"v":98972,"d":"98,972"}},{"$f":"SUM(Übern.Mon!IU22:JF22)","v":{"v":103039,"d":"103,039"}},{"$f":"SUM(Übern.Mon!JG22:JR22)","v":{"v":105398,"d":"105,398"}},{"$f":"SUM(Übern.Mon!JS22:KD22)","v":{"v":110023,"d":"110,023"}},{"$f":"SUM(Übern.Mon!KE22:KP22)","v":{"v":88570,"d":"88,570"}},{"$f":"SUM(Übern.Mon!KQ22:LB22)","v":{"v":101217,"d":"101,217"}},{"$f":"SUM(Übern.Mon!LC22:LN22)","v":{"v":96183,"d":"96,183"}},{"$f":"SUM(Übern.Mon!LO22:LZ22)","v":{"v":97526,"d":"97,526"}},{"$f":"SUM(Übern.Mon!MA22:ML22)","v":{"v":93903,"d":"93,903"}}]
["10713","Neusiedl a. See",{"$f":"SUM(Übern.Mon!C23:N23)","v":{"v":100003,"d":"100,003"}},{"$f":"SUM(Übern.Mon!O23:Z23)","v":{"v":88204,"d":"88,204"}},{"$f":"SUM(Übern.Mon!AA23:AL23)","v":{"v":87918,"d":"87,918"}},{"$f":"SUM(Übern.Mon!AM23:AX23)","v":{"v":86789,"d":"86,789"}},{"$f":"SUM(Übern.Mon!AY23:BJ23)","v":{"v":89713,"d":"89,713"}},{"$f":"SUM(Übern.Mon!BK23:BV23)","v":{"v":96363,"d":"96,363"}},{"$f":"SUM(Übern.Mon!BW23:CH23)","v":{"v":98044,"d":"98,044"}},{"$f":"SUM(Übern.Mon!CI23:CT23)","v":{"v":91516,"d":"91,516"}},{"$f":"SUM(Übern.Mon!CU23:DF23)","v":{"v":88305,"d":"88,305"}},{"$f":"SUM(Übern.Mon!DG23:DR23)","v":{"v":102588,"d":"102,588"}},{"$f":"SUM(Übern.Mon!DS23:ED23)","v":{"v":97305,"d":"97,305"}},{"$f":"SUM(Übern.Mon!EE23:EP23)","v":{"v":89895,"d":"89,895"}},{"$f":"SUM(Übern.Mon!EQ23:FB23)","v":{"v":93918,"d":"93,918"}},{"$f":"SUM(Übern.Mon!FC23:FN23)","v":{"v":88103,"d":"88,103"}},{"$f":"SUM(Übern.Mon!FO23:FZ23)","v":{"v":84711,"d":"84,711"}},{"$f":"SUM(Übern.Mon!GA23:GL23)","v":{"v":90108,"d":"90,108"}},{"$f":"SUM(Übern.Mon!GM23:GX23)","v":{"v":82972,"d":"82,972"}},{"$f":"SUM(Übern.Mon!GY23:HJ23)","v":{"v":74138,"d":"74,138"}},{"$f":"SUM(Übern.Mon!HK23:HV23)","v":{"v":66733,"d":"66,733"}},{"$f":"SUM(Übern.Mon!HW23:IH23)","v":{"v":61941,"d":"61,941"}},{"$f":"SUM(Übern.Mon!II23:IT23)","v":{"v":62106,"d":"62,106"}},{"$f":"SUM(Übern.Mon!IU23:JF23)","v":{"v":59627,"d":"59,627"}},{"$f":"SUM(Übern.Mon!JG23:JR23)","v":{"v":58780,"d":"58,780"}},{"$f":"SUM(Übern.Mon!JS23:KD23)","v":{"v":60072,"d":"60,072"}},{"$f":"SUM(Übern.Mon!KE23:KP23)","v":{"v":46136,"d":"46,136"}},{"$f":"SUM(Übern.Mon!KQ23:LB23)","v":{"v":52106,"d":"52,106"}},{"$f":"SUM(Übern.Mon!LC23:LN23)","v":{"v":59324,"d":"59,324"}},{"$f":"SUM(Übern.Mon!LO23:LZ23)","v":{"v":57403,"d":"57,403"}},{"$f":"SUM(Übern.Mon!MA23:ML23)","v":{"v":61888,"d":"61,888"}}]
["10714","Nickelsdorf",{"$f":"SUM(Übern.Mon!C24:N24)","v":{"v":4714,"d":"4,714"}},{"$f":"SUM(Übern.Mon!O24:Z24)","v":{"v":3910,"d":"3,910"}},{"$f":"SUM(Übern.Mon!AA24:AL24)","v":{"v":3945,"d":"3,945"}},{"$f":"SUM(Übern.Mon!AM24:AX24)","v":{"v":3984,"d":"3,984"}},{"$f":"SUM(Übern.Mon!AY24:BJ24)","v":{"v":3021,"d":"3,021"}},{"$f":"SUM(Übern.Mon!BK24:BV24)","v":{"v":2990,"d":"2,990"}},{"$f":"SUM(Übern.Mon!BW24:CH24)","v":{"v":2788,"d":"2,788"}},{"$f":"SUM(Übern.Mon!CI24:CT24)","v":{"v":3145,"d":"3,145"}},{"$f":"SUM(Übern.Mon!CU24:DF24)","v":{"v":3203,"d":"3,203"}},{"$f":"SUM(Übern.Mon!DG24:DR24)","v":{"v":4609,"d":"4,609"}},{"$f":"SUM(Übern.Mon!DS24:ED24)","v":{"v":4924,"d":"4,924"}},{"$f":"SUM(Übern.Mon!EE24:EP24)","v":{"v":3827,"d":"3,827"}},{"$f":"SUM(Übern.Mon!EQ24:FB24)","v":{"v":2521,"d":"2,521"}},{"$f":"SUM(Übern.Mon!FC24:FN24)","v":{"v":2259,"d":"2,259"}},{"$f":"SUM(Übern.Mon!FO24:FZ24)","v":{"v":1732,"d":"1,732"}},{"$f":"SUM(Übern.Mon!GA24:GL24)","v":{"v":2559,"d":"2,559"}},{"$f":"SUM(Übern.Mon!GM24:GX24)","v":{"v":1874,"d":"1,874"}},{"$f":"SUM(Übern.Mon!GY24:HJ24)","v":{"v":2755,"d":"2,755"}},{"$f":"SUM(Übern.Mon!HK24:HV24)","v":{"v":3683,"d":"3,683"}},{"$f":"SUM(Übern.Mon!HW24:IH24)","v":{"v":3773,"d":"3,773"}},{"$f":"SUM(Übern.Mon!II24:IT24)","v":{"v":4593,"d":"4,593"}},{"$f":"SUM(Übern.Mon!IU24:JF24)","v":{"v":4338,"d":"4,338"}},{"$f":"SUM(Übern.Mon!JG24:JR24)","v":{"v":4551,"d":"4,551"}},{"$f":"SUM(Übern.Mon!JS24:KD24)","v":{"v":4709,"d":"4,709"}},{"$f":"SUM(Übern.Mon!KE24:KP24)","v":{"v":2940,"d":"2,940"}},{"$f":"SUM(Übern.Mon!KQ24:LB24)","v":{"v":3960,"d":"3,960"}},{"$f":"SUM(Übern.Mon!LC24:LN24)","v":{"v":3971,"d":"3,971"}},{"$f":"SUM(Übern.Mon!LO24:LZ24)","v":{"v":141094,"d":"141,094"}},{"$f":"SUM(Übern.Mon!MA24:ML24)","v":{"v":123194,"d":"123,194"}}]
["10310","Oggau a. Neusiedler See",{"$f":"SUM(Übern.Mon!C25:N25)","v":{"v":16105,"d":"16,105"}},{"$f":"SUM(Übern.Mon!O25:Z25)","v":{"v":14570,"d":"14,570"}},{"$f":"SUM(Übern.Mon!AA25:AL25)","v":{"v":14392,"d":"14,392"}},{"$f":"SUM(Übern.Mon!AM25:AX25)","v":{"v":14779,"d":"14,779"}},{"$f":"SUM(Übern.Mon!AY25:BJ25)","v":{"v":15059,"d":"15,059"}},{"$f":"SUM(Übern.Mon!BK25:BV25)","v":{"v":15106,"d":"15,106"}},{"$f":"SUM(Übern.Mon!BW25:CH25)","v":{"v":17638,"d":"17,638"}},{"$f":"SUM(Übern.Mon!CI25:CT25)","v":{"v":20895,"d":"20,895"}},{"$f":"SUM(Übern.Mon!CU25:DF25)","v":{"v":19936,"d":"19,936"}},{"$f":"SUM(Übern.Mon!DG25:DR25)","v":{"v":20877,"d":"20,877"}},{"$f":"SUM(Übern.Mon!DS25:ED25)","v":{"v":18727,"d":"18,727"}},{"$f":"SUM(Übern.Mon!EE25:EP25)","v":{"v":21388,"d":"21,388"}},{"$f":"SUM(Übern.Mon!EQ25:FB25)","v":{"v":21717,"d":"21,717"}},{"$f":"SUM(Übern.Mon!FC25:FN25)","v":{"v":22251,"d":"22,251"}},{"$f":"SUM(Übern.Mon!FO25:FZ25)","v":{"v":21953,"d":"21,953"}},{"$f":"SUM(Übern.Mon!GA25:GL25)","v":{"v":22027,"d":"22,027"}},{"$f":"SUM(Übern.Mon!GM25:GX25)","v":{"v":23750,"d":"23,750"}},{"$f":"SUM(Übern.Mon!GY25:HJ25)","v":{"v":20844,"d":"20,844"}},{"$f":"SUM(Übern.Mon!HK25:HV25)","v":{"v":22424,"d":"22,424"}},{"$f":"SUM(Übern.Mon!HW25:IH25)","v":{"v":20944,"d":"20,944"}},{"$f":"SUM(Übern.Mon!II25:IT25)","v":{"v":24192,"d":"24,192"}},{"$f":"SUM(Übern.Mon!IU25:JF25)","v":{"v":28010,"d":"28,010"}},{"$f":"SUM(Übern.Mon!JG25:JR25)","v":{"v":29100,"d":"29,100"}},{"$f":"SUM(Übern.Mon!JS25:KD25)","v":{"v":31766,"d":"31,766"}},{"$f":"SUM(Übern.Mon!KE25:KP25)","v":{"v":30259,"d":"30,259"}},{"$f":"SUM(Übern.Mon!KQ25:LB25)","v":{"v":28503,"d":"28,503"}},{"$f":"SUM(Übern.Mon!LC25:LN25)","v":{"v":22605,"d":"22,605"}},{"$f":"SUM(Übern.Mon!LO25:LZ25)","v":{"v":21143,"d":"21,143"}},{"$f":"SUM(Übern.Mon!MA25:ML25)","v":{"v":22061,"d":"22,061"}}]
["10311","Oslip (ab 11/23)",{"$nulls":27},{"$f":"SUM(Übern.Mon!LO26:LZ26)","v":144},{"$f":"SUM(Übern.Mon!MA26:ML26)","v":{"v":3984,"d":"3,984"}}]
["10716","Pamhagen",{"$f":"SUM(Übern.Mon!C27:N27)","v":{"v":58269,"d":"58,269"}},{"$f":"SUM(Übern.Mon!O27:Z27)","v":{"v":50964,"d":"50,964"}},{"$f":"SUM(Übern.Mon!AA27:AL27)","v":{"v":63549,"d":"63,549"}},{"$f":"SUM(Übern.Mon!AM27:AX27)","v":{"v":82656,"d":"82,656"}},{"$f":"SUM(Übern.Mon!AY27:BJ27)","v":{"v":86078,"d":"86,078"}},{"$f":"SUM(Übern.Mon!BK27:BV27)","v":{"v":91837,"d":"91,837"}},{"$f":"SUM(Übern.Mon!BW27:CH27)","v":{"v":87564,"d":"87,564"}},{"$f":"SUM(Übern.Mon!CI27:CT27)","v":{"v":89947,"d":"89,947"}},{"$f":"SUM(Übern.Mon!CU27:DF27)","v":{"v":82668,"d":"82,668"}},{"$f":"SUM(Übern.Mon!DG27:DR27)","v":{"v":78544,"d":"78,544"}},{"$f":"SUM(Übern.Mon!DS27:ED27)","v":{"v":80877,"d":"80,877"}},{"$f":"SUM(Übern.Mon!EE27:EP27)","v":{"v":85859,"d":"85,859"}},{"$f":"SUM(Übern.Mon!EQ27:FB27)","v":{"v":86505,"d":"86,505"}},{"$f":"SUM(Übern.Mon!FC27:FN27)","v":{"v":87574,"d":"87,574"}},{"$f":"SUM(Übern.Mon!FO27:FZ27)","v":{"v":84252,"d":"84,252"}},{"$f":"SUM(Übern.Mon!GA27:GL27)","v":{"v":78512,"d":"78,512"}},{"$f":"SUM(Übern.Mon!GM27:GX27)","v":{"v":82314,"d":"82,314"}},{"$f":"SUM(Übern.Mon!GY27:HJ27)","v":{"v":80147,"d":"80,147"}},{"$f":"SUM(Übern.Mon!HK27:HV27)","v":{"v":83134,"d":"83,134"}},{"$f":"SUM(Übern.Mon!HW27:IH27)","v":{"v":79794,"d":"79,794"}},{"$f":"SUM(Übern.Mon!II27:IT27)","v":{"v":85207,"d":"85,207"}},{"$f":"SUM(Übern.Mon!IU27:JF27)","v":{"v":86073,"d":"86,073"}},{"$f":"SUM(Übern.Mon!JG27:JR27)","v":{"v":87110,"d":"87,110"}},{"$f":"SUM(Übern.Mon!JS27:KD27)","v":{"v":85282,"d":"85,282"}},{"$f":"SUM(Übern.Mon!KE27:KP27)","v":{"v":63561,"d":"63,561"}},{"$f":"SUM(Übern.Mon!KQ27:LB27)","v":{"v":67308,"d":"67,308"}},{"$f":"SUM(Übern.Mon!LC27:LN27)","v":{"v":93004,"d":"93,004"}},{"$f":"SUM(Übern.Mon!LO27:LZ27)","v":{"v":71410,"d":"71,410"}},{"$f":"SUM(Übern.Mon!MA27:ML27)","v":{"v":88107,"d":"88,107"}}]
["10717","Parndorf (ab 5/09)",{"$nulls":13},{"$f":"SUM(Übern.Mon!FC28:FN28)","v":{"v":18693,"d":"18,693"}},{"$f":"SUM(Übern.Mon!FO28:FZ28)","v":{"v":35207,"d":"35,207"}},{"$f":"SUM(Übern.Mon!GA28:GL28)","v":{"v":40908,"d":"40,908"}},{"$f":"SUM(Übern.Mon!GM28:GX28)","v":{"v":50866,"d":"50,866"}},{"$f":"SUM(Übern.Mon!GY28:HJ28)","v":{"v":46839,"d":"46,839"}},{"$f":"SUM(Übern.Mon!HK28:HV28)","v":{"v":53049,"d":"53,049"}},{"$f":"SUM(Übern.Mon!HW28:IH28)","v":{"v":44381,"d":"44,381"}},{"$f":"SUM(Übern.Mon!II28:IT28)","v":{"v":45077,"d":"45,077"}},{"$f":"SUM(Übern.Mon!IU28:JF28)","v":{"v":46891,"d":"46,891"}},{"$f":"SUM(Übern.Mon!JG28:JR28)","v":{"v":46752,"d":"46,752"}},{"$f":"SUM(Übern.Mon!JS28:KD28)","v":{"v":61446,"d":"61,446"}},{"$f":"SUM(Übern.Mon!KE28:KP28)","v":{"v":38637,"d":"38,637"}},{"$f":"SUM(Übern.Mon!KQ28:LB28)","v":{"v":62144,"d":"62,144"}},{"$f":"SUM(Übern.Mon!LC28:LN28)","v":{"v":107616,"d":"107,616"}},{"$f":"SUM(Übern.Mon!LO28:LZ28)","v":{"v":132982,"d":"132,982"}},{"$f":"SUM(Übern.Mon!MA28:ML28)","v":{"v":138610,"d":"138,610"}}]
["10718","Podersdorf a. See",{"$f":"SUM(Übern.Mon!C29:N29)","v":{"v":337492,"d":"337,492"}},{"$f":"SUM(Übern.Mon!O29:Z29)","v":{"v":332310,"d":"332,310"}},{"$f":"SUM(Übern.Mon!AA29:AL29)","v":{"v":390288,"d":"390,288"}},{"$f":"SUM(Übern.Mon!AM29:AX29)","v":{"v":394376,"d":"394,376"}},{"$f":"SUM(Übern.Mon!AY29:BJ29)","v":{"v":396404,"d":"396,404"}},{"$f":"SUM(Übern.Mon!BK29:BV29)","v":{"v":398042,"d":"398,042"}},{"$f":"SUM(Übern.Mon!BW29:CH29)","v":{"v":410939,"d":"410,939"}},{"$f":"SUM(Übern.Mon!CI29:CT29)","v":{"v":394937,"d":"394,937"}},{"$f":"SUM(Übern.Mon!CU29:DF29)","v":{"v":338773,"d":"338,773"}},{"$f":"SUM(Übern.Mon!DG29:DR29)","v":{"v":336768,"d":"336,768"}},{"$f":"SUM(Übern.Mon!DS29:ED29)","v":{"v":320380,"d":"320,380"}},{"$f":"SUM(Übern.Mon!EE29:EP29)","v":{"v":345697,"d":"345,697"}},{"$f":"SUM(Übern.Mon!EQ29:FB29)","v":{"v":356964,"d":"356,964"}},{"$f":"SUM(Übern.Mon!FC29:FN29)","v":{"v":389542,"d":"389,542"}},{"$f":"SUM(Übern.Mon!FO29:FZ29)","v":{"v":381034,"d":"381,034"}},{"$f":"SUM(Übern.Mon!GA29:GL29)","v":{"v":378877,"d":"378,877"}},{"$f":"SUM(Übern.Mon!GM29:GX29)","v":{"v":385194,"d":"385,194"}},{"$f":"SUM(Übern.Mon!GY29:HJ29)","v":{"v":366956,"d":"366,956"}},{"$f":"SUM(Übern.Mon!HK29:HV29)","v":{"v":356836,"d":"356,836"}},{"$f":"SUM(Übern.Mon!HW29:IH29)","v":{"v":366809,"d":"366,809"}},{"$f":"SUM(Übern.Mon!II29:IT29)","v":{"v":422177,"d":"422,177"}},{"$f":"SUM(Übern.Mon!IU29:JF29)","v":{"v":421570,"d":"421,570"}},{"$f":"SUM(Übern.Mon!JG29:JR29)","v":{"v":422304,"d":"422,304"}},{"$f":"SUM(Übern.Mon!JS29:KD29)","v":{"v":428417,"d":"428,417"}},{"$f":"SUM(Übern.Mon!KE29:KP29)","v":{"v":378898,"d":"378,898"}},{"$f":"SUM(Übern.Mon!KQ29:LB29)","v":{"v":376545,"d":"376,545"}},{"$f":"SUM(Übern.Mon!LC29:LN29)","v":{"v":380185,"d":"380,185"}},{"$f":"SUM(Übern.Mon!LO29:LZ29)","v":{"v":382356,"d":"382,356"}},{"$f":"SUM(Übern.Mon!MA29:ML29)","v":{"v":407149,"d":"407,149"}}]
["10312","Purbach a. Neusiedler See",{"$f":"SUM(Übern.Mon!C30:N30)","v":{"v":26207,"d":"26,207"}},{"$f":"SUM(Übern.Mon!O30:Z30)","v":{"v":24546,"d":"24,546"}},{"$f":"SUM(Übern.Mon!AA30:AL30)","v":{"v":27509,"d":"27,509"}},{"$f":"SUM(Übern.Mon!AM30:AX30)","v":{"v":22960,"d":"22,960"}},{"$f":"SUM(Übern.Mon!AY30:BJ30)","v":{"v":26759,"d":"26,759"}},{"$f":"SUM(Übern.Mon!BK30:BV30)","v":{"v":25065,"d":"25,065"}},{"$f":"SUM(Übern.Mon!BW30:CH30)","v":{"v":27565,"d":"27,565"}},{"$f":"SUM(Übern.Mon!CI30:CT30)","v":{"v":25638,"d":"25,638"}},{"$f":"SUM(Übern.Mon!CU30:DF30)","v":{"v":22816,"d":"22,816"}},{"$f":"SUM(Übern.Mon!DG30:DR30)","v":{"v":24874,"d":"24,874"}},{"$f":"SUM(Übern.Mon!DS30:ED30)","v":{"v":24471,"d":"24,471"}},{"$f":"SUM(Übern.Mon!EE30:EP30)","v":{"v":26190,"d":"26,190"}},{"$f":"SUM(Übern.Mon!EQ30:FB30)","v":{"v":24827,"d":"24,827"}},{"$f":"SUM(Übern.Mon!FC30:FN30)","v":{"v":27365,"d":"27,365"}},{"$f":"SUM(Übern.Mon!FO30:FZ30)","v":{"v":27193,"d":"27,193"}},{"$f":"SUM(Übern.Mon!GA30:GL30)","v":{"v":27000,"d":"27,000"}},{"$f":"SUM(Übern.Mon!GM30:GX30)","v":{"v":28048,"d":"28,048"}},{"$f":"SUM(Übern.Mon!GY30:HJ30)","v":{"v":27556,"d":"27,556"}},{"$f":"SUM(Übern.Mon!HK30:HV30)","v":{"v":27934,"d":"27,934"}},{"$f":"SUM(Übern.Mon!HW30:IH30)","v":{"v":26510,"d":"26,510"}},{"$f":"SUM(Übern.Mon!II30:IT30)","v":{"v":24733,"d":"24,733"}},{"$f":"SUM(Übern.Mon!IU30:JF30)","v":{"v":24322,"d":"24,322"}},{"$f":"SUM(Übern.Mon!JG30:JR30)","v":{"v":20497,"d":"20,497"}},{"$f":"SUM(Übern.Mon!JS30:KD30)","v":{"v":24203,"d":"24,203"}},{"$f":"SUM(Übern.Mon!KE30:KP30)","v":{"v":18886,"d":"18,886"}},{"$f":"SUM(Übern.Mon!KQ30:LB30)","v":{"v":20276,"d":"20,276"}},{"$f":"SUM(Übern.Mon!LC30:LN30)","v":{"v":24704,"d":"24,704"}},{"$f":"SUM(Übern.Mon!LO30:LZ30)","v":{"v":23877,"d":"23,877"}},{"$f":"SUM(Übern.Mon!MA30:ML30)","v":{"v":25486,"d":"25,486"}}]
["10201","Rust",{"$f":"SUM(Übern.Mon!C31:N31)","v":{"v":113692,"d":"113,692"}},{"$f":"SUM(Übern.Mon!O31:Z31)","v":{"v":110841,"d":"110,841"}},{"$f":"SUM(Übern.Mon!AA31:AL31)","v":{"v":115302,"d":"115,302"}},{"$f":"SUM(Übern.Mon!AM31:AX31)","v":{"v":113362,"d":"113,362"}},{"$f":"SUM(Übern.Mon!AY31:BJ31)","v":{"v":116402,"d":"116,402"}},{"$f":"SUM(Übern.Mon!BK31:BV31)","v":{"v":126726,"d":"126,726"}},{"$f":"SUM(Übern.Mon!BW31:CH31)","v":{"v":119801,"d":"119,801"}},{"$f":"SUM(Übern.Mon!CI31:CT31)","v":{"v":129173,"d":"129,173"}},{"$f":"SUM(Übern.Mon!CU31:DF31)","v":{"v":123698,"d":"123,698"}},{"$f":"SUM(Übern.Mon!DG31:DR31)","v":{"v":120172,"d":"120,172"}},{"$f":"SUM(Übern.Mon!DS31:ED31)","v":{"v":117783,"d":"117,783"}},{"$f":"SUM(Übern.Mon!EE31:EP31)","v":{"v":122940,"d":"122,940"}},{"$f":"SUM(Übern.Mon!EQ31:FB31)","v":{"v":123522,"d":"123,522"}},{"$f":"SUM(Übern.Mon!FC31:FN31)","v":{"v":121761,"d":"121,761"}},{"$f":"SUM(Übern.Mon!FO31:FZ31)","v":{"v":119568,"d":"119,568"}},{"$f":"SUM(Übern.Mon!GA31:GL31)","v":{"v":150165,"d":"150,165"}},{"$f":"SUM(Übern.Mon!GM31:GX31)","v":{"v":145010,"d":"145,010"}},{"$f":"SUM(Übern.Mon!GY31:HJ31)","v":{"v":145742,"d":"145,742"}},{"$f":"SUM(Übern.Mon!HK31:HV31)","v":{"v":150404,"d":"150,404"}},{"$f":"SUM(Übern.Mon!HW31:IH31)","v":{"v":148482,"d":"148,482"}},{"$f":"SUM(Übern.Mon!II31:IT31)","v":{"v":149471,"d":"149,471"}},{"$f":"SUM(Übern.Mon!IU31:JF31)","v":{"v":156048,"d":"156,048"}},{"$f":"SUM(Übern.Mon!JG31:JR31)","v":{"v":167221,"d":"167,221"}},{"$f":"SUM(Übern.Mon!JS31:KD31)","v":{"v":170883,"d":"170,883"}},{"$f":"SUM(Übern.Mon!KE31:KP31)","v":{"v":143281,"d":"143,281"}},{"$f":"SUM(Übern.Mon!KQ31:LB31)","v":{"v":156844,"d":"156,844"}},{"$f":"SUM(Übern.Mon!LC31:LN31)","v":{"v":161211,"d":"161,211"}},{"$f":"SUM(Übern.Mon!LO31:LZ31)","v":{"v":159813,"d":"159,813"}},{"$f":"SUM(Übern.Mon!MA31:ML31)","v":{"v":159798,"d":"159,798"}}]
["10719","Sankt Andrä a. Zicksee",{"$f":"SUM(Übern.Mon!C32:N32)","v":{"v":91037,"d":"91,037"}},{"$f":"SUM(Übern.Mon!O32:Z32)","v":{"v":86495,"d":"86,495"}},{"$f":"SUM(Übern.Mon!AA32:AL32)","v":{"v":90454,"d":"90,454"}},{"$f":"SUM(Übern.Mon!AM32:AX32)","v":{"v":93141,"d":"93,141"}},{"$f":"SUM(Übern.Mon!AY32:BJ32)","v":{"v":94887,"d":"94,887"}},{"$f":"SUM(Übern.Mon!BK32:BV32)","v":{"v":86955,"d":"86,955"}},{"$f":"SUM(Übern.Mon!BW32:CH32)","v":{"v":84714,"d":"84,714"}},{"$f":"SUM(Übern.Mon!CI32:CT32)","v":{"v":78049,"d":"78,049"}},{"$f":"SUM(Übern.Mon!CU32:DF32)","v":{"v":79629,"d":"79,629"}},{"$f":"SUM(Übern.Mon!DG32:DR32)","v":{"v":73852,"d":"73,852"}},{"$f":"SUM(Übern.Mon!DS32:ED32)","v":{"v":70250,"d":"70,250"}},{"$f":"SUM(Übern.Mon!EE32:EP32)","v":{"v":73185,"d":"73,185"}},{"$f":"SUM(Übern.Mon!EQ32:FB32)","v":{"v":73913,"d":"73,913"}},{"$f":"SUM(Übern.Mon!FC32:FN32)","v":{"v":74304,"d":"74,304"}},{"$f":"SUM(Übern.Mon!FO32:FZ32)","v":{"v":64499,"d":"64,499"}},{"$f":"SUM(Übern.Mon!GA32:GL32)","v":{"v":68045,"d":"68,045"}},{"$f":"SUM(Übern.Mon!GM32:GX32)","v":{"v":62959,"d":"62,959"}},{"$f":"SUM(Übern.Mon!GY32:HJ32)","v":{"v":64411,"d":"64,411"}},{"$f":"SUM(Übern.Mon!HK32:HV32)","v":{"v":62191,"d":"62,191"}},{"$f":"SUM(Übern.Mon!HW32:IH32)","v":{"v":63103,"d":"63,103"}},{"$f":"SUM(Übern.Mon!II32:IT32)","v":{"v":72046,"d":"72,046"}},{"$f":"SUM(Übern.Mon!IU32:JF32)","v":{"v":77568,"d":"77,568"}},{"$f":"SUM(Übern.Mon!JG32:JR32)","v":{"v":74919,"d":"74,919"}},{"$f":"SUM(Übern.Mon!JS32:KD32)","v":{"v":73006,"d":"73,006"}},{"$f":"SUM(Übern.Mon!KE32:KP32)","v":{"v":54860,"d":"54,860"}},{"$f":"SUM(Übern.Mon!KQ32:LB32)","v":{"v":62818,"d":"62,818"}},{"$f":"SUM(Übern.Mon!LC32:LN32)","v":{"v":59115,"d":"59,115"}},{"$f":"SUM(Übern.Mon!LO32:LZ32)","v":{"v":59020,"d":"59,020"}},{"$f":"SUM(Übern.Mon!MA32:ML32)","v":{"v":68279,"d":"68,279"}}]
["10313","Sankt Margarethen i. Bgld.",{"$f":"SUM(Übern.Mon!C33:N33)","v":{"v":6033,"d":"6,033"}},{"$f":"SUM(Übern.Mon!O33:Z33)","v":{"v":4697,"d":"4,697"}},{"$f":"SUM(Übern.Mon!AA33:AL33)","v":{"v":4954,"d":"4,954"}},{"$f":"SUM(Übern.Mon!AM33:AX33)","v":{"v":4535,"d":"4,535"}},{"$f":"SUM(Übern.Mon!AY33:BJ33)","v":{"v":5887,"d":"5,887"}},{"$f":"SUM(Übern.Mon!BK33:BV33)","v":{"v":6990,"d":"6,990"}},{"$f":"SUM(Übern.Mon!BW33:CH33)","v":{"v":6370,"d":"6,370"}},{"$f":"SUM(Übern.Mon!CI33:CT33)","v":{"v":5715,"d":"5,715"}},{"$f":"SUM(Übern.Mon!CU33:DF33)","v":{"v":5491,"d":"5,491"}},{"$f":"SUM(Übern.Mon!DG33:DR33)","v":{"v":6369,"d":"6,369"}},{"$f":"SUM(Übern.Mon!DS33:ED33)","v":{"v":5042,"d":"5,042"}},{"$f":"SUM(Übern.Mon!EE33:EP33)","v":{"v":6955,"d":"6,955"}},{"$f":"SUM(Übern.Mon!EQ33:FB33)","v":{"v":8110,"d":"8,110"}},{"$f":"SUM(Übern.Mon!FC33:FN33)","v":{"v":8935,"d":"8,935"}},{"$f":"SUM(Übern.Mon!FO33:FZ33)","v":{"v":9055,"d":"9,055"}},{"$f":"SUM(Übern.Mon!GA33:GL33)","v":{"v":9019,"d":"9,019"}},{"$f":"SUM(Übern.Mon!GM33:GX33)","v":{"v":6930,"d":"6,930"}},{"$f":"SUM(Übern.Mon!GY33:HJ33)","v":{"v":5213,"d":"5,213"}},{"$f":"SUM(Übern.Mon!HK33:HV33)","v":{"v":5245,"d":"5,245"}},{"$f":"SUM(Übern.Mon!HW33:IH33)","v":{"v":5495,"d":"5,495"}},{"$f":"SUM(Übern.Mon!II33:IT33)","v":{"v":4979,"d":"4,979"}},{"$f":"SUM(Übern.Mon!IU33:JF33)","v":{"v":5048,"d":"5,048"}},{"$f":"SUM(Übern.Mon!JG33:JR33)","v":{"v":4446,"d":"4,446"}},{"$f":"SUM(Übern.Mon!JS33:KD33)","v":{"v":4478,"d":"4,478"}},{"$f":"SUM(Übern.Mon!KE33:KP33)","v":{"v":2610,"d":"2,610"}},{"$f":"SUM(Übern.Mon!KQ33:LB33)","v":{"v":4118,"d":"4,118"}},{"$f":"SUM(Übern.Mon!LC33:LN33)","v":{"v":3552,"d":"3,552"}},{"$f":"SUM(Übern.Mon!LO33:LZ33)","v":{"v":2910,"d":"2,910"}},{"$f":"SUM(Übern.Mon!MA33:ML33)","v":{"v":2615,"d":"2,615"}}]
["10314","Schützen a. Geb. (11/23)",{"$nulls":27},{"$f":"SUM(Übern.Mon!LO34:LZ34)","v":40},{"$f":"SUM(Übern.Mon!MA34:ML34)","v":{"v":1306,"d":"1,306"}}]
[10315,"Siegendorf (bis 4/99)",{"$f":"SUM(Übern.Mon!C35:N35)","v":{"v":1059,"d":"1,059"}},{"$f":"SUM(Übern.Mon!O35:Z35)","v":932},{"$f":"SUM(Übern.Mon!AA35:AL35)","v":{"v":1344,"d":"1,344"}},{"$f":"SUM(Übern.Mon!AM35:AX35)","v":21}]
["10720","Tadten (ab 11/23)",{"$nulls":27},{"$f":"SUM(Übern.Mon!LO36:LZ36)","v":53},{"$f":"SUM(Übern.Mon!MA36:ML36)","v":{"v":1214,"d":"1,214"}}]
["10317","Trausdorf a. d. Wulka",{"$f":"SUM(Übern.Mon!C37:N37)","v":{"v":6994,"d":"6,994"}},{"$f":"SUM(Übern.Mon!O37:Z37)","v":{"v":4520,"d":"4,520"}},{"$f":"SUM(Übern.Mon!AA37:AL37)","v":{"v":4515,"d":"4,515"}},{"$f":"SUM(Übern.Mon!AM37:AX37)","v":{"v":4642,"d":"4,642"}},{"$f":"SUM(Übern.Mon!AY37:BJ37)","v":{"v":4755,"d":"4,755"}},{"$f":"SUM(Übern.Mon!BK37:BV37)","v":{"v":5225,"d":"5,225"}},{"$f":"SUM(Übern.Mon!BW37:CH37)","v":{"v":4699,"d":"4,699"}},{"$f":"SUM(Übern.Mon!CI37:CT37)","v":{"v":4101,"d":"4,101"}},{"$f":"SUM(Übern.Mon!CU37:DF37)","v":{"v":4458,"d":"4,458"}},{"$f":"SUM(Übern.Mon!DG37:DR37)","v":{"v":4976,"d":"4,976"}},{"$f":"SUM(Übern.Mon!DS37:ED37)","v":{"v":3798,"d":"3,798"}},{"$f":"SUM(Übern.Mon!EE37:EP37)","v":{"v":5376,"d":"5,376"}},{"$f":"SUM(Übern.Mon!EQ37:FB37)","v":{"v":5149,"d":"5,149"}},{"$f":"SUM(Übern.Mon!FC37:FN37)","v":{"v":4135,"d":"4,135"}},{"$f":"SUM(Übern.Mon!FO37:FZ37)","v":{"v":3736,"d":"3,736"}},{"$f":"SUM(Übern.Mon!GA37:GL37)","v":{"v":3507,"d":"3,507"}},{"$f":"SUM(Übern.Mon!GM37:GX37)","v":{"v":3197,"d":"3,197"}},{"$f":"SUM(Übern.Mon!GY37:HJ37)","v":{"v":2451,"d":"2,451"}},{"$f":"SUM(Übern.Mon!HK37:HV37)","v":{"v":2620,"d":"2,620"}},{"$f":"SUM(Übern.Mon!HW37:IH37)","v":{"v":1955,"d":"1,955"}},{"$f":"SUM(Übern.Mon!II37:IT37)","v":{"v":2394,"d":"2,394"}},{"$f":"SUM(Übern.Mon!IU37:JF37)","v":{"v":2293,"d":"2,293"}},{"$f":"SUM(Übern.Mon!JG37:JR37)","v":{"v":1779,"d":"1,779"}},{"$f":"SUM(Übern.Mon!JS37:KD37)","v":{"v":2817,"d":"2,817"}},{"$f":"SUM(Übern.Mon!KE37:KP37)","v":{"v":1916,"d":"1,916"}},{"$f":"SUM(Übern.Mon!KQ37:LB37)","v":{"v":2870,"d":"2,870"}},{"$f":"SUM(Übern.Mon!LC37:LN37)","v":{"v":3090,"d":"3,090"}},{"$f":"SUM(Übern.Mon!LO37:LZ37)","v":{"v":3822,"d":"3,822"}},{"$f":"SUM(Übern.Mon!MA37:ML37)","v":{"v":4473,"d":"4,473"}}]
["10721","Wallern i. Bgld.",{"$f":"SUM(Übern.Mon!C38:N38)","v":{"v":4788,"d":"4,788"}},{"$f":"SUM(Übern.Mon!O38:Z38)","v":{"v":3882,"d":"3,882"}},{"$f":"SUM(Übern.Mon!AA38:AL38)","v":{"v":3202,"d":"3,202"}},{"$f":"SUM(Übern.Mon!AM38:AX38)","v":{"v":2122,"d":"2,122"}},{"$f":"SUM(Übern.Mon!AY38:BJ38)","v":{"v":3290,"d":"3,290"}},{"$f":"SUM(Übern.Mon!BK38:BV38)","v":{"v":3719,"d":"3,719"}},{"$f":"SUM(Übern.Mon!BW38:CH38)","v":{"v":2461,"d":"2,461"}},{"$f":"SUM(Übern.Mon!CI38:CT38)","v":{"v":4095,"d":"4,095"}},{"$f":"SUM(Übern.Mon!CU38:DF38)","v":{"v":4318,"d":"4,318"}},{"$f":"SUM(Übern.Mon!DG38:DR38)","v":{"v":5236,"d":"5,236"}},{"$f":"SUM(Übern.Mon!DS38:ED38)","v":{"v":5187,"d":"5,187"}},{"$f":"SUM(Übern.Mon!EE38:EP38)","v":{"v":4518,"d":"4,518"}},{"$f":"SUM(Übern.Mon!EQ38:FB38)","v":{"v":4493,"d":"4,493"}},{"$f":"SUM(Übern.Mon!FC38:FN38)","v":{"v":4886,"d":"4,886"}},{"$f":"SUM(Übern.Mon!FO38:FZ38)","v":{"v":4348,"d":"4,348"}},{"$f":"SUM(Übern.Mon!GA38:GL38)","v":{"v":4740,"d":"4,740"}},{"$f":"SUM(Übern.Mon!GM38:GX38)","v":{"v":6998,"d":"6,998"}},{"$f":"SUM(Übern.Mon!GY38:HJ38)","v":{"v":5371,"d":"5,371"}},{"$f":"SUM(Übern.Mon!HK38:HV38)","v":{"v":5364,"d":"5,364"}},{"$f":"SUM(Übern.Mon!HW38:IH38)","v":{"v":5096,"d":"5,096"}},{"$f":"SUM(Übern.Mon!II38:IT38)","v":{"v":7202,"d":"7,202"}},{"$f":"SUM(Übern.Mon!IU38:JF38)","v":{"v":5662,"d":"5,662"}},{"$f":"SUM(Übern.Mon!JG38:JR38)","v":{"v":4947,"d":"4,947"}},{"$f":"SUM(Übern.Mon!JS38:KD38)","v":{"v":5596,"d":"5,596"}},{"$f":"SUM(Übern.Mon!KE38:KP38)","v":{"v":4232,"d":"4,232"}},{"$f":"SUM(Übern.Mon!KQ38:LB38)","v":{"v":4886,"d":"4,886"}},{"$f":"SUM(Übern.Mon!LC38:LN38)","v":{"v":5064,"d":"5,064"}},{"$f":"SUM(Übern.Mon!LO38:LZ38)","v":{"v":4050,"d":"4,050"}},{"$f":"SUM(Übern.Mon!MA38:ML38)","v":{"v":3950,"d":"3,950"}}]
["10722","Weiden a. See",{"$f":"SUM(Übern.Mon!C39:N39)","v":{"v":54758,"d":"54,758"}},{"$f":"SUM(Übern.Mon!O39:Z39)","v":{"v":56598,"d":"56,598"}},{"$f":"SUM(Übern.Mon!AA39:AL39)","v":{"v":59105,"d":"59,105"}},{"$f":"SUM(Übern.Mon!AM39:AX39)","v":{"v":58035,"d":"58,035"}},{"$f":"SUM(Übern.Mon!AY39:BJ39)","v":{"v":61322,"d":"61,322"}},{"$f":"SUM(Übern.Mon!BK39:BV39)","v":{"v":59634,"d":"59,634"}},{"$f":"SUM(Übern.Mon!BW39:CH39)","v":{"v":61114,"d":"61,114"}},{"$f":"SUM(Übern.Mon!CI39:CT39)","v":{"v":57339,"d":"57,339"}},{"$f":"SUM(Übern.Mon!CU39:DF39)","v":{"v":50463,"d":"50,463"}},{"$f":"SUM(Übern.Mon!DG39:DR39)","v":{"v":47594,"d":"47,594"}},{"$f":"SUM(Übern.Mon!DS39:ED39)","v":{"v":42651,"d":"42,651"}},{"$f":"SUM(Übern.Mon!EE39:EP39)","v":{"v":37022,"d":"37,022"}},{"$f":"SUM(Übern.Mon!EQ39:FB39)","v":{"v":40311,"d":"40,311"}},{"$f":"SUM(Übern.Mon!FC39:FN39)","v":{"v":40419,"d":"40,419"}},{"$f":"SUM(Übern.Mon!FO39:FZ39)","v":{"v":41953,"d":"41,953"}},{"$f":"SUM(Übern.Mon!GA39:GL39)","v":{"v":43301,"d":"43,301"}},{"$f":"SUM(Übern.Mon!GM39:GX39)","v":{"v":45397,"d":"45,397"}},{"$f":"SUM(Übern.Mon!GY39:HJ39)","v":{"v":43995,"d":"43,995"}},{"$f":"SUM(Übern.Mon!HK39:HV39)","v":{"v":36884,"d":"36,884"}},{"$f":"SUM(Übern.Mon!HW39:IH39)","v":{"v":35795,"d":"35,795"}},{"$f":"SUM(Übern.Mon!II39:IT39)","v":{"v":36490,"d":"36,490"}},{"$f":"SUM(Übern.Mon!IU39:JF39)","v":{"v":34147,"d":"34,147"}},{"$f":"SUM(Übern.Mon!JG39:JR39)","v":{"v":33428,"d":"33,428"}},{"$f":"SUM(Übern.Mon!JS39:KD39)","v":{"v":20501,"d":"20,501"}},{"$f":"SUM(Übern.Mon!KE39:KP39)","v":{"v":16581,"d":"16,581"}},{"$f":"SUM(Übern.Mon!KQ39:LB39)","v":{"v":17103,"d":"17,103"}},{"$f":"SUM(Übern.Mon!LC39:LN39)","v":{"v":14411,"d":"14,411"}},{"$f":"SUM(Übern.Mon!LO39:LZ39)","v":{"v":30653,"d":"30,653"}},{"$f":"SUM(Übern.Mon!MA39:ML39)","v":{"v":38236,"d":"38,236"}}]
[10318,"Wimpassing a. d. Leitha (bis 4/99)",{"$f":"SUM(Übern.Mon!C40:N40)","v":{"v":1178,"d":"1,178"}},{"$f":"SUM(Übern.Mon!O40:Z40)","v":830},{"$f":"SUM(Übern.Mon!AA40:AL40)","v":{"v":1033,"d":"1,033"}},{"$f":"SUM(Übern.Mon!AM40:AX40)","v":553}]
[10723,"Winden a. See (ab 11/06)",{"$nulls":10},{"$f":"SUM(Übern.Mon!DS41:ED41)","v":24},{"$f":"SUM(Übern.Mon!EE41:EP41)","v":{"v":1920,"d":"1,920"}},{"$f":"SUM(Übern.Mon!EQ41:FB41)","v":{"v":2448,"d":"2,448"}},{"$f":"SUM(Übern.Mon!FC41:FN41)","v":{"v":2618,"d":"2,618"}},{"$f":"SUM(Übern.Mon!FO41:FZ41)","v":{"v":1912,"d":"1,912"}},{"$f":"SUM(Übern.Mon!GA41:GL41)","v":{"v":2044,"d":"2,044"}},{"$f":"SUM(Übern.Mon!GM41:GX41)","v":{"v":2002,"d":"2,002"}},{"$f":"SUM(Übern.Mon!GY41:HJ41)","v":{"v":1687,"d":"1,687"}},{"$f":"SUM(Übern.Mon!HK41:HV41)","v":{"v":1587,"d":"1,587"}},{"$f":"SUM(Übern.Mon!HW41:IH41)","v":{"v":1719,"d":"1,719"}},{"$f":"SUM(Übern.Mon!II41:IT41)","v":{"v":2242,"d":"2,242"}},{"$f":"SUM(Übern.Mon!IU41:JF41)","v":{"v":2360,"d":"2,360"}},{"$f":"SUM(Übern.Mon!JG41:JR41)","v":{"v":2474,"d":"2,474"}},{"$f":"SUM(Übern.Mon!JS41:KD41)","v":{"v":2178,"d":"2,178"}},{"$f":"SUM(Übern.Mon!KE41:KP41)","v":{"v":2195,"d":"2,195"}},{"$f":"SUM(Übern.Mon!KQ41:LB41)","v":{"v":2778,"d":"2,778"}},{"$f":"SUM(Übern.Mon!LC41:LN41)","v":{"v":2417,"d":"2,417"}},{"$f":"SUM(Übern.Mon!LO41:LZ41)","v":{"v":2705,"d":"2,705"}},{"$f":"SUM(Übern.Mon!MA41:ML41)","v":{"v":3258,"d":"3,258"}}]
[10724,"Zurndorf (ab 11/06)",{"$nulls":10},{"$f":"SUM(Übern.Mon!DS42:ED42)","v":490},{"$f":"SUM(Übern.Mon!EE42:EP42)","v":{"v":3083,"d":"3,083"}},{"$f":"SUM(Übern.Mon!EQ42:FB42)","v":{"v":3068,"d":"3,068"}},{"$f":"SUM(Übern.Mon!FC42:FN42)","v":{"v":2881,"d":"2,881"}},{"$f":"SUM(Übern.Mon!FO42:FZ42)","v":{"v":3390,"d":"3,390"}},{"$f":"SUM(Übern.Mon!GA42:GL42)","v":{"v":3284,"d":"3,284"}},{"$f":"SUM(Übern.Mon!GM42:GX42)","v":{"v":3188,"d":"3,188"}},{"$f":"SUM(Übern.Mon!GY42:HJ42)","v":{"v":2566,"d":"2,566"}},{"$f":"SUM(Übern.Mon!HK42:HV42)","v":{"v":3765,"d":"3,765"}},{"$f":"SUM(Übern.Mon!HW42:IH42)","v":{"v":3818,"d":"3,818"}},{"$f":"SUM(Übern.Mon!II42:IT42)","v":{"v":5407,"d":"5,407"}},{"$f":"SUM(Übern.Mon!IU42:JF42)","v":{"v":5312,"d":"5,312"}},{"$f":"SUM(Übern.Mon!JG42:JR42)","v":{"v":5571,"d":"5,571"}},{"$f":"SUM(Übern.Mon!JS42:KD42)","v":{"v":5963,"d":"5,963"}},{"$f":"SUM(Übern.Mon!KE42:KP42)","v":{"v":4265,"d":"4,265"}},{"$f":"SUM(Übern.Mon!KQ42:LB42)","v":{"v":5568,"d":"5,568"}},{"$f":"SUM(Übern.Mon!LC42:LN42)","v":{"v":7597,"d":"7,597"}},{"$f":"SUM(Übern.Mon!LO42:LZ42)","v":{"v":6488,"d":"6,488"}},{"$f":"SUM(Übern.Mon!MA42:ML42)","v":{"v":6019,"d":"6,019"}}]

{"sheet":"Übern.Mon","index":1,"n_rows":42,"n_cols":350,"rows_kept":42}
[null,"Übernachtungen in den Berichtsgemeinden nach Monaten"]
[]
["GKZ","Region","1996",{"$nulls":11},"1997",{"$nulls":11},"1998",{"$nulls":11},1999,{"$nulls":11},2000,{"$nulls":11},2001,{"$nulls":11},2002,{"$nulls":11},2003,{"$nulls":11},2004,{"$nulls":11},2005,{"$nulls":11},2006,{"$nulls":11},2007,{"$nulls":11},2008,{"$nulls":11},2009,{"$nulls":11},2010,{"$nulls":11},2011,{"$nulls":11},2012,{"$nulls":11},2013,{"$nulls":11},2014,{"$nulls":11},2015,{"$nulls":11},2016,{"$nulls":11},2017,{"$nulls":11},2018,{"$nulls":11},2019,{"$nulls":11},2020,{"$nulls":11},2021,{"$nulls":11},2022,{"$nulls":11},2023,{"$nulls":11},2024]
[null,"Gemeinde",1,2,3,4,5,6,7,8,9,10,11,12,1,2,3,4,5,6,7,8,9,10,11,12,1,2,3,4,5,6,7,8,9,10,11,12,1,2,3,4,5,6,7,8,9,10,11,12,1,2,3,4,5,6,7,8,9,10,11,12,1,2,3,4,5,6,7,8,9,10,11,12,1,2,3,4,5,6,7,8,9,10,11,12,1,2,3,4,5,6,7,8,9,10,11,12,1,2,3,4,5,6,7,8,9,10,11,12,1,2,3,4,5,6,7,8,9,10,11,12,1,2,3,4,5,6,7,8,9,10,11,12,1,2,3,4,5,6,7,8,9,10,11,12,1,2,3,4,5,6,7,8,9,10,11,12,1,2,3,4,5,6,7,8,9,10,11,12,1,2,3,4,5,6,7,8,9,10,11,12,1,2,3,4,5,6,7,8,9,10,11,12,1,2,3,4,5,6,7,8,9,10,11,12,1,2,3,4,5,6,7,8,9,10,11,12,1,2,3,4,5,6,7,8,9,10,11,12,1,2,3,4,5,6,7,8,9,10,11,12,1,2,3,4,5,6,7,8,9,10,11,12,1,2,3,4,5,6,7,8,9,10,11,12,1,2,3,4,5,6,7,8,9,10,11,12,1,2,3,4,5,6,7,8,9,10,11,12,1,2,3,4,5,6,7,8,9,10,11,12,1,2,3,4,5,6,7,8,9,10,11,12,1,2,3,4,5,6,7,8,9,10,11,12,1,2,3,4,5,6,7,8,9,10,11,12,1,2,3,4,5,6,7,8,9,10,11,12]
[]
[null,"Neusiedler See",{"v":12697,"d":"12,697"},{"v":13663,"d":"13,663"},{"v":19004,"d":"19,004"},{"v":44019,"d":"44,019"},{"v":143151,"d":"143,151"},{"v":177177,"d":"177,177"},{"v":261762,"d":"261,762"},{"v":361518,"d":"361,518"},{"v":127626,"d":"127,626"},{"v":61675,"d":"61,675"},{"v":18165,"d":"18,165"},{"v":10166,"d":"10,166"},{"v":12673,"d":"12,673"},{"v":11755,"d":"11,755"},{"v":20571,"d":"20,571"},{"v":38763,"d":"38,763"},{"v":160309,"d":"160,309"},{"$f":"139554-384","v":{"v":139170,"d":"139,170"}},{"v":234276,"d":"234,276"},{"v":355890,"d":"355,890"},{"v":135814,"d":"135,814"},{"v":54856,"d":"54,856"},{"v":19721,"d":"19,721"},{"v":11110,"d":"11,110"},{"v":14140,"d":"14,140"},{"v":14565,"d":"14,565"},{"v":18740,"d":"18,740"},{"v":50595,"d":"50,595"},{"v":162784,"d":"162,784"},{"v":205664,"d":"205,664"},{"v":248279,"d":"248,279"},{"v":370846,"d":"370,846"},{"v":131641,"d":"131,641"},{"v":57040,"d":"57,040"},{"v":19894,"d":"19,894"},{"v":10200,"d":"10,200"},{"v":14687,"d":"14,687"},{"v":14566,"d":"14,566"},{"v":21746,"d":"21,746"},{"v":49579,"d":"49,579"},{"v":160266,"d":"160,266"},{"v":195277,"d":"195,277"},{"v":274798,"d":"274,798"},{"v":376807,"d":"376,807"},{"v":138713,"d":"138,713"},{"v":61253,"d":"61,253"},{"v":20549,"d":"20,549"},{"v":15562,"d":"15,562"},{"v":16391,"d":"16,391"},{"v":14855,"d":"14,855"},{"v":20708,"d":"20,708"},{"v":70765,"d":"70,765"},{"v":139794,"d":"139,794"},{"v":218897,"d":"218,897"},{"$f":"SUM(BE7:BE40)","v":{"v":274852,"d":"274,852"}},{"v":384433,"d":"384,433"},{"v":139337,"d":"139,337"},{"v":60646,"d":"60,646"},{"v":24805,"d":"24,805"},{"v":13932,"d":"13,932"},{"v":17023,"d":"17,023"},{"v":15896,"d":"15,896"},{"v":23798,"d":"23,798"},{"v":75971,"d":"75,971"},{"v":149551,"d":"149,551"},{"v":207587,"d":"207,587"},{"$f":"291044+2390","v":{"v":293434,"d":"293,434"}},{"$f":"384695+1004","v":{"v":385699,"d":"385,699"}},{"v":127926,"d":"127,926"},{"v":68415,"d":"68,415"},{"v":30660,"d":"30,660"},{"v":11832,"d":"11,832"},{"v":17862,"d":"17,862"},{"v":16511,"d":"16,511"},{"v":29039,"d":"29,039"},{"v":60063,"d":"60,063"},{"v":202764,"d":"202,764"},{"v":177511,"d":"177,511"},{"v":288266,"d":"288,266"},{"v":369712,"d":"369,712"},{"v":145931,"d":"145,931"},{"v":62863,"d":"62,863"},{"v":30897,"d":"30,897"},{"v":12225,"d":"12,225"},{"v":15817,"d":"15,817"},{"v":15121,"d":"15,121"},{"v":20844,"d":"20,844"},{"v":71366,"d":"71,366"},{"v":166106,"d":"166,106"},{"v":214525,"d":"214,525"},{"v":277339,"d":"277,339"},{"v":354446,"d":"354,446"},{"v":141057,"d":"141,057"},{"v":59590,"d":"59,590"},{"v":28175,"d":"28,175"},{"$f":"14627+2372","v":{"v":16999,"d":"16,999"}},{"v":16513,"d":"16,513"},{"v":15213,"d":"15,213"},{"v":25746,"d":"25,746"},{"v":65236,"d":"65,236"},{"v":153820,"d":"153,820"},{"v":164492,"d":"164,492"},{"v":251578,"d":"251,578"},{"v":349425,"d":"349,425"},{"v":140369,"d":"140,369"},{"v":57450,"d":"57,450"},{"v":25036,"d":"25,036"},{"v":14262,"d":"14,262"},{"v":16866,"d":"16,866"},{"v":15074,"d":"15,074"},{"v":28169,"d":"28,169"},{"$f":"54862+238","v":{"v":55100,"d":"55,100"}},{"$f":"173636+499","v":{"v":174135,"d":"174,135"}},{"v":157312,"d":"157,312"},{"v":256467,"d":"256,467"},{"v":332882,"d":"332,882"},{"$f":"141868+251","v":{"v":142119,"d":"142,119"}},{"v":62626,"d":"62,626"},{"v":27660,"d":"27,660"},{"v":15286,"d":"15,286"},{"v":17861,"d":"17,861"},{"v":16551,"d":"16,551"},{"v":24603,"d":"24,603"},{"v":65669,"d":"65,669"},{"v":140773,"d":"140,773"},{"v":169768,"d":"169,768"},{"v":240376,"d":"240,376"},{"v":290175,"d":"290,175"},{"v":144553,"d":"144,553"},{"v":65419,"d":"65,419"},{"v":31517,"d":"31,517"},{"v":17160,"d":"17,160"},{"v":18053,"d":"18,053"},{"$f":"18037+103","v":{"v":18140,"d":"18,140"}},{"v":24138,"d":"24,138"},{"v":78708,"d":"78,708"},{"v":142073,"d":"142,073"},{"v":166318,"d":"166,318"},{"v":255124,"d":"255,124"},{"v":319568,"d":"319,568"},{"v":137166,"d":"137,166"},{"v":66873,"d":"66,873"},{"$f":"31555+843","v":{"v":32398,"d":"32,398"}},{"v":15001,"d":"15,001"},{"v":20833,"d":"20,833"},{"v":18786,"d":"18,786"},{"$f":"27643+70","v":{"v":27713,"d":"27,713"}},{"v":58328,"d":"58,328"},{"$f":"180483+1017","v":{"v":181500,"d":"181,500"}},{"v":153874,"d":"153,874"},{"$f":"257704+1210","v":{"v":258914,"d":"258,914"}},{"$f":"328335+929+2034","v":{"v":331298,"d":"331,298"}},{"v":137964,"d":"137,964"},{"v":65545,"d":"65,545"},{"v":33651,"d":"33,651"},{"v":19932,"d":"19,932"},{"v":22086,"d":"22,086"},{"$f":"18556+11","v":{"v":18567,"d":"18,567"}},{"v":26325,"d":"26,325"},{"v":73755,"d":"73,755"},{"$f":"164707+496","v":{"v":165203,"d":"165,203"}},{"v":176250,"d":"176,250"},{"v":271959,"d":"271,959"},{"v":332332,"d":"332,332"},{"v":151194,"d":"151,194"},{"v":71551,"d":"71,551"},{"v":34299,"d":"34,299"},{"v":25874,"d":"25,874"},{"v":26486,"d":"26,486"},{"v":23977,"d":"23,977"},{"v":33531,"d":"33,531"},{"v":76960,"d":"76,960"},{"$f":"156852+464","v":{"v":157316,"d":"157,316"}},{"v":174541,"d":"174,541"},{"$f":"264746+354","v":{"v":265100,"d":"265,100"}},{"$f":"341528+59","v":{"v":341587,"d":"341,587"}},{"v":149677,"d":"149,677"},{"v":74640,"d":"74,640"},{"v":41256,"d":"41,256"},{"v":25371,"d":"25,371"},{"v":26589,"d":"26,589"},{"v":24897,"d":"24,897"},{"v":33250,"d":"33,250"},{"v":87845,"d":"87,845"},{"v":142647,"d":"142,647"},{"v":212674,"d":"212,674"},{"$f":"261503+43","v":{"v":261546,"d":"261,546"}},{"v":340845,"d":"340,845"},{"v":157186,"d":"157,186"},{"$f":"76013+633","v":{"v":76646,"d":"76,646"}},{"v":45383,"d":"45,383"},{"v":29895,"d":"29,895"},{"v":28720,"d":"28,720"},{"v":24146,"d":"24,146"},{"v":32564,"d":"32,564"},{"v":96916,"d":"96,916"},{"v":164072,"d":"164,072"},{"v":185901,"d":"185,901"},{"$f":"259456+863","v":{"v":260319,"d":"260,319"}},{"$f":"343188+971","v":{"v":344159,"d":"344,159"}},{"v":162623,"d":"162,623"},{"v":77330,"d":"77,330"},{"v":51400,"d":"51,400"},{"v":27877,"d":"27,877"},{"v":33042,"d":"33,042"},{"v":28867,"d":"28,867"},{"v":42745,"d":"42,745"},{"v":81649,"d":"81,649"},{"v":174287,"d":"174,287"},{"v":166549,"d":"166,549"},{"v":268885,"d":"268,885"},{"v":323873,"d":"323,873"},{"v":148094,"d":"148,094"},{"v":77411,"d":"77,411"},{"v":53309,"d":"53,309"},{"$f":"31041+249","v":{"v":31290,"d":"31,290"}},{"v":34918,"d":"34,918"},{"v":32840,"d":"32,840"},{"v":39149,"d":"39,149"},{"$f":"93383+16","v":{"v":93399,"d":"93,399"}},{"v":161016,"d":"161,016"},{"$f":"197613+89","v":{"v":197702,"d":"197,702"}},{"v":259226,"d":"259,226"},{"v":312351,"d":"312,351"},{"v":140030,"d":"140,030"},{"v":76190,"d":"76,190"},{"v":49675,"d":"49,675"},{"v":33832,"d":"33,832"},{"$f":"34529+19","v":{"v":34548,"d":"34,548"}},{"$f":"32390+21","v":{"v":32411,"d":"32,411"}},{"v":41201,"d":"41,201"},{"v":89126,"d":"89,126"},{"v":162482,"d":"162,482"},{"v":186324,"d":"186,324"},{"v":265545,"d":"265,545"},{"$f":"307469+99","v":{"v":307568,"d":"307,568"}},{"v":154337,"d":"154,337"},{"v":73192,"d":"73,192"},{"v":53505,"d":"53,505"},{"v":35719,"d":"35,719"},{"v":37872,"d":"37,872"},{"v":33742,"d":"33,742"},{"v":50848,"d":"50,848"},{"$f":"91257+243","v":{"v":91500,"d":"91,500"}},{"v":194025,"d":"194,025"},{"v":184901,"d":"184,901"},{"$f":"283068+8","v":{"v":283076,"d":"283,076"}},{"v":321160,"d":"321,160"},{"v":170296,"d":"170,296"},{"v":80890,"d":"80,890"},{"v":56294,"d":"56,294"},{"v":40069,"d":"40,069"},{"$f":"38813+1+9","v":{"v":38823,"d":"38,823"}},{"v":35175,"d":"35,175"},{"$f":"46161+13+44","v":{"v":46218,"d":"46,218"}},{"v":109223,"d":"109,223"},{"$f":"162426+4","v":{"v":162430,"d":"162,430"}},{"v":221809,"d":"221,809"},{"$f":"284515+31","v":{"v":284546,"d":"284,546"}},{"v":324360,"d":"324,360"},{"$f":"173992+29","v":{"v":174021,"d":"174,021"}},{"v":81304,"d":"81,304"},{"v":59606,"d":"59,606"},{"v":39599,"d":"39,599"},{"v":38353,"d":"38,353"},{"v":34326,"d":"34,326"},{"v":45973,"d":"45,973"},{"v":110361,"d":"110,361"},{"v":187070,"d":"187,070"},{"v":194929,"d":"194,929"},{"v":277518,"d":"277,518"},{"v":310599,"d":"310,599"},{"v":172516,"d":"172,516"},{"v":85706,"d":"85,706"},{"v":61579,"d":"61,579"},{"$f":"39181+4","v":{"v":39185,"d":"39,185"}},{"v":40755,"d":"40,755"},{"v":31476,"d":"31,476"},{"v":48171,"d":"48,171"},{"$f":"121128+4","v":{"v":121132,"d":"121,132"}},{"$f":"163460+2","v":{"v":163462,"d":"163,462"}},{"$f":"227213+3","v":{"v":227216,"d":"227,216"}},{"$f":"280908+167+35","v":{"v":281110,"d":"281,110"}},{"$f":"331946-18+2223","v":{"v":334151,"d":"334,151"}},{"v":179488,"d":"179,488"},{"v":92802,"d":"92,802"},{"v":64444,"d":"64,444"},{"v":44911,"d":"44,911"},{"v":44148,"d":"44,148"},{"v":38617,"d":"38,617"},{"v":18303,"d":"18,303"},{"v":2981,"d":"2,981"},{"v":34071,"d":"34,071"},{"v":161713,"d":"161,713"},{"v":292110,"d":"292,110"},{"$f":"354960+43","v":{"v":355003,"d":"355,003"}},{"v":226201,"d":"226,201"},{"v":83156,"d":"83,156"},{"v":17151,"d":"17,151"},{"$f":"11922+25","v":{"v":11947,"d":"11,947"}},{"v":12703,"d":"12,703"},{"v":15431,"d":"15,431"},{"v":20324,"d":"20,324"},{"v":21684,"d":"21,684"},{"$f":"84410+10+53","v":{"v":84473,"d":"84,473"}},{"v":194523,"d":"194,523"},{"v":303045,"d":"303,045"},{"$f":"346476+9","v":{"v":346485,"d":"346,485"}},{"v":215100,"d":"215,100"},{"$f":"106087+29","v":{"v":106116,"d":"106,116"}},{"v":45902,"d":"45,902"},{"v":28190,"d":"28,190"},{"v":35526,"d":"35,526"},{"v":34075,"d":"34,075"},{"v":41791,"d":"41,791"},{"v":108689,"d":"108,689"},{"v":169259,"d":"169,259"},{"v":218202,"d":"218,202"},{"$f":"260623+1603","v":{"v":262226,"d":"262,226"}},{"v":292819,"d":"292,819"},{"v":172941,"d":"172,941"},{"v":100456,"d":"100,456"},{"v":62979,"d":"62,979"},{"v":48320,"d":"48,320"},{"v":46601,"d":"46,601"},{"v":43522,"d":"43,522"},{"v":51613,"d":"51,613"},106552,{"$f":"SUM(LS7:LS42)","v":{"v":162424,"d":"162,424"}},{"v":322722,"d":"322,722"},{"v":265339,"d":"265,339"},{"v":311628,"d":"311,628"},{"v":191066,"d":"191,066"},{"v":102134,"d":"102,134"},{"v":69111,"d":"69,111"},{"v":51952,"d":"51,952"},{"$f":"SUM(MA7:MA42)","v":{"v":51218,"d":"51,218"}},{"$f":"SUM(MB7:MB42)","v":{"v":48511,"d":"48,511"}},{"$f":"SUM(MC7:MC42)","v":{"v":69465,"d":"69,465"}},{"$f":"SUM(MD7:MD42)","v":{"v":105732,"d":"105,732"}},{"$f":"SUM(ME7:ME42)","v":{"v":201341,"d":"201,341"}},{"$f":"SUM(MF7:MF42)","v":{"v":311255,"d":"311,255"}},{"$f":"SUM(MG7:MG42)","v":{"v":281592,"d":"281,592"}},{"$f":"SUM(MH7:MH42)","v":{"v":320689,"d":"320,689"}},{"$f":"SUM(MI7:MI42)","v":{"v":166464,"d":"166,464"}},{"$f":"SUM(MJ7:MJ42)","v":{"v":104204,"d":"104,204"}},{"$f":"SUM(MK7:MK42)","v":{"v":77564,"d":"77,564"}},{"$f":"SUM(ML7:ML42)","v":{"v":58594,"d":"58,594"}}]
["10701","Andau (ab 5/99)",{"$nulls":40},881,{"v":1047,"d":"1,047"},{"v":4522,"d":"4,522"},{"v":4346,"d":"4,346"},596,34,0,0,0,0,5,442,330,{"v":1968,"d":"1,968"},{"v":2248,"d":"2,248"},{"v":4541,"d":"4,541"},611,26,0,0,0,0,0,262,666,{"v":1326,"d":"1,326"},{"v":2750,"d":"2,750"},{"v":3609,"d":"3,609"},284,153,0,0,0,0,0,102,{"v":1334,"d":"1,334"},787,{"v":1966,"d":"1,966"},{"v":3753,"d":"3,753"},473,35,12,0,0,0,0,167,704,{"v":1689,"d":"1,689"},{"v":2189,"d":"2,189"},{"v":2294,"d":"2,294"},509,118,8,0,0,0,0,38,638,767,{"v":2212,"d":"2,212"},{"v":2572,"d":"2,572"},719,71,22,0,0,0,0,64,{"v":1330,"d":"1,330"},690,{"v":2229,"d":"2,229"},{"v":2458,"d":"2,458"},633,91,0,0,0,0,0,144,496,{"v":1106,"d":"1,106"},{"v":1920,"d":"1,920"},{"v":2700,"d":"2,700"},614,94,0,0,0,0,2,367,498,607,{"v":1974,"d":"1,974"},{"v":3132,"d":"3,132"},430,58,19,0,0,0,0,46,868,592,{"v":1607,"d":"1,607"},{"v":2579,"d":"2,579"},491,92,20,0,0,0,0,78,645,542,{"v":1701,"d":"1,701"},{"v":3029,"d":"3,029"},367,32,4,0,0,0,0,127,247,397,{"v":1147,"d":"1,147"},{"v":1828,"d":"1,828"},359,53,4,0,0,0,4,83,406,{"v":1381,"d":"1,381"},{"v":1543,"d":"1,543"},{"v":2979,"d":"2,979"},869,181,13,6,0,0,0,152,757,693,{"v":1275,"d":"1,275"},{"v":2789,"d":"2,789"},654,70,13,0,0,0,0,106,473,501,{"v":1480,"d":"1,480"},{"v":2175,"d":"2,175"},452,28,2,0,0,0,0,91,469,960,{"v":1379,"d":"1,379"},{"v":1932,"d":"1,932"},340,61,39,0,0,0,0,62,434,892,{"v":1174,"d":"1,174"},{"v":1752,"d":"1,752"},473,69,15,0,6,42,19,138,615,656,{"v":1687,"d":"1,687"},{"v":2586,"d":"2,586"},914,217,73,43,2,48,62,125,511,{"v":1071,"d":"1,071"},{"v":2025,"d":"2,025"},{"v":2536,"d":"2,536"},{"$f":"580+21","v":601},149,91,34,37,105,91,308,912,811,{"v":2423,"d":"2,423"},{"v":2905,"d":"2,905"},991,257,69,37,13,43,99,341,490,{"v":1794,"d":"1,794"},{"v":2479,"d":"2,479"},{"v":4072,"d":"4,072"},940,321,87,60,57,69,0,8,4,{"v":1547,"d":"1,547"},{"v":3389,"d":"3,389"},{"v":4172,"d":"4,172"},{"v":2147,"d":"2,147"},555,20,42,0,15,32,22,528,{"v":2099,"d":"2,099"},{"v":3407,"d":"3,407"},{"v":3986,"d":"3,986"},{"v":1933,"d":"1,933"},{"v":1004,"d":"1,004"},350,80,102,169,148,682,{"v":2643,"d":"2,643"},{"v":4157,"d":"4,157"},{"v":7002,"d":"7,002"},{"v":9493,"d":"9,493"},{"v":5566,"d":"5,566"},{"v":5787,"d":"5,787"},{"v":4164,"d":"4,164"},{"v":3178,"d":"3,178"},{"v":4201,"d":"4,201"},{"v":3483,"d":"3,483"},{"v":3667,"d":"3,667"},{"v":5609,"d":"5,609"},{"v":6053,"d":"6,053"},{"v":5381,"d":"5,381"},{"v":6845,"d":"6,845"},{"v":9269,"d":"9,269"},{"v":5585,"d":"5,585"},{"v":5155,"d":"5,155"},{"v":4462,"d":"4,462"},{"v":3640,"d":"3,640"},{"v":4075,"d":"4,075"},{"v":4097,"d":"4,097"},{"v":4674,"d":"4,674"},{"v":4032,"d":"4,032"},{"v":7475,"d":"7,475"},{"v":6290,"d":"6,290"},{"v":7756,"d":"7,756"},{"v":9752,"d":"9,752"},{"v":5059,"d":"5,059"},{"v":5061,"d":"5,061"},{"v":5151,"d":"5,151"},{"v":3587,"d":"3,587"}]
["10702","Apetlon",0,0,0,333,{"v":2167,"d":"2,167"},{"v":3714,"d":"3,714"},{"v":5318,"d":"5,318"},{"v":7986,"d":"7,986"},{"v":2562,"d":"2,562"},298,0,0,0,0,0,34,{"v":3057,"d":"3,057"},{"v":2394,"d":"2,394"},{"v":5393,"d":"5,393"},{"v":7199,"d":"7,199"},{"v":2258,"d":"2,258"},246,0,0,0,0,0,829,{"v":2740,"d":"2,740"},{"v":2964,"d":"2,964"},{"v":4654,"d":"4,654"},{"v":7408,"d":"7,408"},{"v":1348,"d":"1,348"},182,67,0,0,0,0,136,{"v":3066,"d":"3,066"},{"v":2619,"d":"2,619"},{"v":6357,"d":"6,357"},{"v":6986,"d":"6,986"},{"v":1936,"d":"1,936"},117,0,47,0,0,0,686,{"v":2578,"d":"2,578"},{"v":3847,"d":"3,847"},{"v":4797,"d":"4,797"},{"v":6308,"d":"6,308"},{"v":1766,"d":"1,766"},186,16,0,0,12,0,318,{"v":3191,"d":"3,191"},{"v":3275,"d":"3,275"},{"v":4756,"d":"4,756"},{"v":6470,"d":"6,470"},{"v":1973,"d":"1,973"},144,31,0,0,0,43,725,{"v":3128,"d":"3,128"},{"v":2649,"d":"2,649"},{"v":5478,"d":"5,478"},{"v":6527,"d":"6,527"},{"v":1646,"d":"1,646"},117,150,34,34,0,0,882,{"v":3686,"d":"3,686"},{"v":3686,"d":"3,686"},{"v":4920,"d":"4,920"},{"v":6062,"d":"6,062"},{"v":1031,"d":"1,031"},565,116,7,0,0,16,907,{"v":2870,"d":"2,870"},{"v":3512,"d":"3,512"},{"v":5158,"d":"5,158"},{"v":5451,"d":"5,451"},{"v":2191,"d":"2,191"},435,204,0,10,0,156,467,{"v":3385,"d":"3,385"},{"v":2788,"d":"2,788"},{"v":4634,"d":"4,634"},{"v":4797,"d":"4,797"},{"v":1604,"d":"1,604"},292,127,0,0,0,0,885,{"v":2246,"d":"2,246"},{"v":3059,"d":"3,059"},{"v":3617,"d":"3,617"},{"v":4088,"d":"4,088"},{"v":1498,"d":"1,498"},112,192,46,0,0,0,820,{"v":2927,"d":"2,927"},{"v":2432,"d":"2,432"},{"v":4405,"d":"4,405"},{"v":4357,"d":"4,357"},{"v":1520,"d":"1,520"},198,242,55,14,0,34,325,{"v":2537,"d":"2,537"},{"v":2431,"d":"2,431"},{"v":3976,"d":"3,976"},{"v":5180,"d":"5,180"},{"v":1788,"d":"1,788"},414,366,84,273,143,203,{"v":1134,"d":"1,134"},{"v":2978,"d":"2,978"},{"v":2460,"d":"2,460"},{"v":4218,"d":"4,218"},{"v":5407,"d":"5,407"},{"v":2359,"d":"2,359"},746,491,112,60,39,150,{"v":1128,"d":"1,128"},{"v":2916,"d":"2,916"},{"v":2325,"d":"2,325"},{"v":4074,"d":"4,074"},{"v":5537,"d":"5,537"},{"v":2270,"d":"2,270"},660,410,58,77,9,44,895,{"v":1568,"d":"1,568"},{"v":3193,"d":"3,193"},{"v":3841,"d":"3,841"},{"v":5022,"d":"5,022"},{"v":1928,"d":"1,928"},645,711,58,19,22,24,{"v":1098,"d":"1,098"},{"v":2272,"d":"2,272"},{"v":1896,"d":"1,896"},{"v":3299,"d":"3,299"},{"v":5096,"d":"5,096"},{"v":1934,"d":"1,934"},485,766,38,45,26,147,685,{"v":2738,"d":"2,738"},{"v":1904,"d":"1,904"},{"v":3440,"d":"3,440"},{"v":5640,"d":"5,640"},{"v":1871,"d":"1,871"},483,749,54,30,0,77,{"v":1030,"d":"1,030"},{"v":2084,"d":"2,084"},{"v":2509,"d":"2,509"},{"v":3550,"d":"3,550"},{"v":4960,"d":"4,960"},{"v":1835,"d":"1,835"},651,746,32,0,73,78,710,{"v":2190,"d":"2,190"},{"v":2198,"d":"2,198"},{"v":3542,"d":"3,542"},{"v":4214,"d":"4,214"},{"v":1592,"d":"1,592"},749,736,220,56,0,229,649,{"v":2847,"d":"2,847"},{"v":1870,"d":"1,870"},{"v":3542,"d":"3,542"},{"v":4841,"d":"4,841"},{"v":1685,"d":"1,685"},257,577,0,204,243,416,{"v":1649,"d":"1,649"},{"v":2090,"d":"2,090"},{"v":2744,"d":"2,744"},{"v":3764,"d":"3,764"},{"v":4463,"d":"4,463"},{"v":1632,"d":"1,632"},427,724,110,167,19,69,{"v":1034,"d":"1,034"},{"v":2255,"d":"2,255"},{"v":1908,"d":"1,908"},{"v":3920,"d":"3,920"},{"v":4497,"d":"4,497"},{"v":1387,"d":"1,387"},614,541,65,112,28,113,{"v":1001,"d":"1,001"},{"v":1695,"d":"1,695"},{"v":2594,"d":"2,594"},{"$f":"3669+167","v":{"v":3836,"d":"3,836"}},{"v":5161,"d":"5,161"},{"v":1686,"d":"1,686"},754,715,154,253,114,25,0,217,{"v":2323,"d":"2,323"},{"v":4508,"d":"4,508"},{"v":5497,"d":"5,497"},{"v":3098,"d":"3,098"},758,142,154,159,99,72,93,804,{"v":2256,"d":"2,256"},{"v":4298,"d":"4,298"},{"v":5110,"d":"5,110"},{"v":2467,"d":"2,467"},962,528,22,60,51,242,{"v":1105,"d":"1,105"},{"v":1948,"d":"1,948"},{"v":2484,"d":"2,484"},{"v":3076,"d":"3,076"},{"v":4049,"d":"4,049"},{"v":1609,"d":"1,609"},802,514,50,32,25,152,928,{"v":1597,"d":"1,597"},{"v":1822,"d":"1,822"},{"v":2537,"d":"2,537"},{"v":3356,"d":"3,356"},{"v":1863,"d":"1,863"},550,676,56,93,25,265,934,{"v":1894,"d":"1,894"},{"v":1380,"d":"1,380"},{"v":2679,"d":"2,679"},{"v":3273,"d":"3,273"},{"v":1274,"d":"1,274"},437,598,42]
["10301","Breitenbrunn",68,148,289,525,{"v":2412,"d":"2,412"},{"v":2077,"d":"2,077"},{"v":5344,"d":"5,344"},{"v":5740,"d":"5,740"},{"v":1452,"d":"1,452"},684,388,319,82,130,295,348,{"v":2158,"d":"2,158"},{"v":2047,"d":"2,047"},{"v":3715,"d":"3,715"},{"v":5241,"d":"5,241"},{"v":1464,"d":"1,464"},667,204,156,0,120,43,449,{"v":1756,"d":"1,756"},{"v":2807,"d":"2,807"},{"v":3867,"d":"3,867"},{"v":6699,"d":"6,699"},{"v":1953,"d":"1,953"},579,58,92,141,20,116,235,{"v":1833,"d":"1,833"},{"v":2000,"d":"2,000"},{"v":3842,"d":"3,842"},{"v":7994,"d":"7,994"},{"v":1850,"d":"1,850"},597,53,97,99,28,91,599,{"v":1132,"d":"1,132"},{"v":2855,"d":"2,855"},{"v":4123,"d":"4,123"},{"v":8299,"d":"8,299"},{"v":1501,"d":"1,501"},458,113,35,0,41,114,348,762,{"v":2852,"d":"2,852"},{"v":3901,"d":"3,901"},{"v":7314,"d":"7,314"},812,406,103,74,65,112,355,493,{"v":2733,"d":"2,733"},{"v":2010,"d":"2,010"},{"v":5157,"d":"5,157"},{"v":6568,"d":"6,568"},{"v":1769,"d":"1,769"},339,123,157,77,77,65,944,{"v":2090,"d":"2,090"},{"v":2731,"d":"2,731"},{"v":4652,"d":"4,652"},{"v":5483,"d":"5,483"},{"v":2071,"d":"2,071"},375,370,445,0,160,43,894,{"v":1472,"d":"1,472"},{"v":1928,"d":"1,928"},{"v":3724,"d":"3,724"},{"v":6806,"d":"6,806"},{"v":2063,"d":"2,063"},499,253,82,0,330,137,155,{"v":2437,"d":"2,437"},{"v":1834,"d":"1,834"},{"v":4578,"d":"4,578"},{"v":5087,"d":"5,087"},{"v":2061,"d":"2,061"},501,214,0,62,120,65,393,{"v":2109,"d":"2,109"},{"v":2628,"d":"2,628"},{"v":4144,"d":"4,144"},{"v":4888,"d":"4,888"},{"v":1775,"d":"1,775"},572,325,68,0,136,224,786,{"v":1849,"d":"1,849"},{"v":2282,"d":"2,282"},{"v":3849,"d":"3,849"},{"v":6297,"d":"6,297"},{"v":1320,"d":"1,320"},523,319,117,289,59,199,216,{"v":2268,"d":"2,268"},{"v":1834,"d":"1,834"},{"v":4042,"d":"4,042"},{"v":5702,"d":"5,702"},{"v":1319,"d":"1,319"},517,286,131,44,138,181,464,{"v":1489,"d":"1,489"},{"v":1901,"d":"1,901"},{"v":4404,"d":"4,404"},{"v":5600,"d":"5,600"},{"v":1319,"d":"1,319"},577,391,102,65,27,133,257,{"v":1362,"d":"1,362"},{"v":1678,"d":"1,678"},{"v":4333,"d":"4,333"},{"v":5599,"d":"5,599"},{"v":1476,"d":"1,476"},356,373,117,100,79,58,615,{"v":1034,"d":"1,034"},{"v":2856,"d":"2,856"},{"$f":"3330+43","v":{"v":3373,"d":"3,373"}},{"v":6088,"d":"6,088"},{"v":1709,"d":"1,709"},248,347,103,65,67,211,634,{"v":1421,"d":"1,421"},{"v":2175,"d":"2,175"},{"v":3754,"d":"3,754"},{"v":6724,"d":"6,724"},{"v":1535,"d":"1,535"},259,350,117,172,13,122,246,{"v":1774,"d":"1,774"},{"v":1605,"d":"1,605"},{"v":4428,"d":"4,428"},{"v":5357,"d":"5,357"},{"v":1248,"d":"1,248"},327,366,218,149,90,47,473,999,{"v":2632,"d":"2,632"},{"v":3514,"d":"3,514"},{"v":4368,"d":"4,368"},912,184,304,68,{"$f":"76+19","v":95},6,88,294,877,{"v":2132,"d":"2,132"},{"v":3974,"d":"3,974"},{"v":4008,"d":"4,008"},{"v":1053,"d":"1,053"},196,233,50,35,23,46,245,{"v":1640,"d":"1,640"},{"v":1314,"d":"1,314"},{"v":3872,"d":"3,872"},{"v":4329,"d":"4,329"},{"v":1200,"d":"1,200"},330,229,56,52,14,43,371,{"v":1274,"d":"1,274"},{"v":2501,"d":"2,501"},{"v":4460,"d":"4,460"},{"v":4996,"d":"4,996"},{"v":1073,"d":"1,073"},247,194,24,116,12,28,454,873,{"v":1617,"d":"1,617"},{"v":3910,"d":"3,910"},{"v":3843,"d":"3,843"},903,391,228,170,92,50,62,483,818,{"v":3079,"d":"3,079"},{"v":4154,"d":"4,154"},{"v":5855,"d":"5,855"},{"v":1061,"d":"1,061"},419,218,125,66,42,14,4,209,{"v":1958,"d":"1,958"},{"v":5142,"d":"5,142"},{"v":6418,"d":"6,418"},{"v":2950,"d":"2,950"},586,6,10,4,124,174,181,972,{"v":2652,"d":"2,652"},{"v":4305,"d":"4,305"},{"v":5427,"d":"5,427"},{"v":2122,"d":"2,122"},840,158,65,64,71,62,580,{"v":1650,"d":"1,650"},{"v":3405,"d":"3,405"},{"v":4234,"d":"4,234"},{"v":4090,"d":"4,090"},{"v":1137,"d":"1,137"},404,166,163,50,37,129,365,{"v":1063,"d":"1,063"},{"v":1492,"d":"1,492"},{"v":3470,"d":"3,470"},{"v":4579,"d":"4,579"},{"v":1851,"d":"1,851"},416,216,57,24,34,60,494,{"v":2070,"d":"2,070"},{"v":2021,"d":"2,021"},{"v":3274,"d":"3,274"},{"v":4135,"d":"4,135"},{"v":1123,"d":"1,123"},494,339,212]
["10703","Bruckneudorf",306,278,142,904,{"v":1386,"d":"1,386"},{"v":1350,"d":"1,350"},{"v":1826,"d":"1,826"},{"v":1632,"d":"1,632"},{"v":1170,"d":"1,170"},917,394,267,275,142,252,835,{"v":1374,"d":"1,374"},{"v":1276,"d":"1,276"},{"v":1157,"d":"1,157"},{"v":1586,"d":"1,586"},{"v":1534,"d":"1,534"},939,318,624,570,264,223,833,{"v":1046,"d":"1,046"},863,908,{"v":1512,"d":"1,512"},881,802,355,261,149,243,279,798,968,{"v":1021,"d":"1,021"},{"v":1374,"d":"1,374"},{"v":1875,"d":"1,875"},896,778,315,565,162,150,617,747,849,984,{"v":1088,"d":"1,088"},{"v":1408,"d":"1,408"},917,730,328,282,160,131,73,85,{"v":1528,"d":"1,528"},863,829,{"v":1288,"d":"1,288"},{"v":1114,"d":"1,114"},672,347,206,147,72,147,0,869,697,789,{"v":1259,"d":"1,259"},{"v":1277,"d":"1,277"},742,260,385,82,74,113,582,664,757,679,{"v":1228,"d":"1,228"},778,345,230,237,120,0,130,530,669,496,469,{"v":1734,"d":"1,734"},373,320,311,138,192,0,211,209,290,983,847,{"v":1611,"d":"1,611"},426,39,408,260,230,241,490,446,786,400,770,669,652,323,46,504,31,309,45,332,361,565,944,709,596,{"v":1000,"d":"1,000"},313,54,532,0,493,0,{"$f":"83+1017","v":{"v":1100,"d":"1,100"}},22,0,879,117,0,199,167,133,5,0,30,93,44,105,80,0,{"v":1491,"d":"1,491"},0,775,165,97,233,450,464,0,{"$f":"747+354","v":{"v":1101,"d":"1,101"}},{"v":1045,"d":"1,045"},494,415,302,665,338,298,288,327,832,592,756,834,0,{"$f":"833+633","v":{"v":1466,"d":"1,466"}},0,961,312,125,402,485,551,550,863,971,490,504,724,244,337,109,212,317,346,0,0,731,404,536,292,171,199,110,228,272,368,377,490,570,399,338,266,175,242,95,186,309,447,333,725,703,528,401,31,54,0,0,0,0,0,48,908,524,354,301,308,299,254,132,324,500,373,420,634,627,495,423,434,448,293,144,229,408,0,618,804,910,{"v":1571,"d":"1,571"},668,612,424,643,187,407,669,756,689,868,52,{"v":1779,"d":"1,779"},566,531,362,26,296,0,0,0,12,317,{"v":1150,"d":"1,150"},999,828,0,9,0,0,0,0,0,551,{"v":1138,"d":"1,138"},{"v":1217,"d":"1,217"},928,547,287,141,345,238,390,256,711,683,385,573,208,368,327,166,18,19,334,397,484,525,569,638,405,332,265,206,196,211,342,492,398,569,562,627,{"v":1135,"d":"1,135"},862,668,398]
["10302","Donnerskirchen",0,24,23,246,{"v":1516,"d":"1,516"},{"v":1644,"d":"1,644"},{"v":2979,"d":"2,979"},{"v":3545,"d":"3,545"},{"v":1205,"d":"1,205"},618,84,5,4,0,0,82,{"v":1542,"d":"1,542"},{"v":1330,"d":"1,330"},{"v":2150,"d":"2,150"},{"v":2660,"d":"2,660"},{"v":1103,"d":"1,103"},476,61,0,12,0,26,400,{"v":1041,"d":"1,041"},{"v":1430,"d":"1,430"},{"v":2539,"d":"2,539"},{"v":2906,"d":"2,906"},{"v":1064,"d":"1,064"},436,79,0,0,0,75,493,{"v":1005,"d":"1,005"},{"v":1223,"d":"1,223"},{"v":1999,"d":"1,999"},{"v":3114,"d":"3,114"},{"v":1165,"d":"1,165"},445,22,12,0,56,56,395,575,{"v":1467,"d":"1,467"},{"v":2270,"d":"2,270"},{"v":3307,"d":"3,307"},875,432,37,10,0,0,2,365,568,{"v":1254,"d":"1,254"},{"v":2516,"d":"2,516"},{"v":2753,"d":"2,753"},763,233,0,8,0,0,40,235,{"v":1168,"d":"1,168"},978,{"v":2124,"d":"2,124"},{"v":2721,"d":"2,721"},967,248,19,30,0,0,0,194,693,{"v":1656,"d":"1,656"},{"v":2330,"d":"2,330"},{"v":3121,"d":"3,121"},{"v":1054,"d":"1,054"},277,42,39,0,20,27,232,{"v":1004,"d":"1,004"},{"v":1280,"d":"1,280"},{"v":2771,"d":"2,771"},{"v":3155,"d":"3,155"},{"v":1084,"d":"1,084"},583,118,23,28,94,36,48,{"v":1309,"d":"1,309"},{"v":1238,"d":"1,238"},{"v":3563,"d":"3,563"},{"v":5366,"d":"5,366"},{"v":1629,"d":"1,629"},455,346,195,100,346,144,523,{"v":1180,"d":"1,180"},{"v":1806,"d":"1,806"},{"v":3221,"d":"3,221"},{"v":3860,"d":"3,860"},{"v":1795,"d":"1,795"},404,89,81,15,76,112,414,{"v":1040,"d":"1,040"},{"v":1593,"d":"1,593"},{"v":2952,"d":"2,952"},{"v":4198,"d":"4,198"},{"v":1814,"d":"1,814"},685,382,212,138,175,232,620,{"v":2460,"d":"2,460"},{"v":2016,"d":"2,016"},{"$f":"3697+1210","v":{"v":4907,"d":"4,907"}},{"$f":"3787+2034","v":{"v":5821,"d":"5,821"}},{"v":2234,"d":"2,234"},{"v":1169,"d":"1,169"},540,485,561,350,467,556,{"v":1928,"d":"1,928"},{"v":2003,"d":"2,003"},{"v":4482,"d":"4,482"},{"v":5518,"d":"5,518"},{"v":2058,"d":"2,058"},957,695,804,352,381,431,694,{"v":1482,"d":"1,482"},{"v":2237,"d":"2,237"},{"v":3914,"d":"3,914"},{"$f":"4127+59","v":{"v":4186,"d":"4,186"}},{"v":1100,"d":"1,100"},392,202,174,53,66,38,345,633,{"v":1500,"d":"1,500"},{"v":3685,"d":"3,685"},{"v":2943,"d":"2,943"},909,327,166,34,93,41,44,331,{"v":1243,"d":"1,243"},{"v":1064,"d":"1,064"},{"v":2476,"d":"2,476"},{"v":3417,"d":"3,417"},980,293,125,77,289,124,42,279,975,738,{"v":3490,"d":"3,490"},{"v":4047,"d":"4,047"},{"v":1740,"d":"1,740"},980,295,{"$f":"55+249","v":304},210,305,145,230,{"v":1128,"d":"1,128"},{"v":1893,"d":"1,893"},{"v":3260,"d":"3,260"},{"v":3713,"d":"3,713"},{"v":1067,"d":"1,067"},431,475,67,126,{"$f":"146+21","v":167},260,360,980,991,{"v":2621,"d":"2,621"},{"v":2952,"d":"2,952"},971,283,148,94,35,76,225,451,{"v":1009,"d":"1,009"},836,{"v":2036,"d":"2,036"},{"v":2526,"d":"2,526"},956,338,246,220,89,255,331,410,629,{"v":1448,"d":"1,448"},{"v":2008,"d":"2,008"},{"v":2607,"d":"2,607"},804,558,282,306,337,454,282,526,{"v":1064,"d":"1,064"},{"v":1311,"d":"1,311"},{"v":1861,"d":"1,861"},{"v":2013,"d":"2,013"},{"v":1493,"d":"1,493"},548,328,278,97,153,359,653,{"v":1077,"d":"1,077"},{"v":1690,"d":"1,690"},{"v":2761,"d":"2,761"},{"v":2936,"d":"2,936"},{"v":1088,"d":"1,088"},704,{"v":1026,"d":"1,026"},878,549,434,352,169,74,792,{"v":2590,"d":"2,590"},{"v":2763,"d":"2,763"},{"v":1062,"d":"1,062"},582,143,166,78,255,247,318,680,{"v":1271,"d":"1,271"},{"v":2526,"d":"2,526"},{"v":2631,"d":"2,631"},{"v":1288,"d":"1,288"},900,384,354,323,508,564,574,851,{"v":1464,"d":"1,464"},{"v":1944,"d":"1,944"},{"v":2158,"d":"2,158"},{"v":1360,"d":"1,360"},633,345,228,197,373,504,374,{"v":1104,"d":"1,104"},{"v":1564,"d":"1,564"},{"v":2354,"d":"2,354"},{"v":2217,"d":"2,217"},{"v":1169,"d":"1,169"},651,399,323,376,383,445,435,{"v":1441,"d":"1,441"},{"v":1566,"d":"1,566"},{"v":2960,"d":"2,960"},{"v":2518,"d":"2,518"},971,559,441,251]
["10101","Eisenstadt",{"v":1007,"d":"1,007"},{"v":1324,"d":"1,324"},{"v":1514,"d":"1,514"},{"v":1587,"d":"1,587"},{"v":3611,"d":"3,611"},{"v":2911,"d":"2,911"},{"v":4037,"d":"4,037"},{"v":5888,"d":"5,888"},{"v":4340,"d":"4,340"},{"v":3364,"d":"3,364"},{"v":2115,"d":"2,115"},970,858,{"v":1467,"d":"1,467"},{"v":1583,"d":"1,583"},{"v":2382,"d":"2,382"},{"v":3722,"d":"3,722"},{"v":2991,"d":"2,991"},{"v":4164,"d":"4,164"},{"v":5922,"d":"5,922"},{"v":4731,"d":"4,731"},{"v":3554,"d":"3,554"},{"v":2665,"d":"2,665"},{"v":1373,"d":"1,373"},{"v":1481,"d":"1,481"},{"v":1405,"d":"1,405"},{"v":2337,"d":"2,337"},{"v":2868,"d":"2,868"},{"v":3766,"d":"3,766"},{"v":4495,"d":"4,495"},{"v":4898,"d":"4,898"},{"v":7562,"d":"7,562"},{"v":6269,"d":"6,269"},{"v":3840,"d":"3,840"},{"v":2107,"d":"2,107"},{"v":1544,"d":"1,544"},{"v":1835,"d":"1,835"},{"v":1538,"d":"1,538"},{"v":2419,"d":"2,419"},{"v":2742,"d":"2,742"},{"v":4710,"d":"4,710"},{"v":4864,"d":"4,864"},{"v":5372,"d":"5,372"},{"v":7539,"d":"7,539"},{"v":5401,"d":"5,401"},{"v":3884,"d":"3,884"},{"v":2430,"d":"2,430"},{"v":2307,"d":"2,307"},{"v":1682,"d":"1,682"},{"v":1582,"d":"1,582"},{"v":2014,"d":"2,014"},{"v":3283,"d":"3,283"},{"v":4500,"d":"4,500"},{"v":4002,"d":"4,002"},{"v":6055,"d":"6,055"},{"v":9929,"d":"9,929"},{"v":4732,"d":"4,732"},{"v":3839,"d":"3,839"},{"v":2464,"d":"2,464"},{"v":1845,"d":"1,845"},{"v":1758,"d":"1,758"},{"v":1638,"d":"1,638"},{"v":3184,"d":"3,184"},{"v":2930,"d":"2,930"},{"v":4888,"d":"4,888"},{"v":6045,"d":"6,045"},{"v":6448,"d":"6,448"},{"v":9794,"d":"9,794"},{"v":6109,"d":"6,109"},{"v":4314,"d":"4,314"},{"v":2531,"d":"2,531"},{"v":1222,"d":"1,222"},{"v":1515,"d":"1,515"},{"v":1316,"d":"1,316"},{"v":2475,"d":"2,475"},{"v":3236,"d":"3,236"},{"v":5235,"d":"5,235"},{"v":4471,"d":"4,471"},{"v":7375,"d":"7,375"},{"v":8921,"d":"8,921"},{"v":5317,"d":"5,317"},{"v":3587,"d":"3,587"},{"v":2469,"d":"2,469"},{"v":1425,"d":"1,425"},{"v":1599,"d":"1,599"},{"v":1033,"d":"1,033"},{"v":2422,"d":"2,422"},{"v":2997,"d":"2,997"},{"v":4342,"d":"4,342"},{"v":3242,"d":"3,242"},{"v":6772,"d":"6,772"},{"v":8488,"d":"8,488"},{"v":7243,"d":"7,243"},{"v":3729,"d":"3,729"},{"v":2409,"d":"2,409"},{"v":1623,"d":"1,623"},{"v":1075,"d":"1,075"},998,{"v":2092,"d":"2,092"},{"v":2540,"d":"2,540"},{"v":4231,"d":"4,231"},{"v":4503,"d":"4,503"},{"v":6716,"d":"6,716"},{"v":7814,"d":"7,814"},{"v":5480,"d":"5,480"},{"v":2865,"d":"2,865"},{"v":2068,"d":"2,068"},{"v":1726,"d":"1,726"},{"v":1410,"d":"1,410"},{"v":1280,"d":"1,280"},{"v":2640,"d":"2,640"},{"v":2952,"d":"2,952"},{"v":4854,"d":"4,854"},{"v":4874,"d":"4,874"},{"v":6777,"d":"6,777"},{"v":9450,"d":"9,450"},{"v":5919,"d":"5,919"},{"v":3843,"d":"3,843"},{"v":3003,"d":"3,003"},{"v":2412,"d":"2,412"},{"v":1402,"d":"1,402"},{"v":2114,"d":"2,114"},{"v":2643,"d":"2,643"},{"v":3296,"d":"3,296"},{"v":5671,"d":"5,671"},{"v":5003,"d":"5,003"},{"v":7108,"d":"7,108"},{"v":7593,"d":"7,593"},{"v":6371,"d":"6,371"},{"v":5195,"d":"5,195"},{"v":3247,"d":"3,247"},{"v":2925,"d":"2,925"},{"v":1737,"d":"1,737"},{"v":1759,"d":"1,759"},{"v":3063,"d":"3,063"},{"v":4525,"d":"4,525"},{"v":5543,"d":"5,543"},{"v":5975,"d":"5,975"},{"v":7767,"d":"7,767"},{"v":10480,"d":"10,480"},{"v":8200,"d":"8,200"},{"v":4799,"d":"4,799"},{"v":3578,"d":"3,578"},{"v":2570,"d":"2,570"},{"v":1903,"d":"1,903"},{"v":1804,"d":"1,804"},{"v":2835,"d":"2,835"},{"v":3431,"d":"3,431"},{"v":4773,"d":"4,773"},{"v":5885,"d":"5,885"},{"v":7870,"d":"7,870"},{"v":9685,"d":"9,685"},{"v":6591,"d":"6,591"},{"v":4951,"d":"4,951"},{"v":3500,"d":"3,500"},{"v":2800,"d":"2,800"},{"v":2050,"d":"2,050"},{"v":2123,"d":"2,123"},{"v":3425,"d":"3,425"},{"v":4215,"d":"4,215"},{"v":6668,"d":"6,668"},{"v":5107,"d":"5,107"},{"v":8588,"d":"8,588"},{"v":9436,"d":"9,436"},{"v":7984,"d":"7,984"},{"v":5439,"d":"5,439"},{"v":3772,"d":"3,772"},{"v":2948,"d":"2,948"},{"v":2270,"d":"2,270"},{"v":1901,"d":"1,901"},{"v":2772,"d":"2,772"},{"v":4764,"d":"4,764"},{"v":5466,"d":"5,466"},{"v":5657,"d":"5,657"},{"v":7870,"d":"7,870"},{"v":9697,"d":"9,697"},{"v":7311,"d":"7,311"},{"v":5674,"d":"5,674"},{"v":3922,"d":"3,922"},{"v":2609,"d":"2,609"},{"v":1985,"d":"1,985"},{"v":2511,"d":"2,511"},{"v":3722,"d":"3,722"},{"v":4042,"d":"4,042"},{"v":6931,"d":"6,931"},{"v":6007,"d":"6,007"},{"v":7500,"d":"7,500"},{"v":9186,"d":"9,186"},{"v":6833,"d":"6,833"},{"v":5164,"d":"5,164"},{"v":2969,"d":"2,969"},{"v":2595,"d":"2,595"},{"v":2152,"d":"2,152"},{"v":2170,"d":"2,170"},{"v":2998,"d":"2,998"},{"v":3279,"d":"3,279"},{"v":4816,"d":"4,816"},{"v":4951,"d":"4,951"},{"v":6485,"d":"6,485"},{"v":8472,"d":"8,472"},{"v":5575,"d":"5,575"},{"v":4842,"d":"4,842"},{"v":3271,"d":"3,271"},{"v":2834,"d":"2,834"},{"v":1652,"d":"1,652"},{"v":1505,"d":"1,505"},{"v":2262,"d":"2,262"},{"v":3078,"d":"3,078"},{"v":4655,"d":"4,655"},{"v":4435,"d":"4,435"},{"v":6003,"d":"6,003"},{"v":7841,"d":"7,841"},{"v":5714,"d":"5,714"},{"v":5284,"d":"5,284"},{"v":4617,"d":"4,617"},{"v":3490,"d":"3,490"},{"v":2234,"d":"2,234"},{"v":3514,"d":"3,514"},{"v":3914,"d":"3,914"},{"v":3669,"d":"3,669"},{"v":5653,"d":"5,653"},{"v":6154,"d":"6,154"},{"v":7565,"d":"7,565"},{"v":8722,"d":"8,722"},{"v":6611,"d":"6,611"},{"v":5298,"d":"5,298"},{"v":2925,"d":"2,925"},{"v":2889,"d":"2,889"},{"v":2037,"d":"2,037"},{"v":2032,"d":"2,032"},{"v":2758,"d":"2,758"},{"v":3712,"d":"3,712"},{"v":6552,"d":"6,552"},{"v":4862,"d":"4,862"},{"v":7910,"d":"7,910"},{"v":7828,"d":"7,828"},{"v":6570,"d":"6,570"},{"v":4768,"d":"4,768"},{"v":3573,"d":"3,573"},{"v":3079,"d":"3,079"},{"v":2367,"d":"2,367"},{"v":1953,"d":"1,953"},{"v":2810,"d":"2,810"},{"v":3022,"d":"3,022"},{"v":4419,"d":"4,419"},{"v":5427,"d":"5,427"},{"v":7287,"d":"7,287"},{"v":7554,"d":"7,554"},{"v":6422,"d":"6,422"},{"v":5498,"d":"5,498"},{"v":3419,"d":"3,419"},{"v":2617,"d":"2,617"},{"$f":"2346+1","v":{"v":2347,"d":"2,347"}},{"v":2285,"d":"2,285"},{"$f":"3582+13","v":{"v":3595,"d":"3,595"}},{"v":3995,"d":"3,995"},{"$f":"5478+4","v":{"v":5482,"d":"5,482"}},{"v":5046,"d":"5,046"},{"$f":"7236+31","v":{"v":7267,"d":"7,267"}},{"v":7941,"d":"7,941"},{"$f":"5709+8","v":{"v":5717,"d":"5,717"}},{"v":4786,"d":"4,786"},{"v":3275,"d":"3,275"},{"v":2904,"d":"2,904"},{"v":2244,"d":"2,244"},{"v":2305,"d":"2,305"},{"v":2879,"d":"2,879"},{"v":3732,"d":"3,732"},{"v":5182,"d":"5,182"},{"v":6544,"d":"6,544"},{"v":5778,"d":"5,778"},{"v":8974,"d":"8,974"},{"v":5969,"d":"5,969"},{"v":4753,"d":"4,753"},{"v":4328,"d":"4,328"},{"$f":"3240+4","v":{"v":3244,"d":"3,244"}},{"v":2801,"d":"2,801"},{"v":2431,"d":"2,431"},{"v":3380,"d":"3,380"},{"$f":"4657+4","v":{"v":4661,"d":"4,661"}},{"$f":"5742+2","v":{"v":5744,"d":"5,744"}},{"$f":"6073+3","v":{"v":6076,"d":"6,076"}},{"$f":"9483+35","v":{"v":9518,"d":"9,518"}},{"$f":"9383-18","v":{"v":9365,"d":"9,365"}},{"v":6096,"d":"6,096"},{"v":5314,"d":"5,314"},{"v":3828,"d":"3,828"},{"v":3665,"d":"3,665"},{"v":3192,"d":"3,192"},{"v":2367,"d":"2,367"},889,292,667,{"v":1635,"d":"1,635"},{"v":3808,"d":"3,808"},{"$f":"3473+43","v":{"v":3516,"d":"3,516"}},{"v":3460,"d":"3,460"},{"v":2071,"d":"2,071"},793,{"$f":"391+25","v":416},482,692,{"v":1181,"d":"1,181"},913,{"$f":"1392+10","v":{"v":1402,"d":"1,402"}},{"v":2329,"d":"2,329"},{"v":7560,"d":"7,560"},{"$f":"7020+9","v":{"v":7029,"d":"7,029"}},{"v":3859,"d":"3,859"},{"$f":"3677+29","v":{"v":3706,"d":"3,706"}},{"v":1808,"d":"1,808"},{"v":1097,"d":"1,097"},{"v":1163,"d":"1,163"},{"v":1587,"d":"1,587"},{"v":1930,"d":"1,930"},{"v":2080,"d":"2,080"},{"v":3090,"d":"3,090"},{"v":3070,"d":"3,070"},{"v":6610,"d":"6,610"},{"v":4723,"d":"4,723"},{"v":3793,"d":"3,793"},{"v":3160,"d":"3,160"},{"v":1880,"d":"1,880"},{"v":2700,"d":"2,700"},{"v":2005,"d":"2,005"},{"v":1824,"d":"1,824"},{"v":2816,"d":"2,816"},{"v":3345,"d":"3,345"},{"v":4159,"d":"4,159"},{"v":4740,"d":"4,740"},{"v":9569,"d":"9,569"},{"v":10002,"d":"10,002"},{"v":6469,"d":"6,469"},{"v":5132,"d":"5,132"},{"v":3478,"d":"3,478"},{"v":3266,"d":"3,266"},{"v":3223,"d":"3,223"},{"v":2798,"d":"2,798"},{"v":3817,"d":"3,817"},{"v":3683,"d":"3,683"},{"v":6163,"d":"6,163"},{"v":4640,"d":"4,640"},{"v":9890,"d":"9,890"},{"v":10046,"d":"10,046"},{"v":5253,"d":"5,253"},{"v":5481,"d":"5,481"},{"v":4085,"d":"4,085"},{"v":3634,"d":"3,634"}]
["10705","Frauenkirchen",18,24,31,18,187,499,593,{"v":1600,"d":"1,600"},463,38,13,17,21,23,14,20,300,211,650,{"v":2184,"d":"2,184"},200,18,59,21,17,44,20,16,144,357,516,{"v":1618,"d":"1,618"},162,6,7,25,7,17,8,18,276,406,605,{"v":1580,"d":"1,580"},208,26,33,21,14,13,9,19,130,678,439,{"v":1421,"d":"1,421"},236,0,18,8,0,0,4,0,166,157,430,{"v":1204,"d":"1,204"},129,47,11,6,5,0,12,6,143,112,262,873,158,2,26,0,5,3,0,3,95,301,326,749,56,14,8,1,4,0,17,12,144,104,160,{"v":1262,"d":"1,262"},173,26,44,32,7,19,112,5,141,128,339,700,189,716,11,33,0,25,5,49,156,383,700,{"v":1493,"d":"1,493"},186,74,28,0,3,0,10,35,258,254,392,{"v":1376,"d":"1,376"},153,32,15,0,0,0,0,13,172,271,596,{"v":1132,"d":"1,132"},356,20,11,1,0,7,0,0,344,434,601,980,275,362,{"v":2236,"d":"2,236"},{"v":4432,"d":"4,432"},{"v":5278,"d":"5,278"},{"v":5106,"d":"5,106"},{"v":5392,"d":"5,392"},{"v":5114,"d":"5,114"},{"v":5322,"d":"5,322"},{"v":4906,"d":"4,906"},{"v":5706,"d":"5,706"},{"v":10752,"d":"10,752"},{"v":5057,"d":"5,057"},{"v":5843,"d":"5,843"},{"v":3431,"d":"3,431"},{"v":4272,"d":"4,272"},{"v":3790,"d":"3,790"},{"v":4279,"d":"4,279"},{"v":4465,"d":"4,465"},{"v":5388,"d":"5,388"},{"v":4896,"d":"4,896"},{"v":6614,"d":"6,614"},{"v":8937,"d":"8,937"},{"v":10793,"d":"10,793"},{"v":6019,"d":"6,019"},{"v":5990,"d":"5,990"},{"v":5736,"d":"5,736"},{"v":5709,"d":"5,709"},{"v":5221,"d":"5,221"},{"v":4616,"d":"4,616"},{"v":4120,"d":"4,120"},{"v":5701,"d":"5,701"},{"v":5439,"d":"5,439"},{"v":6196,"d":"6,196"},{"v":8858,"d":"8,858"},{"v":11293,"d":"11,293"},{"v":6607,"d":"6,607"},{"v":6329,"d":"6,329"},{"v":6227,"d":"6,227"},{"v":5983,"d":"5,983"},{"v":5558,"d":"5,558"},{"v":5722,"d":"5,722"},{"v":6855,"d":"6,855"},{"v":5319,"d":"5,319"},{"v":6449,"d":"6,449"},{"v":5830,"d":"5,830"},{"v":8386,"d":"8,386"},{"v":10717,"d":"10,717"},{"v":6177,"d":"6,177"},{"v":6146,"d":"6,146"},{"v":6415,"d":"6,415"},{"v":5702,"d":"5,702"},{"v":5832,"d":"5,832"},{"v":6224,"d":"6,224"},{"v":5632,"d":"5,632"},{"v":6191,"d":"6,191"},{"v":6184,"d":"6,184"},{"v":6536,"d":"6,536"},{"v":7688,"d":"7,688"},{"v":11003,"d":"11,003"},{"v":6969,"d":"6,969"},{"v":6623,"d":"6,623"},{"v":7165,"d":"7,165"},{"v":8481,"d":"8,481"},{"v":6937,"d":"6,937"},{"v":7923,"d":"7,923"},{"v":7806,"d":"7,806"},{"v":8203,"d":"8,203"},{"v":8147,"d":"8,147"},{"v":8009,"d":"8,009"},{"v":11031,"d":"11,031"},{"v":13375,"d":"13,375"},{"v":8250,"d":"8,250"},{"v":8647,"d":"8,647"},{"v":8187,"d":"8,187"},{"v":9476,"d":"9,476"},{"v":8539,"d":"8,539"},{"v":8339,"d":"8,339"},{"v":9584,"d":"9,584"},{"v":7782,"d":"7,782"},{"v":10169,"d":"10,169"},{"v":9073,"d":"9,073"},{"v":12178,"d":"12,178"},{"v":14630,"d":"14,630"},{"v":9464,"d":"9,464"},{"v":9014,"d":"9,014"},{"v":9565,"d":"9,565"},{"v":9440,"d":"9,440"},{"v":8927,"d":"8,927"},{"v":8858,"d":"8,858"},{"v":7790,"d":"7,790"},{"v":9541,"d":"9,541"},{"v":8885,"d":"8,885"},{"v":10515,"d":"10,515"},{"v":12602,"d":"12,602"},{"v":14969,"d":"14,969"},{"v":9909,"d":"9,909"},{"v":9042,"d":"9,042"},{"v":9027,"d":"9,027"},{"v":9631,"d":"9,631"},{"v":8745,"d":"8,745"},{"v":9120,"d":"9,120"},{"v":9629,"d":"9,629"},{"v":8495,"d":"8,495"},{"v":9539,"d":"9,539"},{"v":9170,"d":"9,170"},{"v":13421,"d":"13,421"},{"v":14574,"d":"14,574"},{"v":9522,"d":"9,522"},{"v":9107,"d":"9,107"},{"v":9485,"d":"9,485"},{"v":10056,"d":"10,056"},{"v":9081,"d":"9,081"},{"v":8981,"d":"8,981"},{"v":8650,"d":"8,650"},{"v":10574,"d":"10,574"},{"v":9985,"d":"9,985"},{"v":10947,"d":"10,947"},{"v":12434,"d":"12,434"},{"v":15383,"d":"15,383"},{"v":9836,"d":"9,836"},{"v":10183,"d":"10,183"},{"v":10267,"d":"10,267"},{"v":10794,"d":"10,794"},{"v":9342,"d":"9,342"},{"v":10160,"d":"10,160"},{"v":3032,"d":"3,032"},10,{"v":1043,"d":"1,043"},{"v":10296,"d":"10,296"},{"v":13627,"d":"13,627"},{"v":15209,"d":"15,209"},{"v":12219,"d":"12,219"},{"v":9529,"d":"9,529"},430,84,28,79,110,120,{"v":4563,"d":"4,563"},{"v":11576,"d":"11,576"},{"v":14711,"d":"14,711"},{"v":15615,"d":"15,615"},{"v":12079,"d":"12,079"},{"v":11101,"d":"11,101"},{"v":6096,"d":"6,096"},{"v":6161,"d":"6,161"},{"v":8006,"d":"8,006"},{"v":8191,"d":"8,191"},{"v":7742,"d":"7,742"},{"v":10950,"d":"10,950"},{"v":10086,"d":"10,086"},{"v":11226,"d":"11,226"},{"$f":"11307+1603","v":{"v":12910,"d":"12,910"}},{"v":15116,"d":"15,116"},{"v":10214,"d":"10,214"},{"v":10835,"d":"10,835"},{"v":9694,"d":"9,694"},{"v":10058,"d":"10,058"},{"v":9482,"d":"9,482"},{"v":8865,"d":"8,865"},{"v":8951,"d":"8,951"},{"v":10654,"d":"10,654"},{"v":9542,"d":"9,542"},{"v":9529,"d":"9,529"},{"v":12237,"d":"12,237"},{"v":14729,"d":"14,729"},{"v":10783,"d":"10,783"},{"v":9702,"d":"9,702"},{"v":9338,"d":"9,338"},{"v":9483,"d":"9,483"},{"v":8985,"d":"8,985"},{"v":9008,"d":"9,008"},{"v":9970,"d":"9,970"},{"v":8654,"d":"8,654"},{"v":11277,"d":"11,277"},{"v":10543,"d":"10,543"},{"v":12034,"d":"12,034"},{"v":14462,"d":"14,462"},{"v":9814,"d":"9,814"},{"v":10495,"d":"10,495"},{"v":10166,"d":"10,166"},{"v":9955,"d":"9,955"}]
["10707","Gols",95,74,66,395,769,{"v":1006,"d":"1,006"},{"v":1757,"d":"1,757"},{"v":3070,"d":"3,070"},857,799,507,126,80,50,132,275,{"v":1307,"d":"1,307"},822,{"v":1304,"d":"1,304"},{"v":2635,"d":"2,635"},{"v":1129,"d":"1,129"},690,299,145,39,104,99,341,901,882,{"v":1408,"d":"1,408"},{"v":3216,"d":"3,216"},{"v":1241,"d":"1,241"},914,471,159,143,94,105,404,858,933,{"v":1471,"d":"1,471"},{"v":2834,"d":"2,834"},955,726,429,182,84,96,15,297,698,{"v":1559,"d":"1,559"},{"v":1794,"d":"1,794"},{"v":3975,"d":"3,975"},{"v":1609,"d":"1,609"},794,522,292,147,233,244,764,{"v":1365,"d":"1,365"},{"v":1656,"d":"1,656"},{"v":2686,"d":"2,686"},{"v":3868,"d":"3,868"},{"v":1483,"d":"1,483"},{"v":1038,"d":"1,038"},836,411,217,139,205,750,{"v":2082,"d":"2,082"},{"v":1484,"d":"1,484"},{"v":2655,"d":"2,655"},{"v":4005,"d":"4,005"},{"v":2015,"d":"2,015"},{"v":1097,"d":"1,097"},940,517,161,194,233,904,{"v":1391,"d":"1,391"},{"v":1672,"d":"1,672"},{"v":2312,"d":"2,312"},{"v":3820,"d":"3,820"},{"v":1432,"d":"1,432"},844,686,621,283,51,362,700,{"v":1879,"d":"1,879"},{"v":1642,"d":"1,642"},{"v":2450,"d":"2,450"},{"v":3763,"d":"3,763"},{"v":1925,"d":"1,925"},{"v":1095,"d":"1,095"},{"v":1087,"d":"1,087"},350,263,121,202,664,{"v":1841,"d":"1,841"},{"v":1204,"d":"1,204"},{"v":3281,"d":"3,281"},{"v":4065,"d":"4,065"},{"v":2054,"d":"2,054"},{"v":1388,"d":"1,388"},728,156,300,338,846,886,{"v":2074,"d":"2,074"},{"v":2342,"d":"2,342"},{"v":3403,"d":"3,403"},{"v":4029,"d":"4,029"},{"v":1870,"d":"1,870"},{"v":1077,"d":"1,077"},716,24,250,227,406,900,{"v":1521,"d":"1,521"},{"v":1988,"d":"1,988"},{"v":2643,"d":"2,643"},{"v":3757,"d":"3,757"},{"v":2245,"d":"2,245"},{"v":1599,"d":"1,599"},{"v":1104,"d":"1,104"},0,{"v":1229,"d":"1,229"},258,787,{"v":1360,"d":"1,360"},{"v":2224,"d":"2,224"},{"v":2228,"d":"2,228"},{"v":3379,"d":"3,379"},{"v":4199,"d":"4,199"},{"v":1838,"d":"1,838"},{"v":1298,"d":"1,298"},892,298,300,336,189,{"v":1028,"d":"1,028"},{"v":2019,"d":"2,019"},{"v":2049,"d":"2,049"},{"v":3591,"d":"3,591"},{"v":4360,"d":"4,360"},{"v":2448,"d":"2,448"},{"v":1373,"d":"1,373"},{"v":1118,"d":"1,118"},365,409,195,566,{"v":1133,"d":"1,133"},{"v":1683,"d":"1,683"},{"v":1583,"d":"1,583"},{"v":2715,"d":"2,715"},{"v":3403,"d":"3,403"},{"v":2230,"d":"2,230"},{"v":1382,"d":"1,382"},999,284,247,143,114,{"v":1167,"d":"1,167"},{"v":1444,"d":"1,444"},{"v":2043,"d":"2,043"},{"v":3258,"d":"3,258"},{"v":4260,"d":"4,260"},{"v":1704,"d":"1,704"},655,{"v":1103,"d":"1,103"},293,375,294,390,973,{"v":1334,"d":"1,334"},{"v":1986,"d":"1,986"},{"v":2662,"d":"2,662"},{"v":4080,"d":"4,080"},{"v":2521,"d":"2,521"},{"v":1164,"d":"1,164"},{"v":1063,"d":"1,063"},404,189,222,251,{"v":1343,"d":"1,343"},{"v":1825,"d":"1,825"},{"v":2042,"d":"2,042"},{"v":2920,"d":"2,920"},{"v":4074,"d":"4,074"},{"v":1803,"d":"1,803"},818,{"v":1091,"d":"1,091"},297,295,60,609,{"v":1042,"d":"1,042"},{"v":1958,"d":"1,958"},{"v":2387,"d":"2,387"},{"v":3139,"d":"3,139"},{"v":4232,"d":"4,232"},{"v":2012,"d":"2,012"},{"v":1473,"d":"1,473"},{"v":1074,"d":"1,074"},271,310,234,566,{"v":1752,"d":"1,752"},{"v":2103,"d":"2,103"},{"v":3077,"d":"3,077"},{"v":3136,"d":"3,136"},{"v":4310,"d":"4,310"},{"v":2254,"d":"2,254"},{"v":1857,"d":"1,857"},{"v":1301,"d":"1,301"},359,402,337,569,{"v":1830,"d":"1,830"},{"v":3066,"d":"3,066"},{"v":2866,"d":"2,866"},{"v":4163,"d":"4,163"},{"v":4664,"d":"4,664"},{"v":2869,"d":"2,869"},{"v":2052,"d":"2,052"},{"v":3407,"d":"3,407"},{"v":2140,"d":"2,140"},576,668,{"v":1929,"d":"1,929"},{"v":2138,"d":"2,138"},{"v":2774,"d":"2,774"},{"v":4792,"d":"4,792"},{"v":4084,"d":"4,084"},{"v":4966,"d":"4,966"},{"v":3357,"d":"3,357"},{"v":1776,"d":"1,776"},{"v":1798,"d":"1,798"},{"v":1640,"d":"1,640"},711,{"v":1655,"d":"1,655"},{"v":1664,"d":"1,664"},{"v":2831,"d":"2,831"},{"v":3661,"d":"3,661"},{"v":3123,"d":"3,123"},{"v":3837,"d":"3,837"},{"v":4728,"d":"4,728"},{"v":2729,"d":"2,729"},{"v":1851,"d":"1,851"},{"v":2089,"d":"2,089"},728,490,551,{"v":3049,"d":"3,049"},{"v":2602,"d":"2,602"},{"v":2711,"d":"2,711"},{"v":3400,"d":"3,400"},{"v":3748,"d":"3,748"},{"v":4418,"d":"4,418"},{"v":3448,"d":"3,448"},{"v":2337,"d":"2,337"},{"v":2134,"d":"2,134"},743,723,645,210,296,819,{"v":2372,"d":"2,372"},{"v":5198,"d":"5,198"},{"v":6593,"d":"6,593"},{"v":3579,"d":"3,579"},{"v":1591,"d":"1,591"},691,177,224,967,427,450,{"v":1070,"d":"1,070"},{"v":3077,"d":"3,077"},{"v":4640,"d":"4,640"},{"v":6223,"d":"6,223"},{"v":3731,"d":"3,731"},{"v":2497,"d":"2,497"},{"v":1337,"d":"1,337"},248,662,635,976,{"v":2045,"d":"2,045"},{"v":3127,"d":"3,127"},{"v":3646,"d":"3,646"},{"v":3646,"d":"3,646"},{"v":5065,"d":"5,065"},{"v":3748,"d":"3,748"},{"v":2595,"d":"2,595"},{"v":2148,"d":"2,148"},715,681,815,{"v":1331,"d":"1,331"},{"v":1554,"d":"1,554"},{"v":2075,"d":"2,075"},{"v":2509,"d":"2,509"},{"v":3369,"d":"3,369"},{"v":4508,"d":"4,508"},{"v":2764,"d":"2,764"},{"v":2079,"d":"2,079"},{"v":1277,"d":"1,277"},457,496,642,987,{"v":1920,"d":"1,920"},{"v":3161,"d":"3,161"},{"v":3445,"d":"3,445"},{"v":4489,"d":"4,489"},{"v":5272,"d":"5,272"},{"v":3140,"d":"3,140"},{"v":2760,"d":"2,760"},{"v":2310,"d":"2,310"},{"v":1096,"d":"1,096"}]
[10708,"Halbturn (bis 4/99) (ab 11/13)",10,0,14,50,88,120,45,259,14,15,45,20,0,15,11,0,14,26,46,147,21,0,25,24,0,0,0,11,4,6,48,279,182,0,98,0,0,0,0,0,0,0,0,0,0,0,0,0,0,0,0,0,{"$nulls":162},228,47,77,20,119,270,333,390,484,725,338,361,268,84,99,57,151,93,302,346,371,619,367,271,202,79,26,58,106,181,341,286,423,514,432,317,212,65,85,57,35,548,318,310,234,340,346,186,251,60,38,25,20,63,177,117,331,234,174,119,58,72,153,227,240,557,546,650,741,979,639,538,530,247,261,283,116,36,104,842,{"v":1303,"d":"1,303"},{"v":1406,"d":"1,406"},{"v":1188,"d":"1,188"},985,113,59,2,4,1,2,354,{"v":1063,"d":"1,063"},{"v":1210,"d":"1,210"},{"v":1592,"d":"1,592"},{"v":1093,"d":"1,093"},977,542,27,534,610,357,780,872,818,859,936,635,662,495,229,280,471,284,607,475,610,456,766,622,552,640,177,228,547,503,335,494,569,714,954,627,707,650,341]
[10304,"Hornstein (bis 4/99) (ab 11/15 bis 10/17)",0,7,31,185,162,94,75,74,148,42,0,0,0,0,0,94,60,52,66,113,191,45,0,0,22,23,21,53,105,83,146,177,174,39,0,0,0,0,0,0,0,0,0,0,0,0,0,0,0,0,0,0,{"$nulls":185},0,0,0,0,0,0,0,48,69,128,69,108,0,0,0,0,0,0,0,90,96,124,81,32,0,0,0,0,0,0,0,0,0,0,0,0,0,0,{"$nulls":69},0,0,0,0]
["10709","Illmitz",0,0,657,{"v":4282,"d":"4,282"},{"v":18538,"d":"18,538"},{"v":15586,"d":"15,586"},{"v":27047,"d":"27,047"},{"v":38479,"d":"38,479"},{"v":15895,"d":"15,895"},{"v":6885,"d":"6,885"},788,391,0,0,797,{"v":3987,"d":"3,987"},{"v":21092,"d":"21,092"},{"v":13147,"d":"13,147"},{"v":24815,"d":"24,815"},{"v":38832,"d":"38,832"},{"v":16704,"d":"16,704"},{"v":6836,"d":"6,836"},302,244,0,156,174,{"v":4590,"d":"4,590"},{"v":19290,"d":"19,290"},{"v":16378,"d":"16,378"},{"v":23633,"d":"23,633"},{"v":40012,"d":"40,012"},{"v":17213,"d":"17,213"},{"v":6960,"d":"6,960"},771,154,0,191,324,{"v":3917,"d":"3,917"},{"v":20728,"d":"20,728"},{"v":17190,"d":"17,190"},{"v":27522,"d":"27,522"},{"v":43228,"d":"43,228"},{"v":19461,"d":"19,461"},{"v":6838,"d":"6,838"},936,159,0,0,651,{"v":6160,"d":"6,160"},{"v":17329,"d":"17,329"},{"v":22551,"d":"22,551"},{"v":29458,"d":"29,458"},{"v":48090,"d":"48,090"},{"v":20778,"d":"20,778"},{"v":4438,"d":"4,438"},{"v":2510,"d":"2,510"},127,0,0,843,{"v":8788,"d":"8,788"},{"v":20051,"d":"20,051"},{"v":21693,"d":"21,693"},{"v":33786,"d":"33,786"},{"v":46127,"d":"46,127"},{"v":19541,"d":"19,541"},{"v":6753,"d":"6,753"},{"v":2553,"d":"2,553"},114,0,0,{"v":1039,"d":"1,039"},{"v":4906,"d":"4,906"},{"v":24444,"d":"24,444"},{"v":19202,"d":"19,202"},{"v":32550,"d":"32,550"},{"v":45735,"d":"45,735"},{"v":20937,"d":"20,937"},{"v":6448,"d":"6,448"},{"v":6062,"d":"6,062"},172,0,0,540,{"v":6523,"d":"6,523"},{"v":20988,"d":"20,988"},{"v":23652,"d":"23,652"},{"v":29329,"d":"29,329"},{"v":42199,"d":"42,199"},{"v":20502,"d":"20,502"},{"v":5746,"d":"5,746"},{"v":2738,"d":"2,738"},{"$f":"1414+2372","v":{"v":3786,"d":"3,786"}},0,0,{"v":1491,"d":"1,491"},{"v":6950,"d":"6,950"},{"v":20586,"d":"20,586"},{"v":18999,"d":"18,999"},{"v":29339,"d":"29,339"},{"v":42343,"d":"42,343"},{"v":19530,"d":"19,530"},{"v":5064,"d":"5,064"},{"v":2364,"d":"2,364"},362,0,0,{"v":1821,"d":"1,821"},{"v":4151,"d":"4,151"},{"v":23843,"d":"23,843"},{"v":16716,"d":"16,716"},{"v":29418,"d":"29,418"},{"v":41435,"d":"41,435"},{"v":20622,"d":"20,622"},{"v":5938,"d":"5,938"},{"v":3762,"d":"3,762"},248,0,0,{"v":1728,"d":"1,728"},{"v":5553,"d":"5,553"},{"v":16425,"d":"16,425"},{"v":17918,"d":"17,918"},{"v":25917,"d":"25,917"},{"v":37393,"d":"37,393"},{"v":20797,"d":"20,797"},{"v":5933,"d":"5,933"},{"v":4068,"d":"4,068"},573,450,443,716,{"v":7052,"d":"7,052"},{"v":17769,"d":"17,769"},{"v":17108,"d":"17,108"},{"v":27730,"d":"27,730"},{"v":40232,"d":"40,232"},{"v":19089,"d":"19,089"},{"v":6305,"d":"6,305"},{"v":4516,"d":"4,516"},285,473,541,897,{"v":6062,"d":"6,062"},{"v":23913,"d":"23,913"},{"v":16611,"d":"16,611"},{"v":28101,"d":"28,101"},{"v":40462,"d":"40,462"},{"v":18951,"d":"18,951"},{"v":6217,"d":"6,217"},{"v":4582,"d":"4,582"},295,441,542,764,{"v":7039,"d":"7,039"},{"v":21853,"d":"21,853"},{"v":17951,"d":"17,951"},{"v":29532,"d":"29,532"},{"v":41018,"d":"41,018"},{"v":21125,"d":"21,125"},{"v":6721,"d":"6,721"},{"v":5134,"d":"5,134"},264,495,426,{"v":1330,"d":"1,330"},{"v":7842,"d":"7,842"},{"v":21187,"d":"21,187"},{"v":17980,"d":"17,980"},{"v":26642,"d":"26,642"},{"v":40308,"d":"40,308"},{"v":20957,"d":"20,957"},{"v":7220,"d":"7,220"},{"v":5776,"d":"5,776"},381,438,402,{"v":1066,"d":"1,066"},{"v":9051,"d":"9,051"},{"v":18248,"d":"18,248"},{"v":21134,"d":"21,134"},{"v":26730,"d":"26,730"},{"v":39998,"d":"39,998"},{"v":20034,"d":"20,034"},{"v":6525,"d":"6,525"},{"v":5555,"d":"5,555"},283,111,61,{"v":1137,"d":"1,137"},{"v":10612,"d":"10,612"},{"v":20403,"d":"20,403"},{"v":18428,"d":"18,428"},{"v":24888,"d":"24,888"},{"v":40694,"d":"40,694"},{"v":21345,"d":"21,345"},{"v":6823,"d":"6,823"},{"v":5943,"d":"5,943"},617,299,368,{"v":1203,"d":"1,203"},{"v":8508,"d":"8,508"},{"v":20366,"d":"20,366"},{"v":17341,"d":"17,341"},{"v":24737,"d":"24,737"},{"v":36068,"d":"36,068"},{"v":18961,"d":"18,961"},{"v":6011,"d":"6,011"},{"v":6115,"d":"6,115"},443,491,434,{"v":1051,"d":"1,051"},{"v":9992,"d":"9,992"},{"v":18593,"d":"18,593"},{"v":20153,"d":"20,153"},{"v":24640,"d":"24,640"},{"v":35077,"d":"35,077"},{"v":16422,"d":"16,422"},{"v":5616,"d":"5,616"},{"v":5745,"d":"5,745"},325,404,347,{"v":1055,"d":"1,055"},{"v":9238,"d":"9,238"},{"v":18850,"d":"18,850"},{"v":17292,"d":"17,292"},{"v":25558,"d":"25,558"},{"v":33187,"d":"33,187"},{"v":18152,"d":"18,152"},{"v":6045,"d":"6,045"},{"v":6015,"d":"6,015"},281,488,337,{"v":1163,"d":"1,163"},{"v":9474,"d":"9,474"},{"v":20540,"d":"20,540"},{"v":16545,"d":"16,545"},{"v":26599,"d":"26,599"},{"v":34095,"d":"34,095"},{"v":19584,"d":"19,584"},{"v":6902,"d":"6,902"},{"v":5901,"d":"5,901"},389,397,340,{"v":3073,"d":"3,073"},{"v":9841,"d":"9,841"},{"v":18305,"d":"18,305"},{"v":21559,"d":"21,559"},{"v":25708,"d":"25,708"},{"v":34763,"d":"34,763"},{"v":17839,"d":"17,839"},{"v":6569,"d":"6,569"},{"v":6307,"d":"6,307"},496,509,381,876,{"v":12286,"d":"12,286"},{"v":20109,"d":"20,109"},{"v":18709,"d":"18,709"},{"v":24851,"d":"24,851"},{"v":31132,"d":"31,132"},{"v":18515,"d":"18,515"},{"v":6911,"d":"6,911"},{"v":6522,"d":"6,522"},599,711,401,{"v":3080,"d":"3,080"},{"v":12146,"d":"12,146"},{"v":17517,"d":"17,517"},{"v":21412,"d":"21,412"},{"v":23983,"d":"23,983"},{"v":32929,"d":"32,929"},{"v":18642,"d":"18,642"},{"v":6877,"d":"6,877"},{"v":6725,"d":"6,725"},506,662,647,334,114,{"v":1950,"d":"1,950"},{"v":16097,"d":"16,097"},{"v":26980,"d":"26,980"},{"v":36644,"d":"36,644"},{"v":22663,"d":"22,663"},{"v":5636,"d":"5,636"},355,122,93,82,113,50,{"v":6003,"d":"6,003"},{"v":18237,"d":"18,237"},{"v":26805,"d":"26,805"},{"v":33922,"d":"33,922"},{"v":22007,"d":"22,007"},{"v":8691,"d":"8,691"},{"v":4537,"d":"4,537"},154,177,92,{"v":1951,"d":"1,951"},{"v":9615,"d":"9,615"},{"v":15090,"d":"15,090"},{"v":18046,"d":"18,046"},{"v":21342,"d":"21,342"},{"v":26204,"d":"26,204"},{"v":14227,"d":"14,227"},{"v":4936,"d":"4,936"},{"v":4924,"d":"4,924"},349,187,512,{"v":2172,"d":"2,172"},{"v":8486,"d":"8,486"},{"v":13719,"d":"13,719"},{"v":15805,"d":"15,805"},{"v":21390,"d":"21,390"},{"v":26417,"d":"26,417"},{"v":14635,"d":"14,635"},{"v":5181,"d":"5,181"},{"v":4763,"d":"4,763"},497,711,318,{"v":1563,"d":"1,563"},{"v":9230,"d":"9,230"},{"v":16982,"d":"16,982"},{"v":13546,"d":"13,546"},{"v":19572,"d":"19,572"},{"v":23670,"d":"23,670"},{"v":12413,"d":"12,413"},{"v":4811,"d":"4,811"},{"v":5267,"d":"5,267"},326]
["10710","Jois",0,0,61,176,{"v":5665,"d":"5,665"},{"v":8618,"d":"8,618"},{"v":4937,"d":"4,937"},{"v":6526,"d":"6,526"},{"v":2235,"d":"2,235"},892,194,196,221,113,125,822,{"v":4742,"d":"4,742"},{"$f":"7854-384","v":{"v":7470,"d":"7,470"}},{"v":3847,"d":"3,847"},{"v":4701,"d":"4,701"},{"v":2896,"d":"2,896"},{"v":1249,"d":"1,249"},361,75,10,8,142,350,{"v":6915,"d":"6,915"},{"v":6119,"d":"6,119"},{"v":6149,"d":"6,149"},{"v":7450,"d":"7,450"},{"v":2254,"d":"2,254"},{"v":1243,"d":"1,243"},398,123,37,4,170,545,{"v":4818,"d":"4,818"},{"v":9825,"d":"9,825"},{"v":5475,"d":"5,475"},{"v":8394,"d":"8,394"},{"v":2024,"d":"2,024"},{"v":1353,"d":"1,353"},433,640,267,126,257,997,{"v":4598,"d":"4,598"},{"v":6505,"d":"6,505"},{"v":6272,"d":"6,272"},{"v":9141,"d":"9,141"},{"v":3852,"d":"3,852"},{"v":1193,"d":"1,193"},385,90,216,130,138,367,{"v":5676,"d":"5,676"},{"v":6435,"d":"6,435"},{"v":6151,"d":"6,151"},{"v":9733,"d":"9,733"},{"v":2833,"d":"2,833"},{"v":1136,"d":"1,136"},918,232,102,52,140,{"v":1045,"d":"1,045"},{"v":3914,"d":"3,914"},{"v":5394,"d":"5,394"},{"v":6735,"d":"6,735"},{"v":10714,"d":"10,714"},{"v":3649,"d":"3,649"},788,644,141,63,83,109,365,{"v":5116,"d":"5,116"},{"v":6690,"d":"6,690"},{"v":7895,"d":"7,895"},{"v":8812,"d":"8,812"},{"v":2731,"d":"2,731"},{"v":1287,"d":"1,287"},998,87,5,6,181,{"v":1139,"d":"1,139"},{"v":4142,"d":"4,142"},{"v":4725,"d":"4,725"},{"v":6765,"d":"6,765"},{"v":9771,"d":"9,771"},{"v":3251,"d":"3,251"},{"v":1285,"d":"1,285"},554,92,74,6,77,{"v":1133,"d":"1,133"},{"v":3753,"d":"3,753"},{"v":5924,"d":"5,924"},{"v":5671,"d":"5,671"},{"v":8033,"d":"8,033"},{"v":2698,"d":"2,698"},{"v":1016,"d":"1,016"},539,266,57,51,123,799,{"v":4342,"d":"4,342"},{"v":4933,"d":"4,933"},{"v":5122,"d":"5,122"},{"v":6722,"d":"6,722"},{"v":2788,"d":"2,788"},{"v":1317,"d":"1,317"},670,51,8,14,147,587,{"v":2331,"d":"2,331"},{"v":3945,"d":"3,945"},{"v":4905,"d":"4,905"},{"v":7351,"d":"7,351"},{"v":2989,"d":"2,989"},{"v":1276,"d":"1,276"},506,91,86,108,52,363,{"v":3469,"d":"3,469"},{"v":3984,"d":"3,984"},{"v":6378,"d":"6,378"},{"v":7842,"d":"7,842"},{"v":2821,"d":"2,821"},{"v":1149,"d":"1,149"},989,320,307,0,155,341,{"v":2644,"d":"2,644"},{"v":3146,"d":"3,146"},{"v":3461,"d":"3,461"},{"v":5998,"d":"5,998"},{"v":2433,"d":"2,433"},869,693,71,202,0,0,416,{"v":2238,"d":"2,238"},{"v":3505,"d":"3,505"},{"v":4786,"d":"4,786"},{"v":8062,"d":"8,062"},{"v":3283,"d":"3,283"},{"v":1164,"d":"1,164"},{"v":1074,"d":"1,074"},139,73,62,445,683,{"v":1923,"d":"1,923"},{"v":4205,"d":"4,205"},{"v":4565,"d":"4,565"},{"v":6997,"d":"6,997"},{"v":2491,"d":"2,491"},{"v":1399,"d":"1,399"},{"v":1347,"d":"1,347"},115,218,359,249,{"v":1148,"d":"1,148"},{"v":2807,"d":"2,807"},{"v":3895,"d":"3,895"},{"v":4941,"d":"4,941"},{"v":8036,"d":"8,036"},{"v":3695,"d":"3,695"},{"v":1692,"d":"1,692"},{"v":1394,"d":"1,394"},228,272,200,569,{"v":1357,"d":"1,357"},{"v":3554,"d":"3,554"},{"v":3257,"d":"3,257"},{"v":5609,"d":"5,609"},{"v":7124,"d":"7,124"},{"v":3439,"d":"3,439"},{"v":1512,"d":"1,512"},{"v":1226,"d":"1,226"},86,295,285,454,{"v":1260,"d":"1,260"},{"v":3093,"d":"3,093"},{"v":3232,"d":"3,232"},{"v":5665,"d":"5,665"},{"v":6060,"d":"6,060"},{"v":2944,"d":"2,944"},{"v":1248,"d":"1,248"},984,52,201,700,253,{"v":1127,"d":"1,127"},{"v":3355,"d":"3,355"},{"v":3404,"d":"3,404"},{"v":6038,"d":"6,038"},{"v":6173,"d":"6,173"},{"v":3438,"d":"3,438"},{"v":1979,"d":"1,979"},{"v":1285,"d":"1,285"},190,119,558,825,{"v":1806,"d":"1,806"},{"v":3722,"d":"3,722"},{"v":3343,"d":"3,343"},{"v":6092,"d":"6,092"},{"v":6177,"d":"6,177"},{"v":3559,"d":"3,559"},{"v":2587,"d":"2,587"},{"v":1018,"d":"1,018"},178,482,583,953,{"v":2728,"d":"2,728"},{"v":3404,"d":"3,404"},{"v":4942,"d":"4,942"},{"v":6268,"d":"6,268"},{"v":7067,"d":"7,067"},{"v":4024,"d":"4,024"},{"v":2570,"d":"2,570"},{"v":1809,"d":"1,809"},398,548,489,944,{"v":2635,"d":"2,635"},{"v":4047,"d":"4,047"},{"v":4648,"d":"4,648"},{"v":6184,"d":"6,184"},{"v":6893,"d":"6,893"},{"v":4105,"d":"4,105"},{"v":2671,"d":"2,671"},{"v":2215,"d":"2,215"},670,673,676,{"v":1307,"d":"1,307"},{"v":2771,"d":"2,771"},{"v":4383,"d":"4,383"},{"v":4988,"d":"4,988"},{"v":6579,"d":"6,579"},{"v":7774,"d":"7,774"},{"v":4494,"d":"4,494"},{"v":2973,"d":"2,973"},{"v":2348,"d":"2,348"},789,925,539,512,193,667,{"v":4095,"d":"4,095"},{"v":5970,"d":"5,970"},{"v":7799,"d":"7,799"},{"v":5402,"d":"5,402"},{"v":2715,"d":"2,715"},301,191,132,295,531,352,{"v":1954,"d":"1,954"},{"v":4773,"d":"4,773"},{"v":6821,"d":"6,821"},{"v":8053,"d":"8,053"},{"v":4940,"d":"4,940"},{"v":3928,"d":"3,928"},{"v":1376,"d":"1,376"},233,465,545,685,{"v":3024,"d":"3,024"},{"v":4125,"d":"4,125"},{"v":4966,"d":"4,966"},{"v":6279,"d":"6,279"},{"v":6889,"d":"6,889"},{"v":4618,"d":"4,618"},{"v":3179,"d":"3,179"},{"v":2115,"d":"2,115"},528,340,355,971,{"v":3095,"d":"3,095"},{"v":3792,"d":"3,792"},{"v":4620,"d":"4,620"},{"v":6369,"d":"6,369"},{"v":7229,"d":"7,229"},{"v":4078,"d":"4,078"},{"v":2484,"d":"2,484"},{"v":1885,"d":"1,885"},538,276,285,{"v":1187,"d":"1,187"},{"v":2318,"d":"2,318"},{"v":4707,"d":"4,707"},{"v":4336,"d":"4,336"},{"v":6321,"d":"6,321"},{"v":6963,"d":"6,963"},{"v":4078,"d":"4,078"},{"v":2904,"d":"2,904"},{"v":1838,"d":"1,838"},561]
["10711","Kittsee (ab 11/09)",{"$nulls":166},149,74,23,47,9,75,207,41,110,218,137,112,128,93,11,192,172,117,161,85,115,147,153,112,94,6,74,0,5,87,154,226,385,276,452,357,357,284,{"v":1624,"d":"1,624"},{"v":2161,"d":"2,161"},{"v":2737,"d":"2,737"},{"v":2699,"d":"2,699"},{"v":2782,"d":"2,782"},{"v":2844,"d":"2,844"},{"v":2546,"d":"2,546"},{"v":2536,"d":"2,536"},{"v":2713,"d":"2,713"},{"v":3063,"d":"3,063"},{"v":3014,"d":"3,014"},{"v":2205,"d":"2,205"},{"v":2291,"d":"2,291"},{"v":2376,"d":"2,376"},{"v":2591,"d":"2,591"},{"v":2810,"d":"2,810"},{"v":2874,"d":"2,874"},{"v":2748,"d":"2,748"},{"v":2827,"d":"2,827"},{"v":2633,"d":"2,633"},{"v":2741,"d":"2,741"},{"v":2946,"d":"2,946"},{"v":2900,"d":"2,900"},{"v":1970,"d":"1,970"},{"v":2113,"d":"2,113"},{"v":2469,"d":"2,469"},{"v":3077,"d":"3,077"},{"v":2863,"d":"2,863"},{"v":3103,"d":"3,103"},{"v":3023,"d":"3,023"},{"v":3038,"d":"3,038"},{"v":2990,"d":"2,990"},{"v":3298,"d":"3,298"},{"v":3375,"d":"3,375"},{"v":3002,"d":"3,002"},{"v":1932,"d":"1,932"},{"v":2211,"d":"2,211"},{"v":2562,"d":"2,562"},{"v":3136,"d":"3,136"},{"v":3039,"d":"3,039"},{"v":3080,"d":"3,080"},{"v":3162,"d":"3,162"},{"v":3143,"d":"3,143"},{"v":3208,"d":"3,208"},{"v":3023,"d":"3,023"},{"v":3221,"d":"3,221"},{"v":3107,"d":"3,107"},{"v":2796,"d":"2,796"},{"v":2930,"d":"2,930"},{"v":2796,"d":"2,796"},{"v":3069,"d":"3,069"},{"v":2992,"d":"2,992"},{"v":3091,"d":"3,091"},{"v":3079,"d":"3,079"},{"v":3167,"d":"3,167"},{"v":3203,"d":"3,203"},{"v":3078,"d":"3,078"},{"v":3080,"d":"3,080"},{"v":2987,"d":"2,987"},{"v":2496,"d":"2,496"},{"v":2862,"d":"2,862"},{"v":2703,"d":"2,703"},{"v":3198,"d":"3,198"},{"v":3168,"d":"3,168"},{"v":3176,"d":"3,176"},{"v":3208,"d":"3,208"},{"v":3448,"d":"3,448"},{"v":3360,"d":"3,360"},{"v":3380,"d":"3,380"},{"v":3415,"d":"3,415"},{"v":3254,"d":"3,254"},{"v":2758,"d":"2,758"},{"v":2997,"d":"2,997"},{"v":2948,"d":"2,948"},{"v":3359,"d":"3,359"},{"v":3269,"d":"3,269"},{"v":3322,"d":"3,322"},{"v":3103,"d":"3,103"},{"v":3509,"d":"3,509"},{"v":3408,"d":"3,408"},{"v":3191,"d":"3,191"},{"v":3360,"d":"3,360"},{"v":3156,"d":"3,156"},{"v":2947,"d":"2,947"},{"v":2975,"d":"2,975"},{"v":3010,"d":"3,010"},{"v":1637,"d":"1,637"},703,{"v":1449,"d":"1,449"},{"v":2061,"d":"2,061"},{"v":2651,"d":"2,651"},{"v":2839,"d":"2,839"},{"v":2853,"d":"2,853"},{"v":3121,"d":"3,121"},{"v":2782,"d":"2,782"},{"v":2352,"d":"2,352"},{"v":2332,"d":"2,332"},{"v":2388,"d":"2,388"},{"v":2848,"d":"2,848"},{"v":2776,"d":"2,776"},{"v":2972,"d":"2,972"},{"v":2731,"d":"2,731"},{"v":3087,"d":"3,087"},{"v":2971,"d":"2,971"},{"v":3048,"d":"3,048"},{"v":3072,"d":"3,072"},{"v":2943,"d":"2,943"},{"v":3006,"d":"3,006"},{"v":2977,"d":"2,977"},{"v":2726,"d":"2,726"},{"v":1372,"d":"1,372"},{"v":2946,"d":"2,946"},{"v":3228,"d":"3,228"},{"v":3071,"d":"3,071"},{"v":2916,"d":"2,916"},{"v":3016,"d":"3,016"},{"v":3020,"d":"3,020"},{"v":3213,"d":"3,213"},{"v":2996,"d":"2,996"},{"v":3080,"d":"3,080"},{"v":3007,"d":"3,007"},{"v":2786,"d":"2,786"},{"v":3026,"d":"3,026"},{"v":3914,"d":"3,914"},{"v":4856,"d":"4,856"},{"v":3480,"d":"3,480"},{"v":3309,"d":"3,309"},{"v":3227,"d":"3,227"},{"v":3050,"d":"3,050"},{"v":3280,"d":"3,280"},{"v":3124,"d":"3,124"},{"v":2968,"d":"2,968"},{"v":3124,"d":"3,124"},{"v":2956,"d":"2,956"},{"v":3398,"d":"3,398"},{"v":3328,"d":"3,328"},{"v":3517,"d":"3,517"},{"v":3482,"d":"3,482"},{"v":3491,"d":"3,491"},{"v":3471,"d":"3,471"},{"v":3391,"d":"3,391"},{"v":3485,"d":"3,485"},{"v":3336,"d":"3,336"},{"v":2779,"d":"2,779"}]
[10305,"Klingenbach (ab11/15)",{"$nulls":237},0,444,248,186,248,236,239,437,340,934,788,608,348,187,152,128,29,69,221,578,687,618,728,550,387,197,206,72,221,172,226,422,866,640,758,417,458,305,151,82,99,312,451,640,677,989,{"v":1146,"d":"1,146"},619,810,607,534,253,215,97,211,265,696,{"v":1098,"d":"1,098"},{"v":1669,"d":"1,669"},967,619,100,110,138,204,106,291,357,620,{"v":1209,"d":"1,209"},{"v":1719,"d":"1,719"},{"v":1131,"d":"1,131"},947,203,61,83,143,341,510,875,958,{"v":1263,"d":"1,263"},{"v":1205,"d":"1,205"},858,701,400,188,146,178,288,535,460,464,{"v":1277,"d":"1,277"},{"v":1145,"d":"1,145"},769,593,545,205,163,153,220,336,641,445,{"v":1200,"d":"1,200"},{"v":1195,"d":"1,195"},380,565,419,191]
["10712","Mönchhof",{"v":4203,"d":"4,203"},{"v":3928,"d":"3,928"},{"v":4002,"d":"4,002"},{"v":4178,"d":"4,178"},{"v":4254,"d":"4,254"},{"v":3299,"d":"3,299"},{"v":3355,"d":"3,355"},{"v":4138,"d":"4,138"},{"v":4671,"d":"4,671"},{"v":4278,"d":"4,278"},{"v":3477,"d":"3,477"},{"v":1412,"d":"1,412"},{"v":4599,"d":"4,599"},{"v":3747,"d":"3,747"},{"v":4193,"d":"4,193"},{"v":4725,"d":"4,725"},{"v":4512,"d":"4,512"},{"v":3504,"d":"3,504"},{"v":3880,"d":"3,880"},{"v":4403,"d":"4,403"},{"v":4337,"d":"4,337"},{"v":3724,"d":"3,724"},{"v":3823,"d":"3,823"},{"v":1488,"d":"1,488"},{"v":4242,"d":"4,242"},{"v":3191,"d":"3,191"},{"v":3663,"d":"3,663"},{"v":4127,"d":"4,127"},{"v":4291,"d":"4,291"},{"v":3463,"d":"3,463"},{"v":3630,"d":"3,630"},{"v":3739,"d":"3,739"},{"v":4042,"d":"4,042"},{"v":4104,"d":"4,104"},{"v":4042,"d":"4,042"},{"v":1429,"d":"1,429"},{"v":4480,"d":"4,480"},{"v":3225,"d":"3,225"},{"v":3102,"d":"3,102"},{"v":3927,"d":"3,927"},{"v":3712,"d":"3,712"},{"v":2863,"d":"2,863"},{"v":3248,"d":"3,248"},{"v":3263,"d":"3,263"},{"v":3419,"d":"3,419"},{"v":3796,"d":"3,796"},{"v":3519,"d":"3,519"},{"v":1268,"d":"1,268"},{"v":3830,"d":"3,830"},{"v":3090,"d":"3,090"},{"v":3104,"d":"3,104"},{"v":4012,"d":"4,012"},{"v":3975,"d":"3,975"},{"v":2704,"d":"2,704"},{"v":3707,"d":"3,707"},{"v":3110,"d":"3,110"},{"v":3401,"d":"3,401"},{"v":3510,"d":"3,510"},{"v":3493,"d":"3,493"},{"v":1584,"d":"1,584"},{"v":3682,"d":"3,682"},{"v":3147,"d":"3,147"},{"v":3173,"d":"3,173"},{"v":3960,"d":"3,960"},{"v":3871,"d":"3,871"},{"v":2228,"d":"2,228"},{"v":3469,"d":"3,469"},{"v":3574,"d":"3,574"},{"v":3361,"d":"3,361"},{"v":3693,"d":"3,693"},{"v":4090,"d":"4,090"},770,{"v":3428,"d":"3,428"},{"v":3257,"d":"3,257"},{"v":3123,"d":"3,123"},{"v":3885,"d":"3,885"},{"v":2877,"d":"2,877"},{"v":2491,"d":"2,491"},{"v":3306,"d":"3,306"},{"v":3612,"d":"3,612"},{"v":3312,"d":"3,312"},{"v":3584,"d":"3,584"},{"v":3546,"d":"3,546"},767,{"v":3770,"d":"3,770"},{"v":2727,"d":"2,727"},{"v":2386,"d":"2,386"},{"v":3565,"d":"3,565"},{"v":3558,"d":"3,558"},{"v":2020,"d":"2,020"},{"v":3205,"d":"3,205"},{"v":3215,"d":"3,215"},{"v":3527,"d":"3,527"},{"v":3189,"d":"3,189"},{"v":3642,"d":"3,642"},781,{"v":3712,"d":"3,712"},{"v":2549,"d":"2,549"},{"v":2389,"d":"2,389"},{"v":3130,"d":"3,130"},{"v":3137,"d":"3,137"},{"v":1800,"d":"1,800"},{"v":2731,"d":"2,731"},{"v":3688,"d":"3,688"},{"v":3080,"d":"3,080"},{"v":3461,"d":"3,461"},{"v":3540,"d":"3,540"},{"v":1133,"d":"1,133"},{"v":3111,"d":"3,111"},{"v":2646,"d":"2,646"},{"v":2826,"d":"2,826"},{"v":3032,"d":"3,032"},{"v":2820,"d":"2,820"},{"v":1428,"d":"1,428"},{"v":3491,"d":"3,491"},{"v":4392,"d":"4,392"},{"v":3519,"d":"3,519"},{"v":3688,"d":"3,688"},{"v":3273,"d":"3,273"},{"v":2260,"d":"2,260"},{"v":3092,"d":"3,092"},{"v":2602,"d":"2,602"},{"v":2702,"d":"2,702"},{"v":3740,"d":"3,740"},{"v":3210,"d":"3,210"},{"v":1997,"d":"1,997"},{"v":3363,"d":"3,363"},{"v":3409,"d":"3,409"},{"v":3407,"d":"3,407"},{"v":3517,"d":"3,517"},{"v":3344,"d":"3,344"},{"v":2324,"d":"2,324"},{"v":2850,"d":"2,850"},{"v":2751,"d":"2,751"},{"v":2725,"d":"2,725"},{"v":3579,"d":"3,579"},{"v":3325,"d":"3,325"},{"v":2512,"d":"2,512"},{"v":3003,"d":"3,003"},{"v":3264,"d":"3,264"},{"v":3365,"d":"3,365"},{"v":3775,"d":"3,775"},{"v":3230,"d":"3,230"},{"v":1983,"d":"1,983"},{"v":2516,"d":"2,516"},{"v":3142,"d":"3,142"},{"v":2473,"d":"2,473"},{"v":2985,"d":"2,985"},{"v":2993,"d":"2,993"},{"v":2312,"d":"2,312"},{"v":2913,"d":"2,913"},{"v":2959,"d":"2,959"},{"v":2856,"d":"2,856"},{"v":2823,"d":"2,823"},{"v":2560,"d":"2,560"},{"v":2159,"d":"2,159"},{"v":2351,"d":"2,351"},{"v":2192,"d":"2,192"},{"v":2189,"d":"2,189"},{"v":3180,"d":"3,180"},{"v":2939,"d":"2,939"},{"v":2163,"d":"2,163"},{"v":2998,"d":"2,998"},{"v":3033,"d":"3,033"},{"v":3004,"d":"3,004"},{"v":2734,"d":"2,734"},{"v":2633,"d":"2,633"},{"v":1712,"d":"1,712"},{"v":2079,"d":"2,079"},{"v":1712,"d":"1,712"},{"v":1775,"d":"1,775"},{"v":2032,"d":"2,032"},{"v":2344,"d":"2,344"},{"v":1641,"d":"1,641"},{"v":3031,"d":"3,031"},{"v":3508,"d":"3,508"},{"v":2435,"d":"2,435"},{"v":2034,"d":"2,034"},{"v":1962,"d":"1,962"},{"v":1764,"d":"1,764"},{"v":1888,"d":"1,888"},{"v":1671,"d":"1,671"},{"v":2143,"d":"2,143"},{"v":2588,"d":"2,588"},{"v":2341,"d":"2,341"},{"v":1947,"d":"1,947"},{"v":2982,"d":"2,982"},{"v":3226,"d":"3,226"},{"v":2285,"d":"2,285"},{"v":2295,"d":"2,295"},{"v":2237,"d":"2,237"},{"v":1834,"d":"1,834"},{"v":1681,"d":"1,681"},{"v":1557,"d":"1,557"},{"v":1894,"d":"1,894"},{"v":3021,"d":"3,021"},{"v":3451,"d":"3,451"},{"v":3269,"d":"3,269"},{"v":3448,"d":"3,448"},{"v":3590,"d":"3,590"},{"v":2996,"d":"2,996"},{"v":3276,"d":"3,276"},{"v":2842,"d":"2,842"},{"v":2079,"d":"2,079"},{"v":2847,"d":"2,847"},{"v":2739,"d":"2,739"},{"v":3093,"d":"3,093"},{"v":3020,"d":"3,020"},{"v":3079,"d":"3,079"},{"v":2718,"d":"2,718"},{"v":3060,"d":"3,060"},{"v":4084,"d":"4,084"},{"v":3149,"d":"3,149"},{"v":2735,"d":"2,735"},{"v":2782,"d":"2,782"},{"v":1936,"d":"1,936"},{"v":2374,"d":"2,374"},{"v":2483,"d":"2,483"},{"v":2408,"d":"2,408"},{"v":3095,"d":"3,095"},{"v":3028,"d":"3,028"},{"v":3051,"d":"3,051"},{"v":3245,"d":"3,245"},{"v":3891,"d":"3,891"},{"v":3134,"d":"3,134"},{"v":3363,"d":"3,363"},{"v":1180,"d":"1,180"},{"v":1829,"d":"1,829"},{"v":2592,"d":"2,592"},{"v":2280,"d":"2,280"},{"v":2731,"d":"2,731"},{"v":3261,"d":"3,261"},{"v":3462,"d":"3,462"},{"v":2981,"d":"2,981"},{"v":3082,"d":"3,082"},{"v":3607,"d":"3,607"},{"v":2725,"d":"2,725"},{"v":3206,"d":"3,206"},{"v":2271,"d":"2,271"},{"v":2054,"d":"2,054"},{"v":2230,"d":"2,230"},{"v":2197,"d":"2,197"},{"v":2724,"d":"2,724"},{"$f":"2836+243","v":{"v":3079,"d":"3,079"}},{"v":3406,"d":"3,406"},{"v":2875,"d":"2,875"},{"v":3633,"d":"3,633"},{"v":4140,"d":"4,140"},{"v":2771,"d":"2,771"},{"v":2978,"d":"2,978"},{"v":2227,"d":"2,227"},{"v":1849,"d":"1,849"},{"v":1885,"d":"1,885"},{"v":2087,"d":"2,087"},{"v":2240,"d":"2,240"},{"v":2630,"d":"2,630"},{"v":2643,"d":"2,643"},{"v":2761,"d":"2,761"},{"v":3328,"d":"3,328"},{"v":3400,"d":"3,400"},{"v":2497,"d":"2,497"},{"v":2547,"d":"2,547"},{"v":2222,"d":"2,222"},{"v":1987,"d":"1,987"},423,203,137,247,521,569,{"v":1019,"d":"1,019"},{"v":1314,"d":"1,314"},594,417,189,145,234,153,219,{"v":1933,"d":"1,933"},{"v":2084,"d":"2,084"},{"v":1360,"d":"1,360"},{"v":1922,"d":"1,922"},{"v":2501,"d":"2,501"},{"v":1671,"d":"1,671"},{"v":1458,"d":"1,458"},{"v":1379,"d":"1,379"},{"v":1038,"d":"1,038"},{"v":1570,"d":"1,570"},{"v":1543,"d":"1,543"},880,30,73,422,{"v":1159,"d":"1,159"},{"v":2170,"d":"2,170"},{"v":2027,"d":"2,027"},{"v":1721,"d":"1,721"},{"v":1456,"d":"1,456"},783,{"v":1344,"d":"1,344"},{"v":1386,"d":"1,386"},{"v":1672,"d":"1,672"},{"v":1634,"d":"1,634"},{"v":1777,"d":"1,777"},{"v":1931,"d":"1,931"},{"v":2214,"d":"2,214"},{"v":2986,"d":"2,986"},{"v":1472,"d":"1,472"},{"v":1567,"d":"1,567"},{"v":1536,"d":"1,536"},{"v":1025,"d":"1,025"},{"v":1488,"d":"1,488"},{"v":1266,"d":"1,266"},{"v":1884,"d":"1,884"},{"v":1898,"d":"1,898"},{"v":1678,"d":"1,678"},{"v":1435,"d":"1,435"},{"v":1483,"d":"1,483"},{"v":1978,"d":"1,978"},{"v":1581,"d":"1,581"},{"v":1519,"d":"1,519"},{"v":1292,"d":"1,292"},957,{"v":1098,"d":"1,098"},{"v":1287,"d":"1,287"},{"v":1674,"d":"1,674"},{"v":1671,"d":"1,671"},{"v":1264,"d":"1,264"},{"v":1115,"d":"1,115"},{"v":1327,"d":"1,327"},{"v":2083,"d":"2,083"},{"v":1047,"d":"1,047"},{"v":1341,"d":"1,341"},{"v":1052,"d":"1,052"},515,909,{"v":1349,"d":"1,349"},{"v":1438,"d":"1,438"},{"v":1070,"d":"1,070"},{"v":1497,"d":"1,497"},{"v":1000,"d":"1,000"},{"v":1648,"d":"1,648"},{"v":1976,"d":"1,976"},{"v":1025,"d":"1,025"},{"v":1544,"d":"1,544"},{"v":1527,"d":"1,527"},815]
["10307","Mörbisch a. See",122,4,115,{"v":2220,"d":"2,220"},{"v":12621,"d":"12,621"},{"v":15519,"d":"15,519"},{"v":26983,"d":"26,983"},{"v":36066,"d":"36,066"},{"v":12442,"d":"12,442"},{"v":6322,"d":"6,322"},172,992,132,0,382,{"v":2223,"d":"2,223"},{"v":13401,"d":"13,401"},{"v":13127,"d":"13,127"},{"v":24063,"d":"24,063"},{"v":34411,"d":"34,411"},{"v":12735,"d":"12,735"},{"v":4774,"d":"4,774"},140,149,224,223,19,{"v":4036,"d":"4,036"},{"v":13027,"d":"13,027"},{"v":18798,"d":"18,798"},{"v":25422,"d":"25,422"},{"v":38006,"d":"38,006"},{"v":13353,"d":"13,353"},{"v":5133,"d":"5,133"},182,184,580,18,453,{"v":3157,"d":"3,157"},{"v":12944,"d":"12,944"},{"v":16938,"d":"16,938"},{"v":29355,"d":"29,355"},{"v":37391,"d":"37,391"},{"v":12822,"d":"12,822"},{"v":5996,"d":"5,996"},5,493,417,0,295,{"v":4479,"d":"4,479"},{"v":16147,"d":"16,147"},{"v":18478,"d":"18,478"},{"v":28605,"d":"28,605"},{"v":37857,"d":"37,857"},{"v":12113,"d":"12,113"},{"v":3714,"d":"3,714"},63,298,155,2,214,{"v":4289,"d":"4,289"},{"v":12601,"d":"12,601"},{"v":17817,"d":"17,817"},{"v":31511,"d":"31,511"},{"v":39130,"d":"39,130"},{"v":12566,"d":"12,566"},{"v":6554,"d":"6,554"},{"v":1051,"d":"1,051"},567,147,10,111,{"v":4128,"d":"4,128"},{"v":15409,"d":"15,409"},{"v":15307,"d":"15,307"},{"v":32712,"d":"32,712"},{"v":40830,"d":"40,830"},{"v":13691,"d":"13,691"},{"v":5369,"d":"5,369"},468,703,386,56,238,{"v":4878,"d":"4,878"},{"v":11971,"d":"11,971"},{"v":18278,"d":"18,278"},{"v":32153,"d":"32,153"},{"v":37514,"d":"37,514"},{"v":15252,"d":"15,252"},{"v":5070,"d":"5,070"},107,156,150,0,{"v":1994,"d":"1,994"},{"v":3844,"d":"3,844"},{"v":13508,"d":"13,508"},{"v":14636,"d":"14,636"},{"v":28214,"d":"28,214"},{"v":39205,"d":"39,205"},{"v":13855,"d":"13,855"},{"v":5488,"d":"5,488"},103,124,109,0,422,{"v":2587,"d":"2,587"},{"v":13381,"d":"13,381"},{"v":14034,"d":"14,034"},{"v":27817,"d":"27,817"},{"v":35696,"d":"35,696"},{"v":13374,"d":"13,374"},{"v":5306,"d":"5,306"},220,8,0,57,52,{"v":3126,"d":"3,126"},{"v":9392,"d":"9,392"},{"v":13041,"d":"13,041"},{"v":25817,"d":"25,817"},{"v":30877,"d":"30,877"},{"v":12982,"d":"12,982"},{"v":4417,"d":"4,417"},71,53,25,13,20,{"v":2858,"d":"2,858"},{"v":9297,"d":"9,297"},{"v":13593,"d":"13,593"},{"v":28762,"d":"28,762"},{"v":33385,"d":"33,385"},{"v":12690,"d":"12,690"},{"v":2668,"d":"2,668"},197,329,95,12,140,{"v":2975,"d":"2,975"},{"v":13502,"d":"13,502"},{"v":11635,"d":"11,635"},{"v":29572,"d":"29,572"},{"v":33482,"d":"33,482"},{"v":13405,"d":"13,405"},{"v":5386,"d":"5,386"},92,17,21,4,25,{"v":3246,"d":"3,246"},{"v":11729,"d":"11,729"},{"v":15058,"d":"15,058"},{"v":29480,"d":"29,480"},{"v":33132,"d":"33,132"},{"v":13927,"d":"13,927"},{"v":4873,"d":"4,873"},599,453,355,425,128,{"v":2670,"d":"2,670"},{"v":9569,"d":"9,569"},{"v":13369,"d":"13,369"},{"v":25438,"d":"25,438"},{"v":31768,"d":"31,768"},{"v":11670,"d":"11,670"},{"v":3946,"d":"3,946"},60,356,149,0,40,{"v":3412,"d":"3,412"},{"v":9611,"d":"9,611"},{"v":16994,"d":"16,994"},{"v":25772,"d":"25,772"},{"v":30052,"d":"30,052"},{"v":14069,"d":"14,069"},{"v":4538,"d":"4,538"},70,80,43,40,108,{"v":3797,"d":"3,797"},{"v":10374,"d":"10,374"},{"v":14164,"d":"14,164"},{"v":27038,"d":"27,038"},{"v":32768,"d":"32,768"},{"v":14336,"d":"14,336"},{"v":4261,"d":"4,261"},149,15,24,11,292,{"v":2382,"d":"2,382"},{"v":11907,"d":"11,907"},{"v":13673,"d":"13,673"},{"v":27338,"d":"27,338"},{"v":29733,"d":"29,733"},{"v":12626,"d":"12,626"},{"v":3726,"d":"3,726"},155,77,23,4,69,{"$f":"3040+16","v":{"v":3056,"d":"3,056"}},{"v":10462,"d":"10,462"},{"$f":"14395+89","v":{"v":14484,"d":"14,484"}},{"v":27802,"d":"27,802"},{"v":28557,"d":"28,557"},{"v":12444,"d":"12,444"},{"v":3331,"d":"3,331"},326,90,83,54,137,{"v":3276,"d":"3,276"},{"v":11281,"d":"11,281"},{"v":14344,"d":"14,344"},{"v":26655,"d":"26,655"},{"$f":"25749+99","v":{"v":25848,"d":"25,848"}},{"v":12878,"d":"12,878"},{"v":3272,"d":"3,272"},533,114,102,44,375,{"v":1908,"d":"1,908"},{"v":12689,"d":"12,689"},{"v":12903,"d":"12,903"},{"v":26888,"d":"26,888"},{"v":25816,"d":"25,816"},{"v":14042,"d":"14,042"},{"v":3537,"d":"3,537"},590,78,{"$f":"124+9","v":133},18,{"$f":"125+44","v":169},{"v":4074,"d":"4,074"},{"v":10416,"d":"10,416"},{"v":16751,"d":"16,751"},{"v":26163,"d":"26,163"},{"v":27654,"d":"27,654"},{"v":13086,"d":"13,086"},{"v":3857,"d":"3,857"},557,161,168,39,475,{"v":4555,"d":"4,555"},{"v":13203,"d":"13,203"},{"v":15141,"d":"15,141"},{"v":25945,"d":"25,945"},{"v":27682,"d":"27,682"},{"v":12997,"d":"12,997"},{"v":4288,"d":"4,288"},749,156,167,73,131,{"v":5375,"d":"5,375"},{"v":11006,"d":"11,006"},{"v":17949,"d":"17,949"},{"v":26495,"d":"26,495"},{"v":28893,"d":"28,893"},{"v":14480,"d":"14,480"},{"v":4482,"d":"4,482"},827,145,202,42,31,1,{"v":1008,"d":"1,008"},{"v":12337,"d":"12,337"},{"v":23323,"d":"23,323"},{"v":29523,"d":"29,523"},{"v":17494,"d":"17,494"},{"v":4539,"d":"4,539"},59,11,33,36,47,65,{"v":4255,"d":"4,255"},{"v":15395,"d":"15,395"},{"v":26279,"d":"26,279"},{"v":29428,"d":"29,428"},{"v":18365,"d":"18,365"},{"v":6294,"d":"6,294"},840,180,152,189,441,{"v":5280,"d":"5,280"},{"v":11387,"d":"11,387"},{"v":16602,"d":"16,602"},{"v":22673,"d":"22,673"},{"v":22978,"d":"22,978"},{"v":11370,"d":"11,370"},{"v":4165,"d":"4,165"},653,293,279,225,190,{"v":4140,"d":"4,140"},{"v":9114,"d":"9,114"},{"v":13464,"d":"13,464"},{"v":24357,"d":"24,357"},{"v":26621,"d":"26,621"},{"v":13509,"d":"13,509"},{"v":4331,"d":"4,331"},{"v":1077,"d":"1,077"},219,151,207,850,{"v":3838,"d":"3,838"},{"v":11330,"d":"11,330"},{"v":11807,"d":"11,807"},{"v":24900,"d":"24,900"},{"v":23976,"d":"23,976"},{"v":10421,"d":"10,421"},{"v":4014,"d":"4,014"},{"v":1580,"d":"1,580"},829]
["10713","Neusiedl a. See",{"v":1693,"d":"1,693"},{"v":1136,"d":"1,136"},{"v":3544,"d":"3,544"},{"v":7691,"d":"7,691"},{"v":13554,"d":"13,554"},{"v":16313,"d":"16,313"},{"v":14888,"d":"14,888"},{"v":17381,"d":"17,381"},{"v":10498,"d":"10,498"},{"v":8014,"d":"8,014"},{"v":3014,"d":"3,014"},{"v":2277,"d":"2,277"},{"v":1823,"d":"1,823"},{"v":1304,"d":"1,304"},{"v":3270,"d":"3,270"},{"v":6088,"d":"6,088"},{"v":13299,"d":"13,299"},{"v":12258,"d":"12,258"},{"v":12690,"d":"12,690"},{"v":16653,"d":"16,653"},{"v":9208,"d":"9,208"},{"v":6086,"d":"6,086"},{"v":2926,"d":"2,926"},{"v":2599,"d":"2,599"},{"v":1954,"d":"1,954"},{"v":1732,"d":"1,732"},{"v":3263,"d":"3,263"},{"v":5279,"d":"5,279"},{"v":12430,"d":"12,430"},{"v":12459,"d":"12,459"},{"v":13081,"d":"13,081"},{"v":18119,"d":"18,119"},{"v":9041,"d":"9,041"},{"v":5733,"d":"5,733"},{"v":2777,"d":"2,777"},{"v":2050,"d":"2,050"},{"v":1830,"d":"1,830"},{"v":1345,"d":"1,345"},{"v":3234,"d":"3,234"},{"v":5924,"d":"5,924"},{"v":11675,"d":"11,675"},{"v":13238,"d":"13,238"},{"v":12971,"d":"12,971"},{"v":17779,"d":"17,779"},{"v":8924,"d":"8,924"},{"v":4674,"d":"4,674"},{"v":2649,"d":"2,649"},{"v":2546,"d":"2,546"},{"v":2042,"d":"2,042"},{"v":1679,"d":"1,679"},{"v":3429,"d":"3,429"},{"v":6065,"d":"6,065"},{"v":11176,"d":"11,176"},{"v":12154,"d":"12,154"},{"v":13489,"d":"13,489"},{"v":17644,"d":"17,644"},{"v":9138,"d":"9,138"},{"v":5939,"d":"5,939"},{"v":4254,"d":"4,254"},{"v":2704,"d":"2,704"},{"v":2869,"d":"2,869"},{"v":2980,"d":"2,980"},{"v":4278,"d":"4,278"},{"v":7255,"d":"7,255"},{"v":10706,"d":"10,706"},{"v":13584,"d":"13,584"},{"v":14436,"d":"14,436"},{"v":18724,"d":"18,724"},{"v":8507,"d":"8,507"},{"v":6511,"d":"6,511"},{"v":4256,"d":"4,256"},{"v":2257,"d":"2,257"},{"v":3621,"d":"3,621"},{"v":2669,"d":"2,669"},{"v":4690,"d":"4,690"},{"v":6985,"d":"6,985"},{"v":11917,"d":"11,917"},{"v":12009,"d":"12,009"},{"v":14576,"d":"14,576"},{"v":17753,"d":"17,753"},{"v":11170,"d":"11,170"},{"v":6724,"d":"6,724"},{"v":3859,"d":"3,859"},{"v":2071,"d":"2,071"},{"v":2739,"d":"2,739"},{"v":2039,"d":"2,039"},{"v":3874,"d":"3,874"},{"v":6666,"d":"6,666"},{"v":11701,"d":"11,701"},{"v":12172,"d":"12,172"},{"v":13665,"d":"13,665"},{"v":16631,"d":"16,631"},{"v":8807,"d":"8,807"},{"v":5631,"d":"5,631"},{"v":4539,"d":"4,539"},{"v":3052,"d":"3,052"},{"v":3174,"d":"3,174"},{"v":2765,"d":"2,765"},{"v":4673,"d":"4,673"},{"v":7020,"d":"7,020"},{"v":9311,"d":"9,311"},{"v":10582,"d":"10,582"},{"v":12255,"d":"12,255"},{"v":16359,"d":"16,359"},{"v":9183,"d":"9,183"},{"v":5227,"d":"5,227"},{"v":4564,"d":"4,564"},{"v":3192,"d":"3,192"},{"v":4291,"d":"4,291"},{"v":3321,"d":"3,321"},{"v":5367,"d":"5,367"},{"v":8586,"d":"8,586"},{"v":11589,"d":"11,589"},{"v":12993,"d":"12,993"},{"v":14012,"d":"14,012"},{"v":16671,"d":"16,671"},{"v":9593,"d":"9,593"},{"v":7159,"d":"7,159"},{"v":5435,"d":"5,435"},{"v":3571,"d":"3,571"},{"v":3479,"d":"3,479"},{"v":2312,"d":"2,312"},{"v":4919,"d":"4,919"},{"v":6418,"d":"6,418"},{"v":16281,"d":"16,281"},{"v":11315,"d":"11,315"},{"v":13121,"d":"13,121"},{"v":14930,"d":"14,930"},{"v":9009,"d":"9,009"},{"v":6592,"d":"6,592"},{"v":5570,"d":"5,570"},{"v":3359,"d":"3,359"},{"v":2970,"d":"2,970"},{"v":3171,"d":"3,171"},{"v":5117,"d":"5,117"},{"v":7137,"d":"7,137"},{"v":8936,"d":"8,936"},{"v":10522,"d":"10,522"},{"v":12240,"d":"12,240"},{"v":15275,"d":"15,275"},{"v":8440,"d":"8,440"},{"v":6912,"d":"6,912"},{"$f":"4946+843","v":{"v":5789,"d":"5,789"}},{"v":3386,"d":"3,386"},{"v":3563,"d":"3,563"},{"v":2382,"d":"2,382"},{"v":4835,"d":"4,835"},{"v":6367,"d":"6,367"},{"v":11628,"d":"11,628"},{"v":12043,"d":"12,043"},{"v":12793,"d":"12,793"},{"v":15899,"d":"15,899"},{"v":8883,"d":"8,883"},{"v":6899,"d":"6,899"},{"v":5063,"d":"5,063"},{"v":3563,"d":"3,563"},{"v":3895,"d":"3,895"},{"v":3234,"d":"3,234"},{"v":5229,"d":"5,229"},{"v":6243,"d":"6,243"},{"$f":"10063+496","v":{"v":10559,"d":"10,559"}},{"v":11087,"d":"11,087"},{"v":13447,"d":"13,447"},{"v":15151,"d":"15,151"},{"v":8000,"d":"8,000"},{"v":4894,"d":"4,894"},{"v":4090,"d":"4,090"},{"v":2274,"d":"2,274"},{"v":2588,"d":"2,588"},{"v":2536,"d":"2,536"},{"v":5178,"d":"5,178"},{"v":6321,"d":"6,321"},{"v":9270,"d":"9,270"},{"v":10356,"d":"10,356"},{"v":11657,"d":"11,657"},{"v":15336,"d":"15,336"},{"v":8125,"d":"8,125"},{"v":5643,"d":"5,643"},{"v":4754,"d":"4,754"},{"v":2947,"d":"2,947"},{"v":3083,"d":"3,083"},{"v":2630,"d":"2,630"},{"v":4388,"d":"4,388"},{"v":7725,"d":"7,725"},{"v":12216,"d":"12,216"},{"v":11153,"d":"11,153"},{"v":12264,"d":"12,264"},{"v":14307,"d":"14,307"},{"v":8269,"d":"8,269"},{"v":5944,"d":"5,944"},{"v":4904,"d":"4,904"},{"v":3225,"d":"3,225"},{"v":3247,"d":"3,247"},{"v":2665,"d":"2,665"},{"v":4661,"d":"4,661"},{"v":6370,"d":"6,370"},{"v":8082,"d":"8,082"},{"v":9604,"d":"9,604"},{"v":12174,"d":"12,174"},{"v":13807,"d":"13,807"},{"v":7906,"d":"7,906"},{"v":5885,"d":"5,885"},{"v":5559,"d":"5,559"},{"v":3012,"d":"3,012"},{"v":3321,"d":"3,321"},{"v":2312,"d":"2,312"},{"v":4722,"d":"4,722"},{"v":5109,"d":"5,109"},{"v":7646,"d":"7,646"},{"v":8962,"d":"8,962"},{"v":10130,"d":"10,130"},{"v":11929,"d":"11,929"},{"v":7222,"d":"7,222"},{"v":5735,"d":"5,735"},{"v":4353,"d":"4,353"},{"v":2697,"d":"2,697"},{"v":2496,"d":"2,496"},{"v":1973,"d":"1,973"},{"v":2841,"d":"2,841"},{"v":4606,"d":"4,606"},{"v":7698,"d":"7,698"},{"v":9034,"d":"9,034"},{"v":10288,"d":"10,288"},{"v":11102,"d":"11,102"},{"v":6648,"d":"6,648"},{"v":4941,"d":"4,941"},{"v":3361,"d":"3,361"},{"v":1745,"d":"1,745"},{"v":2463,"d":"2,463"},{"v":1965,"d":"1,965"},{"v":3116,"d":"3,116"},{"v":4216,"d":"4,216"},{"v":6409,"d":"6,409"},{"v":8940,"d":"8,940"},{"v":10243,"d":"10,243"},{"v":10114,"d":"10,114"},{"v":6179,"d":"6,179"},{"v":2865,"d":"2,865"},{"v":3410,"d":"3,410"},{"v":2021,"d":"2,021"},{"v":2185,"d":"2,185"},{"v":2024,"d":"2,024"},{"v":3895,"d":"3,895"},{"v":4019,"d":"4,019"},{"v":7420,"d":"7,420"},{"v":7784,"d":"7,784"},{"v":9010,"d":"9,010"},{"v":9427,"d":"9,427"},{"v":6198,"d":"6,198"},{"v":4174,"d":"4,174"},{"v":3446,"d":"3,446"},{"v":2524,"d":"2,524"},{"v":2035,"d":"2,035"},{"v":1388,"d":"1,388"},{"v":2789,"d":"2,789"},{"v":6031,"d":"6,031"},{"v":6141,"d":"6,141"},{"v":7289,"d":"7,289"},{"v":7867,"d":"7,867"},{"v":9836,"d":"9,836"},{"v":6186,"d":"6,186"},{"v":3894,"d":"3,894"},{"v":4237,"d":"4,237"},{"v":1934,"d":"1,934"},{"v":2341,"d":"2,341"},{"v":1442,"d":"1,442"},{"v":2601,"d":"2,601"},{"v":4210,"d":"4,210"},{"v":6730,"d":"6,730"},{"v":7066,"d":"7,066"},{"v":8307,"d":"8,307"},{"v":9633,"d":"9,633"},{"v":5798,"d":"5,798"},{"v":4475,"d":"4,475"},{"v":3872,"d":"3,872"},{"v":2305,"d":"2,305"},{"v":2847,"d":"2,847"},{"v":1760,"d":"1,760"},{"v":2532,"d":"2,532"},{"v":4369,"d":"4,369"},{"v":6135,"d":"6,135"},{"v":7664,"d":"7,664"},{"v":8983,"d":"8,983"},{"v":9760,"d":"9,760"},{"v":5587,"d":"5,587"},{"v":4487,"d":"4,487"},{"v":3803,"d":"3,803"},{"v":2145,"d":"2,145"},{"v":2391,"d":"2,391"},{"v":1346,"d":"1,346"},984,422,{"v":1146,"d":"1,146"},{"v":4877,"d":"4,877"},{"v":9618,"d":"9,618"},{"v":13324,"d":"13,324"},{"v":7245,"d":"7,245"},{"v":3576,"d":"3,576"},690,517,475,513,832,883,{"v":2736,"d":"2,736"},{"v":6368,"d":"6,368"},{"v":10093,"d":"10,093"},{"v":13144,"d":"13,144"},{"v":8050,"d":"8,050"},{"v":5261,"d":"5,261"},{"v":2622,"d":"2,622"},{"v":1129,"d":"1,129"},{"v":1110,"d":"1,110"},{"v":1214,"d":"1,214"},{"v":1908,"d":"1,908"},{"v":4222,"d":"4,222"},{"v":5820,"d":"5,820"},{"v":8017,"d":"8,017"},{"v":9171,"d":"9,171"},{"v":11436,"d":"11,436"},{"v":6172,"d":"6,172"},{"v":4483,"d":"4,483"},{"v":3258,"d":"3,258"},{"v":2513,"d":"2,513"},{"v":1740,"d":"1,740"},{"v":1401,"d":"1,401"},{"v":2307,"d":"2,307"},{"v":4130,"d":"4,130"},{"v":5714,"d":"5,714"},{"v":6318,"d":"6,318"},{"v":8849,"d":"8,849"},{"v":10531,"d":"10,531"},{"v":6197,"d":"6,197"},{"v":4241,"d":"4,241"},{"v":3543,"d":"3,543"},{"v":2432,"d":"2,432"},{"v":1627,"d":"1,627"},{"v":1330,"d":"1,330"},{"v":2964,"d":"2,964"},{"v":3373,"d":"3,373"},{"v":6513,"d":"6,513"},{"v":6208,"d":"6,208"},{"v":9846,"d":"9,846"},{"v":11873,"d":"11,873"},{"v":6191,"d":"6,191"},{"v":4792,"d":"4,792"},{"v":3821,"d":"3,821"},{"v":3350,"d":"3,350"}]
["10714","Nickelsdorf",198,31,274,343,430,331,746,848,416,359,409,329,286,26,106,229,374,363,718,597,339,246,349,277,152,106,153,336,537,339,547,605,321,374,271,204,195,148,272,263,409,387,486,578,453,325,272,196,191,112,137,175,330,197,497,468,292,222,260,140,129,39,99,261,205,233,377,548,348,287,261,203,74,51,153,158,366,64,397,483,319,259,250,214,107,83,145,218,304,235,442,618,379,272,183,159,92,82,123,293,323,275,405,547,417,227,241,178,103,44,218,292,429,506,595,619,546,465,442,350,196,258,417,373,444,809,477,498,461,367,320,304,229,238,307,369,349,721,441,354,318,186,179,136,106,71,164,165,179,561,362,337,195,131,98,152,44,67,98,136,233,709,274,249,157,62,110,120,79,34,89,204,140,217,243,266,177,92,78,113,59,56,115,174,292,229,397,460,310,213,114,140,87,20,105,131,140,232,253,307,159,155,175,110,77,53,85,108,174,390,427,608,260,218,195,160,182,119,146,294,276,386,578,695,380,299,171,157,219,100,164,287,277,387,543,716,407,285,228,160,154,139,267,226,425,538,678,740,478,373,295,280,249,207,202,284,229,409,682,860,376,282,191,367,298,176,335,324,342,456,666,786,329,259,314,266,296,153,255,392,280,440,721,698,360,430,313,371,445,265,121,95,139,173,381,432,404,215,158,112,164,215,148,47,256,399,818,780,373,388,228,144,145,124,142,307,302,439,658,667,399,321,243,224,210,104,160,429,289,{"v":137292,"d":"137,292"},586,741,426,299,285,273,297,180,275,363,434,{"v":118579,"d":"118,579"},754,852,361,489,317,293]
["10310","Oggau a. Neusiedler See",0,0,0,263,{"v":1894,"d":"1,894"},{"v":2110,"d":"2,110"},{"v":3760,"d":"3,760"},{"v":5509,"d":"5,509"},{"v":1913,"d":"1,913"},656,0,0,0,0,36,404,{"v":2222,"d":"2,222"},{"v":1336,"d":"1,336"},{"v":2635,"d":"2,635"},{"v":5694,"d":"5,694"},{"v":1531,"d":"1,531"},712,0,0,0,0,128,713,{"v":2118,"d":"2,118"},{"v":1494,"d":"1,494"},{"v":2493,"d":"2,493"},{"v":5103,"d":"5,103"},{"v":1655,"d":"1,655"},641,47,0,0,0,0,286,{"v":1932,"d":"1,932"},{"v":1590,"d":"1,590"},{"v":3031,"d":"3,031"},{"v":5730,"d":"5,730"},{"v":1356,"d":"1,356"},755,86,13,32,11,10,617,852,{"v":2394,"d":"2,394"},{"v":2556,"d":"2,556"},{"v":6226,"d":"6,226"},{"v":1771,"d":"1,771"},518,72,0,14,0,3,422,{"v":1082,"d":"1,082"},{"v":1956,"d":"1,956"},{"v":3483,"d":"3,483"},{"v":5588,"d":"5,588"},{"v":1771,"d":"1,771"},690,97,0,0,0,87,624,{"v":2625,"d":"2,625"},{"v":1622,"d":"1,622"},{"v":4170,"d":"4,170"},{"v":5838,"d":"5,838"},{"v":1841,"d":"1,841"},782,49,0,0,0,26,779,{"v":2209,"d":"2,209"},{"v":3141,"d":"3,141"},{"v":4361,"d":"4,361"},{"v":7323,"d":"7,323"},{"v":2302,"d":"2,302"},623,131,0,0,0,0,953,{"v":2161,"d":"2,161"},{"v":1907,"d":"1,907"},{"v":4617,"d":"4,617"},{"v":6884,"d":"6,884"},{"v":2697,"d":"2,697"},701,16,0,0,0,55,496,{"v":3093,"d":"3,093"},{"v":1655,"d":"1,655"},{"v":4731,"d":"4,731"},{"v":7720,"d":"7,720"},{"v":2347,"d":"2,347"},758,22,0,0,0,0,599,{"v":1447,"d":"1,447"},{"v":2040,"d":"2,040"},{"v":4620,"d":"4,620"},{"v":6118,"d":"6,118"},{"v":3086,"d":"3,086"},722,95,0,0,0,14,936,{"v":1885,"d":"1,885"},{"v":2375,"d":"2,375"},{"v":5408,"d":"5,408"},{"v":7821,"d":"7,821"},{"v":2139,"d":"2,139"},706,104,0,0,0,102,508,{"v":3019,"d":"3,019"},{"v":1841,"d":"1,841"},{"v":5425,"d":"5,425"},{"v":7998,"d":"7,998"},{"v":2028,"d":"2,028"},696,100,0,0,0,61,847,{"v":2349,"d":"2,349"},{"v":2771,"d":"2,771"},{"v":5595,"d":"5,595"},{"v":7292,"d":"7,292"},{"v":2574,"d":"2,574"},705,57,0,0,0,17,838,{"v":2377,"d":"2,377"},{"v":2368,"d":"2,368"},{"v":5216,"d":"5,216"},{"v":7497,"d":"7,497"},{"v":3004,"d":"3,004"},590,46,0,0,0,0,878,{"v":1733,"d":"1,733"},{"v":3585,"d":"3,585"},{"v":4982,"d":"4,982"},{"v":6881,"d":"6,881"},{"v":3179,"d":"3,179"},745,44,0,0,0,11,{"v":1368,"d":"1,368"},{"v":2776,"d":"2,776"},{"v":2623,"d":"2,623"},{"v":4786,"d":"4,786"},{"v":7852,"d":"7,852"},{"v":3284,"d":"3,284"},934,113,3,0,0,2,885,{"v":3634,"d":"3,634"},{"v":2269,"d":"2,269"},{"v":4788,"d":"4,788"},{"v":5742,"d":"5,742"},{"v":2428,"d":"2,428"},854,234,8,0,0,36,950,{"v":2634,"d":"2,634"},{"v":3958,"d":"3,958"},{"v":5190,"d":"5,190"},{"v":6500,"d":"6,500"},{"v":2188,"d":"2,188"},736,153,79,85,11,16,788,{"v":2699,"d":"2,699"},{"v":3611,"d":"3,611"},{"v":4859,"d":"4,859"},{"v":5584,"d":"5,584"},{"v":2626,"d":"2,626"},511,154,0,164,0,169,749,{"v":3542,"d":"3,542"},{"v":3803,"d":"3,803"},{"v":5687,"d":"5,687"},{"v":5977,"d":"5,977"},{"v":3243,"d":"3,243"},720,138,0,135,8,64,{"v":1172,"d":"1,172"},{"v":3468,"d":"3,468"},{"v":4751,"d":"4,751"},{"v":6140,"d":"6,140"},{"v":7614,"d":"7,614"},{"v":3459,"d":"3,459"},935,100,164,143,0,41,{"v":2178,"d":"2,178"},{"v":4909,"d":"4,909"},{"v":3967,"d":"3,967"},{"v":6023,"d":"6,023"},{"v":6796,"d":"6,796"},{"v":3706,"d":"3,706"},{"v":1198,"d":"1,198"},114,25,268,0,10,{"v":1988,"d":"1,988"},{"v":2842,"d":"2,842"},{"v":5429,"d":"5,429"},{"v":6582,"d":"6,582"},{"v":9283,"d":"9,283"},{"v":3795,"d":"3,795"},{"v":1453,"d":"1,453"},114,2,129,0,4,33,445,{"v":5614,"d":"5,614"},{"v":7569,"d":"7,569"},{"v":9203,"d":"9,203"},{"v":5992,"d":"5,992"},{"v":1214,"d":"1,214"},32,24,31,25,39,39,{"v":1851,"d":"1,851"},{"v":5655,"d":"5,655"},{"v":7053,"d":"7,053"},{"v":8075,"d":"8,075"},{"v":4233,"d":"4,233"},{"v":1412,"d":"1,412"},66,24,15,16,73,{"v":1117,"d":"1,117"},{"v":3005,"d":"3,005"},{"v":4589,"d":"4,589"},{"v":4807,"d":"4,807"},{"v":5707,"d":"5,707"},{"v":2132,"d":"2,132"},{"v":1031,"d":"1,031"},89,24,58,13,37,779,{"v":2208,"d":"2,208"},{"v":2544,"d":"2,544"},{"v":5226,"d":"5,226"},{"v":6780,"d":"6,780"},{"v":2402,"d":"2,402"},{"v":1014,"d":"1,014"},63,19,71,8,89,971,{"v":3571,"d":"3,571"},{"v":3086,"d":"3,086"},{"v":5748,"d":"5,748"},{"v":6011,"d":"6,011"},{"v":1609,"d":"1,609"},705,89,103]
[10311,"Oslip (ab 11/23)",{"$nulls":334},87,57,44,103,186,261,521,389,737,889,300,293,123,138]
["10716","Pamhagen",{"v":1926,"d":"1,926"},871,711,{"v":1155,"d":"1,155"},{"v":7295,"d":"7,295"},{"v":8213,"d":"8,213"},{"v":12387,"d":"12,387"},{"v":12529,"d":"12,529"},{"v":8420,"d":"8,420"},{"v":4472,"d":"4,472"},0,290,{"v":1898,"d":"1,898"},{"v":1014,"d":"1,014"},{"v":1385,"d":"1,385"},{"v":1164,"d":"1,164"},{"v":6725,"d":"6,725"},{"v":7279,"d":"7,279"},{"v":10559,"d":"10,559"},{"v":12077,"d":"12,077"},{"v":8089,"d":"8,089"},0,0,774,{"v":1886,"d":"1,886"},{"v":1530,"d":"1,530"},{"v":1411,"d":"1,411"},{"v":3696,"d":"3,696"},{"v":8109,"d":"8,109"},{"v":8908,"d":"8,908"},{"v":11807,"d":"11,807"},{"v":13480,"d":"13,480"},{"v":8727,"d":"8,727"},{"v":3995,"d":"3,995"},0,0,{"v":2760,"d":"2,760"},{"v":2344,"d":"2,344"},{"v":2673,"d":"2,673"},{"v":5862,"d":"5,862"},{"v":9506,"d":"9,506"},{"v":9837,"d":"9,837"},{"v":11937,"d":"11,937"},{"v":14153,"d":"14,153"},{"v":9462,"d":"9,462"},{"v":8791,"d":"8,791"},{"v":2227,"d":"2,227"},{"v":3104,"d":"3,104"},{"v":3451,"d":"3,451"},{"v":2530,"d":"2,530"},{"v":2644,"d":"2,644"},{"v":6323,"d":"6,323"},{"v":8495,"d":"8,495"},{"v":9872,"d":"9,872"},{"v":13213,"d":"13,213"},{"v":14788,"d":"14,788"},{"v":10489,"d":"10,489"},{"v":9350,"d":"9,350"},{"v":2121,"d":"2,121"},{"v":2802,"d":"2,802"},{"v":3920,"d":"3,920"},{"v":2435,"d":"2,435"},{"v":3946,"d":"3,946"},{"v":8925,"d":"8,925"},{"v":8778,"d":"8,778"},{"v":11311,"d":"11,311"},{"v":14978,"d":"14,978"},{"v":13093,"d":"13,093"},{"v":7935,"d":"7,935"},{"v":8493,"d":"8,493"},{"v":5141,"d":"5,141"},{"v":2882,"d":"2,882"},{"v":3740,"d":"3,740"},{"v":2776,"d":"2,776"},{"v":6020,"d":"6,020"},{"v":6085,"d":"6,085"},{"v":9599,"d":"9,599"},{"v":9870,"d":"9,870"},{"v":12883,"d":"12,883"},{"v":14169,"d":"14,169"},{"v":7304,"d":"7,304"},{"v":9845,"d":"9,845"},{"v":2727,"d":"2,727"},{"v":2546,"d":"2,546"},{"v":3623,"d":"3,623"},{"v":3050,"d":"3,050"},{"v":3007,"d":"3,007"},{"v":8735,"d":"8,735"},{"v":8099,"d":"8,099"},{"v":12432,"d":"12,432"},{"v":12687,"d":"12,687"},{"v":14812,"d":"14,812"},{"v":8634,"d":"8,634"},{"v":9026,"d":"9,026"},{"v":3369,"d":"3,369"},{"v":2473,"d":"2,473"},{"v":3799,"d":"3,799"},{"v":2970,"d":"2,970"},{"v":2917,"d":"2,917"},{"v":8205,"d":"8,205"},{"v":6450,"d":"6,450"},{"v":9874,"d":"9,874"},{"v":11718,"d":"11,718"},{"v":15149,"d":"15,149"},{"v":8739,"d":"8,739"},{"v":8584,"d":"8,584"},{"v":1784,"d":"1,784"},{"v":2479,"d":"2,479"},{"v":3927,"d":"3,927"},{"v":2603,"d":"2,603"},{"v":5482,"d":"5,482"},{"v":5594,"d":"5,594"},{"v":9103,"d":"9,103"},{"v":8797,"d":"8,797"},{"v":12137,"d":"12,137"},{"v":14559,"d":"14,559"},{"v":7088,"d":"7,088"},{"v":6997,"d":"6,997"},8,{"v":2249,"d":"2,249"},{"v":3990,"d":"3,990"},{"v":2432,"d":"2,432"},{"v":3252,"d":"3,252"},{"v":7631,"d":"7,631"},{"v":5573,"d":"5,573"},{"v":10876,"d":"10,876"},{"v":12103,"d":"12,103"},{"v":13502,"d":"13,502"},{"v":8128,"d":"8,128"},{"v":8966,"d":"8,966"},{"v":2237,"d":"2,237"},{"v":2187,"d":"2,187"},{"v":4152,"d":"4,152"},{"v":3429,"d":"3,429"},{"v":3423,"d":"3,423"},{"v":8589,"d":"8,589"},{"v":8499,"d":"8,499"},{"v":9039,"d":"9,039"},{"v":11783,"d":"11,783"},{"v":13731,"d":"13,731"},{"v":10896,"d":"10,896"},{"v":7936,"d":"7,936"},{"v":1953,"d":"1,953"},{"v":2429,"d":"2,429"},{"v":4755,"d":"4,755"},{"v":2804,"d":"2,804"},{"v":6098,"d":"6,098"},{"v":4686,"d":"4,686"},{"v":10972,"d":"10,972"},{"v":8191,"d":"8,191"},{"v":12595,"d":"12,595"},{"v":14083,"d":"14,083"},{"v":8426,"d":"8,426"},{"v":8186,"d":"8,186"},{"v":2806,"d":"2,806"},{"v":2903,"d":"2,903"},{"v":4885,"d":"4,885"},{"v":3016,"d":"3,016"},{"v":3524,"d":"3,524"},{"v":7697,"d":"7,697"},{"v":7537,"d":"7,537"},{"v":10951,"d":"10,951"},{"v":13579,"d":"13,579"},{"v":13703,"d":"13,703"},{"v":9761,"d":"9,761"},{"v":10054,"d":"10,054"},7,{"v":2860,"d":"2,860"},{"v":5027,"d":"5,027"},{"v":2804,"d":"2,804"},{"v":4800,"d":"4,800"},{"v":4977,"d":"4,977"},{"v":8963,"d":"8,963"},{"v":9175,"d":"9,175"},{"v":12891,"d":"12,891"},{"v":14112,"d":"14,112"},{"v":8341,"d":"8,341"},{"v":8169,"d":"8,169"},{"v":2910,"d":"2,910"},{"v":2083,"d":"2,083"},{"v":4557,"d":"4,557"},{"v":2607,"d":"2,607"},{"v":3326,"d":"3,326"},{"v":5958,"d":"5,958"},{"v":6630,"d":"6,630"},{"v":10378,"d":"10,378"},{"v":12113,"d":"12,113"},{"v":13184,"d":"13,184"},{"v":7658,"d":"7,658"},{"v":7226,"d":"7,226"},{"v":2494,"d":"2,494"},{"v":2381,"d":"2,381"},{"v":5359,"d":"5,359"},{"v":2407,"d":"2,407"},{"v":3975,"d":"3,975"},{"v":6784,"d":"6,784"},{"v":7619,"d":"7,619"},{"v":9251,"d":"9,251"},{"v":12594,"d":"12,594"},{"v":13764,"d":"13,764"},{"v":7551,"d":"7,551"},{"v":7208,"d":"7,208"},{"v":3609,"d":"3,609"},{"v":2193,"d":"2,193"},{"v":5053,"d":"5,053"},{"v":2657,"d":"2,657"},{"v":6141,"d":"6,141"},{"v":4334,"d":"4,334"},{"v":10096,"d":"10,096"},{"v":8160,"d":"8,160"},{"v":11634,"d":"11,634"},{"v":12995,"d":"12,995"},{"v":7176,"d":"7,176"},{"v":7140,"d":"7,140"},{"v":2460,"d":"2,460"},{"v":2301,"d":"2,301"},{"v":5360,"d":"5,360"},{"v":3015,"d":"3,015"},{"v":3614,"d":"3,614"},{"v":7477,"d":"7,477"},{"v":7810,"d":"7,810"},{"v":9384,"d":"9,384"},{"v":11997,"d":"11,997"},{"v":14192,"d":"14,192"},{"v":6835,"d":"6,835"},{"v":7303,"d":"7,303"},{"v":3624,"d":"3,624"},{"v":2523,"d":"2,523"},{"v":5205,"d":"5,205"},{"v":3473,"d":"3,473"},{"v":4433,"d":"4,433"},{"v":5327,"d":"5,327"},{"v":8893,"d":"8,893"},{"v":6684,"d":"6,684"},{"v":12020,"d":"12,020"},{"v":14263,"d":"14,263"},{"v":8160,"d":"8,160"},{"v":6083,"d":"6,083"},{"v":3051,"d":"3,051"},{"v":2202,"d":"2,202"},{"v":6226,"d":"6,226"},{"v":3161,"d":"3,161"},{"v":6149,"d":"6,149"},{"v":4977,"d":"4,977"},{"v":9088,"d":"9,088"},{"v":7797,"d":"7,797"},{"$f":"12986+8","v":{"v":12994,"d":"12,994"}},{"v":14291,"d":"14,291"},{"v":8192,"d":"8,192"},{"v":7785,"d":"7,785"},{"v":2200,"d":"2,200"},{"v":2347,"d":"2,347"},{"v":5682,"d":"5,682"},{"v":3966,"d":"3,966"},{"v":4267,"d":"4,267"},{"v":6787,"d":"6,787"},{"v":4990,"d":"4,990"},{"v":10561,"d":"10,561"},{"v":13338,"d":"13,338"},{"v":13971,"d":"13,971"},{"v":7577,"d":"7,577"},{"v":7975,"d":"7,975"},{"v":4881,"d":"4,881"},{"v":2078,"d":"2,078"},{"v":5548,"d":"5,548"},{"v":3859,"d":"3,859"},{"v":5600,"d":"5,600"},{"v":5944,"d":"5,944"},{"v":8893,"d":"8,893"},{"v":7727,"d":"7,727"},{"v":14058,"d":"14,058"},{"v":13744,"d":"13,744"},{"v":7155,"d":"7,155"},{"v":8477,"d":"8,477"},{"v":3984,"d":"3,984"},{"v":2121,"d":"2,121"},{"v":6159,"d":"6,159"},{"v":1319,"d":"1,319"},{"v":4407,"d":"4,407"},{"v":7743,"d":"7,743"},{"v":8189,"d":"8,189"},{"v":10305,"d":"10,305"},{"v":13467,"d":"13,467"},{"v":13752,"d":"13,752"},{"v":7704,"d":"7,704"},{"v":7215,"d":"7,215"},{"v":2823,"d":"2,823"},{"v":2199,"d":"2,199"},{"v":5089,"d":"5,089"},{"v":3754,"d":"3,754"},{"v":1850,"d":"1,850"},0,532,{"v":3043,"d":"3,043"},{"v":14447,"d":"14,447"},{"v":16564,"d":"16,564"},{"v":10742,"d":"10,742"},{"v":7463,"d":"7,463"},12,65,6,0,0,0,{"v":3616,"d":"3,616"},{"v":9201,"d":"9,201"},{"v":15033,"d":"15,033"},{"v":16347,"d":"16,347"},{"v":9597,"d":"9,597"},{"v":9736,"d":"9,736"},{"v":2050,"d":"2,050"},{"v":1722,"d":"1,722"},{"v":4444,"d":"4,444"},{"v":3238,"d":"3,238"},{"v":3576,"d":"3,576"},{"v":8062,"d":"8,062"},{"v":9680,"d":"9,680"},{"v":11310,"d":"11,310"},{"v":14853,"d":"14,853"},{"v":15745,"d":"15,745"},{"v":10668,"d":"10,668"},{"v":9528,"d":"9,528"},855,{"v":1045,"d":"1,045"},{"v":4664,"d":"4,664"},{"v":4025,"d":"4,025"},{"v":3090,"d":"3,090"},{"v":2238,"d":"2,238"},{"v":6633,"d":"6,633"},{"v":6804,"d":"6,804"},{"v":11299,"d":"11,299"},{"v":14206,"d":"14,206"},{"v":7815,"d":"7,815"},{"v":7816,"d":"7,816"},529,{"v":2291,"d":"2,291"},{"v":6029,"d":"6,029"},{"v":4401,"d":"4,401"},{"v":5487,"d":"5,487"},{"v":4706,"d":"4,706"},{"v":7935,"d":"7,935"},{"v":9300,"d":"9,300"},{"v":14796,"d":"14,796"},{"v":15708,"d":"15,708"},{"v":7930,"d":"7,930"},{"v":7141,"d":"7,141"},{"v":2101,"d":"2,101"},{"v":2573,"d":"2,573"}]
["10717","Parndorf (ab 5/09)",{"$nulls":160},{"v":1605,"d":"1,605"},{"v":1676,"d":"1,676"},{"v":2961,"d":"2,961"},{"v":3855,"d":"3,855"},{"v":2991,"d":"2,991"},{"v":2394,"d":"2,394"},{"v":1628,"d":"1,628"},{"v":1583,"d":"1,583"},{"v":1547,"d":"1,547"},{"v":1419,"d":"1,419"},{"v":1928,"d":"1,928"},{"v":2208,"d":"2,208"},{"v":2906,"d":"2,906"},{"v":2844,"d":"2,844"},{"v":3747,"d":"3,747"},{"v":4410,"d":"4,410"},{"v":4391,"d":"4,391"},{"v":4029,"d":"4,029"},{"v":3202,"d":"3,202"},{"v":2576,"d":"2,576"},{"v":2369,"d":"2,369"},{"v":1842,"d":"1,842"},{"v":2087,"d":"2,087"},{"v":2911,"d":"2,911"},{"v":3183,"d":"3,183"},{"v":4099,"d":"4,099"},{"v":3644,"d":"3,644"},{"v":6143,"d":"6,143"},{"v":3945,"d":"3,945"},{"v":3466,"d":"3,466"},{"v":3243,"d":"3,243"},{"v":3976,"d":"3,976"},{"v":1883,"d":"1,883"},{"v":2777,"d":"2,777"},{"v":1677,"d":"1,677"},{"v":4506,"d":"4,506"},{"v":6423,"d":"6,423"},{"v":6677,"d":"6,677"},{"v":4973,"d":"4,973"},{"v":5819,"d":"5,819"},{"v":4560,"d":"4,560"},{"v":4413,"d":"4,413"},{"v":3851,"d":"3,851"},{"v":3307,"d":"3,307"},{"v":3007,"d":"3,007"},{"v":2839,"d":"2,839"},{"v":3343,"d":"3,343"},{"v":4233,"d":"4,233"},{"v":4072,"d":"4,072"},{"v":3886,"d":"3,886"},{"v":4463,"d":"4,463"},{"v":5114,"d":"5,114"},{"v":4026,"d":"4,026"},{"v":4177,"d":"4,177"},{"v":3806,"d":"3,806"},{"v":3873,"d":"3,873"},{"v":3673,"d":"3,673"},{"v":3109,"d":"3,109"},{"v":3538,"d":"3,538"},{"v":4262,"d":"4,262"},{"v":5093,"d":"5,093"},{"v":4637,"d":"4,637"},{"v":5398,"d":"5,398"},{"v":5545,"d":"5,545"},{"v":4947,"d":"4,947"},{"v":4846,"d":"4,846"},{"v":3923,"d":"3,923"},{"v":4078,"d":"4,078"},{"v":3151,"d":"3,151"},{"v":2571,"d":"2,571"},{"v":3013,"d":"3,013"},{"v":3420,"d":"3,420"},{"v":3812,"d":"3,812"},{"v":4139,"d":"4,139"},{"v":4678,"d":"4,678"},{"v":4976,"d":"4,976"},{"v":3838,"d":"3,838"},{"v":3893,"d":"3,893"},{"v":3481,"d":"3,481"},{"v":3409,"d":"3,409"},{"v":3284,"d":"3,284"},{"v":2818,"d":"2,818"},{"v":3121,"d":"3,121"},{"v":3431,"d":"3,431"},{"v":4095,"d":"4,095"},{"v":3926,"d":"3,926"},{"v":4736,"d":"4,736"},{"v":4652,"d":"4,652"},{"v":4125,"d":"4,125"},{"v":3764,"d":"3,764"},{"v":3521,"d":"3,521"},{"v":3604,"d":"3,604"},{"v":3144,"d":"3,144"},{"v":2658,"d":"2,658"},{"v":3507,"d":"3,507"},{"v":4338,"d":"4,338"},{"v":4200,"d":"4,200"},{"v":3937,"d":"3,937"},{"v":4660,"d":"4,660"},{"v":5049,"d":"5,049"},{"v":4202,"d":"4,202"},{"v":3850,"d":"3,850"},{"v":3758,"d":"3,758"},{"v":3588,"d":"3,588"},{"v":3234,"d":"3,234"},{"v":2562,"d":"2,562"},{"v":2850,"d":"2,850"},{"v":3287,"d":"3,287"},{"v":3875,"d":"3,875"},{"v":4358,"d":"4,358"},{"v":4722,"d":"4,722"},{"v":5347,"d":"5,347"},{"v":4196,"d":"4,196"},{"v":4609,"d":"4,609"},{"v":3798,"d":"3,798"},{"v":3914,"d":"3,914"},{"v":3145,"d":"3,145"},{"v":2351,"d":"2,351"},{"v":2789,"d":"2,789"},{"v":4460,"d":"4,460"},{"v":4966,"d":"4,966"},{"v":5546,"d":"5,546"},{"v":6713,"d":"6,713"},{"v":7708,"d":"7,708"},{"v":6362,"d":"6,362"},{"v":6695,"d":"6,695"},{"v":5244,"d":"5,244"},{"v":5467,"d":"5,467"},{"v":4306,"d":"4,306"},{"v":3541,"d":"3,541"},{"v":1206,"d":"1,206"},7,169,{"v":2351,"d":"2,351"},{"v":3560,"d":"3,560"},{"v":11757,"d":"11,757"},{"v":5911,"d":"5,911"},{"v":3298,"d":"3,298"},{"v":1531,"d":"1,531"},{"v":1000,"d":"1,000"},632,{"v":1522,"d":"1,522"},{"v":3096,"d":"3,096"},{"v":2477,"d":"2,477"},{"v":3926,"d":"3,926"},{"v":6210,"d":"6,210"},{"v":9607,"d":"9,607"},{"v":11515,"d":"11,515"},{"v":7255,"d":"7,255"},{"v":6859,"d":"6,859"},{"v":4932,"d":"4,932"},{"v":4113,"d":"4,113"},{"v":4936,"d":"4,936"},{"v":4804,"d":"4,804"},{"v":5857,"d":"5,857"},{"v":6527,"d":"6,527"},{"v":7344,"d":"7,344"},{"v":9503,"d":"9,503"},{"v":12540,"d":"12,540"},{"v":14512,"d":"14,512"},{"v":10393,"d":"10,393"},{"v":10413,"d":"10,413"},{"v":10184,"d":"10,184"},{"v":10603,"d":"10,603"},{"v":8414,"d":"8,414"},{"v":7340,"d":"7,340"},{"v":6967,"d":"6,967"},{"v":10112,"d":"10,112"},{"v":10295,"d":"10,295"},{"v":12509,"d":"12,509"},{"v":15602,"d":"15,602"},{"v":16264,"d":"16,264"},{"v":12063,"d":"12,063"},{"v":10535,"d":"10,535"},{"v":11876,"d":"11,876"},{"v":11005,"d":"11,005"},{"v":8959,"d":"8,959"},{"v":8059,"d":"8,059"},{"v":8187,"d":"8,187"},{"v":8827,"d":"8,827"},{"v":11987,"d":"11,987"},{"v":12198,"d":"12,198"},{"v":15176,"d":"15,176"},{"v":17087,"d":"17,087"},{"v":11571,"d":"11,571"},{"v":11993,"d":"11,993"},{"v":11897,"d":"11,897"},{"v":12669,"d":"12,669"}]
["10718","Podersdorf a. See",0,0,0,{"v":8549,"d":"8,549"},{"v":29896,"d":"29,896"},{"v":51704,"d":"51,704"},{"v":85489,"d":"85,489"},{"v":125584,"d":"125,584"},{"v":28703,"d":"28,703"},{"v":7567,"d":"7,567"},0,0,0,0,{"v":1236,"d":"1,236"},{"v":5456,"d":"5,456"},{"v":43768,"d":"43,768"},{"v":30236,"d":"30,236"},{"v":78282,"d":"78,282"},{"v":128646,"d":"128,646"},{"v":35810,"d":"35,810"},{"v":8473,"d":"8,473"},403,0,0,0,0,{"v":9681,"d":"9,681"},{"v":49091,"d":"49,091"},{"v":81469,"d":"81,469"},{"v":83576,"d":"83,576"},{"v":130425,"d":"130,425"},{"v":30829,"d":"30,829"},{"v":4932,"d":"4,932"},171,114,10,0,{"v":1251,"d":"1,251"},{"v":10074,"d":"10,074"},{"v":47129,"d":"47,129"},{"v":69642,"d":"69,642"},{"v":96642,"d":"96,642"},{"v":126481,"d":"126,481"},{"v":35223,"d":"35,223"},{"v":7662,"d":"7,662"},256,6,0,9,338,{"v":20146,"d":"20,146"},{"v":38520,"d":"38,520"},{"v":74238,"d":"74,238"},{"v":91665,"d":"91,665"},{"v":123225,"d":"123,225"},{"v":36401,"d":"36,401"},{"v":11774,"d":"11,774"},88,0,6,0,18,{"v":21009,"d":"21,009"},{"v":40120,"d":"40,120"},{"v":68944,"d":"68,944"},{"v":93580,"d":"93,580"},{"v":127411,"d":"127,411"},{"v":33688,"d":"33,688"},{"v":13009,"d":"13,009"},252,5,0,61,{"v":2691,"d":"2,691"},{"v":14694,"d":"14,694"},{"v":74371,"d":"74,371"},{"v":58565,"d":"58,565"},{"v":91763,"d":"91,763"},{"v":117086,"d":"117,086"},{"v":41697,"d":"41,697"},{"v":8759,"d":"8,759"},{"v":1252,"d":"1,252"},0,0,0,{"v":1083,"d":"1,083"},{"v":17920,"d":"17,920"},{"v":52749,"d":"52,749"},{"v":71307,"d":"71,307"},{"v":87980,"d":"87,980"},{"v":117295,"d":"117,295"},{"v":36993,"d":"36,993"},{"v":9394,"d":"9,394"},203,13,0,0,{"v":1384,"d":"1,384"},{"v":12680,"d":"12,680"},{"v":48807,"d":"48,807"},{"v":50827,"d":"50,827"},{"v":72938,"d":"72,938"},{"v":106630,"d":"106,630"},{"v":37223,"d":"37,223"},{"v":8033,"d":"8,033"},214,37,0,13,{"v":1635,"d":"1,635"},{"v":12976,"d":"12,976"},{"v":55501,"d":"55,501"},{"v":45372,"d":"45,372"},{"v":74090,"d":"74,090"},{"v":98701,"d":"98,701"},{"v":38734,"d":"38,734"},{"v":9393,"d":"9,393"},353,0,11,16,226,{"v":16975,"d":"16,975"},{"v":39327,"d":"39,327"},{"v":52983,"d":"52,983"},{"v":73201,"d":"73,201"},{"v":86116,"d":"86,116"},{"v":39984,"d":"39,984"},{"v":10758,"d":"10,758"},761,22,1,8,407,{"v":23270,"d":"23,270"},{"v":45392,"d":"45,392"},{"v":54047,"d":"54,047"},{"v":80346,"d":"80,346"},{"v":96238,"d":"96,238"},{"v":34058,"d":"34,058"},{"v":11333,"d":"11,333"},558,39,0,35,866,{"v":14855,"d":"14,855"},{"v":57876,"d":"57,876"},{"v":48865,"d":"48,865"},{"v":81179,"d":"81,179"},{"v":103612,"d":"103,612"},{"v":36835,"d":"36,835"},{"v":10904,"d":"10,904"},{"v":1230,"d":"1,230"},707,689,953,{"v":1977,"d":"1,977"},{"v":21030,"d":"21,030"},{"v":54682,"d":"54,682"},{"v":62080,"d":"62,080"},{"v":87260,"d":"87,260"},{"v":105840,"d":"105,840"},{"v":40695,"d":"40,695"},{"v":11709,"d":"11,709"},{"v":1743,"d":"1,743"},884,877,828,{"v":2072,"d":"2,072"},{"v":19979,"d":"19,979"},{"v":50745,"d":"50,745"},{"v":58742,"d":"58,742"},{"v":87600,"d":"87,600"},{"v":106741,"d":"106,741"},{"v":39251,"d":"39,251"},{"v":12196,"d":"12,196"},{"v":1836,"d":"1,836"},167,36,44,37,{"v":22702,"d":"22,702"},{"v":40650,"d":"40,650"},{"v":69772,"d":"69,772"},{"v":81559,"d":"81,559"},{"v":108122,"d":"108,122"},{"v":42631,"d":"42,631"},{"v":11955,"d":"11,955"},{"v":1356,"d":"1,356"},13,12,117,885,{"v":27476,"d":"27,476"},{"v":51233,"d":"51,233"},{"v":59180,"d":"59,180"},{"v":82086,"d":"82,086"},{"v":106018,"d":"106,018"},{"v":44932,"d":"44,932"},{"v":11344,"d":"11,344"},{"v":1911,"d":"1,911"},0,17,83,624,{"v":21925,"d":"21,925"},{"v":53748,"d":"53,748"},{"v":51352,"d":"51,352"},{"v":88070,"d":"88,070"},{"v":101682,"d":"101,682"},{"v":37173,"d":"37,173"},{"v":11003,"d":"11,003"},{"v":1269,"d":"1,269"},10,12,34,945,{"v":23979,"d":"23,979"},{"v":47874,"d":"47,874"},{"v":63273,"d":"63,273"},{"v":77827,"d":"77,827"},{"v":97602,"d":"97,602"},{"v":33760,"d":"33,760"},{"v":10049,"d":"10,049"},{"v":1369,"d":"1,369"},112,190,246,{"v":1073,"d":"1,073"},{"v":23268,"d":"23,268"},{"v":48542,"d":"48,542"},{"v":59082,"d":"59,082"},{"v":81422,"d":"81,422"},{"v":101668,"d":"101,668"},{"v":42054,"d":"42,054"},{"v":7606,"d":"7,606"},{"v":1538,"d":"1,538"},120,48,88,{"v":3929,"d":"3,929"},{"v":28045,"d":"28,045"},{"v":66525,"d":"66,525"},{"v":65173,"d":"65,173"},{"v":91822,"d":"91,822"},{"v":107350,"d":"107,350"},{"v":48487,"d":"48,487"},{"v":8729,"d":"8,729"},{"v":1926,"d":"1,926"},55,134,80,917,{"v":29933,"d":"29,933"},{"v":51808,"d":"51,808"},{"v":73548,"d":"73,548"},{"v":93189,"d":"93,189"},{"v":103657,"d":"103,657"},{"v":56374,"d":"56,374"},{"v":9718,"d":"9,718"},{"v":2099,"d":"2,099"},113,60,146,{"v":2164,"d":"2,164"},{"v":30895,"d":"30,895"},{"v":60230,"d":"60,230"},{"v":64158,"d":"64,158"},{"v":91517,"d":"91,517"},{"v":101002,"d":"101,002"},{"v":56564,"d":"56,564"},{"v":12066,"d":"12,066"},{"v":3260,"d":"3,260"},242,354,272,{"v":1717,"d":"1,717"},{"v":33109,"d":"33,109"},{"v":48249,"d":"48,249"},{"v":75486,"d":"75,486"},{"v":92195,"d":"92,195"},{"v":105614,"d":"105,614"},{"v":55747,"d":"55,747"},{"v":12138,"d":"12,138"},{"v":3186,"d":"3,186"},350,330,238,73,41,{"v":19681,"d":"19,681"},{"v":58294,"d":"58,294"},{"v":100285,"d":"100,285"},{"v":111041,"d":"111,041"},{"v":74396,"d":"74,396"},{"v":14164,"d":"14,164"},353,2,14,82,{"v":1083,"d":"1,083"},{"v":3489,"d":"3,489"},{"v":27739,"d":"27,739"},{"v":58282,"d":"58,282"},{"v":95128,"d":"95,128"},{"v":105188,"d":"105,188"},{"v":69035,"d":"69,035"},{"v":13670,"d":"13,670"},{"v":2638,"d":"2,638"},197,185,347,689,{"v":26613,"d":"26,613"},{"v":49762,"d":"49,762"},{"v":69378,"d":"69,378"},{"v":78077,"d":"78,077"},{"v":87180,"d":"87,180"},{"v":51316,"d":"51,316"},{"v":12035,"d":"12,035"},{"v":3614,"d":"3,614"},989,694,847,{"v":2651,"d":"2,651"},{"v":25061,"d":"25,061"},{"v":48159,"d":"48,159"},{"v":57612,"d":"57,612"},{"v":75037,"d":"75,037"},{"v":91460,"d":"91,460"},{"v":61384,"d":"61,384"},{"v":13981,"d":"13,981"},{"v":4166,"d":"4,166"},{"v":1304,"d":"1,304"},{"v":1052,"d":"1,052"},741,{"v":7789,"d":"7,789"},{"v":26746,"d":"26,746"},{"v":61021,"d":"61,021"},{"v":59999,"d":"59,999"},{"v":83434,"d":"83,434"},{"v":98661,"d":"98,661"},{"v":50111,"d":"50,111"},{"v":12091,"d":"12,091"},{"v":4337,"d":"4,337"},{"v":1167,"d":"1,167"}]
["10312","Purbach a. Neusiedler See",20,23,19,367,{"v":4614,"d":"4,614"},{"v":4963,"d":"4,963"},{"v":6737,"d":"6,737"},{"v":6412,"d":"6,412"},{"v":2213,"d":"2,213"},732,0,107,0,55,50,269,{"v":3862,"d":"3,862"},{"v":4493,"d":"4,493"},{"v":5641,"d":"5,641"},{"v":6516,"d":"6,516"},{"v":2889,"d":"2,889"},566,205,0,97,0,111,188,{"v":5198,"d":"5,198"},{"v":5517,"d":"5,517"},{"v":5206,"d":"5,206"},{"v":7362,"d":"7,362"},{"v":2702,"d":"2,702"},922,0,206,0,0,102,258,{"v":2561,"d":"2,561"},{"v":4765,"d":"4,765"},{"v":5271,"d":"5,271"},{"v":6315,"d":"6,315"},{"v":2271,"d":"2,271"},860,0,557,0,0,162,641,{"v":3862,"d":"3,862"},{"v":5587,"d":"5,587"},{"v":5769,"d":"5,769"},{"v":7485,"d":"7,485"},{"v":2050,"d":"2,050"},569,585,49,0,42,118,989,{"v":3833,"d":"3,833"},{"v":4351,"d":"4,351"},{"v":5023,"d":"5,023"},{"v":8346,"d":"8,346"},{"v":1445,"d":"1,445"},703,173,42,47,45,36,692,{"v":3559,"d":"3,559"},{"v":4738,"d":"4,738"},{"v":6773,"d":"6,773"},{"v":8251,"d":"8,251"},{"v":2320,"d":"2,320"},681,380,43,22,127,43,605,{"v":4181,"d":"4,181"},{"v":4834,"d":"4,834"},{"v":5625,"d":"5,625"},{"v":6667,"d":"6,667"},{"v":2382,"d":"2,382"},798,273,81,66,46,191,499,{"v":2305,"d":"2,305"},{"v":3060,"d":"3,060"},{"v":5586,"d":"5,586"},{"v":7691,"d":"7,691"},{"v":2102,"d":"2,102"},830,360,80,57,77,103,232,{"v":3009,"d":"3,009"},{"v":3761,"d":"3,761"},{"v":5946,"d":"5,946"},{"v":7462,"d":"7,462"},{"v":3198,"d":"3,198"},659,370,0,29,0,142,{"v":1411,"d":"1,411"},{"v":3249,"d":"3,249"},{"v":3707,"d":"3,707"},{"v":5134,"d":"5,134"},{"v":7335,"d":"7,335"},{"v":2315,"d":"2,315"},703,446,0,0,0,294,{"v":1071,"d":"1,071"},{"v":3401,"d":"3,401"},{"v":4110,"d":"4,110"},{"v":4765,"d":"4,765"},{"v":8673,"d":"8,673"},{"v":2087,"d":"2,087"},{"v":1336,"d":"1,336"},453,0,0,30,25,584,{"v":3913,"d":"3,913"},{"v":3674,"d":"3,674"},{"v":5314,"d":"5,314"},{"v":7241,"d":"7,241"},{"v":2370,"d":"2,370"},{"v":1131,"d":"1,131"},460,85,26,46,116,748,{"v":3631,"d":"3,631"},{"v":3595,"d":"3,595"},{"v":6014,"d":"6,014"},{"v":8084,"d":"8,084"},{"v":2865,"d":"2,865"},{"v":1384,"d":"1,384"},583,273,75,94,202,{"v":1022,"d":"1,022"},{"v":3172,"d":"3,172"},{"v":4369,"d":"4,369"},{"v":5862,"d":"5,862"},{"v":7247,"d":"7,247"},{"v":2642,"d":"2,642"},{"v":1806,"d":"1,806"},641,61,30,0,131,{"v":1164,"d":"1,164"},{"v":2784,"d":"2,784"},{"v":4630,"d":"4,630"},{"v":6309,"d":"6,309"},{"v":7005,"d":"7,005"},{"v":2925,"d":"2,925"},{"v":1364,"d":"1,364"},626,32,44,0,188,{"v":1030,"d":"1,030"},{"v":2990,"d":"2,990"},{"v":4093,"d":"4,093"},{"v":6343,"d":"6,343"},{"v":8498,"d":"8,498"},{"v":2885,"d":"2,885"},{"v":1185,"d":"1,185"},675,117,61,18,161,{"v":1160,"d":"1,160"},{"v":3648,"d":"3,648"},{"v":4034,"d":"4,034"},{"v":6022,"d":"6,022"},{"v":7896,"d":"7,896"},{"v":2580,"d":"2,580"},{"v":1340,"d":"1,340"},588,48,16,165,195,{"v":1362,"d":"1,362"},{"v":4007,"d":"4,007"},{"v":4473,"d":"4,473"},{"v":5468,"d":"5,468"},{"v":7522,"d":"7,522"},{"v":2351,"d":"2,351"},{"v":1217,"d":"1,217"},792,366,184,53,124,{"v":1065,"d":"1,065"},{"v":2777,"d":"2,777"},{"v":4574,"d":"4,574"},{"v":6172,"d":"6,172"},{"v":7246,"d":"7,246"},{"v":2556,"d":"2,556"},986,655,118,73,111,264,815,{"v":2897,"d":"2,897"},{"v":3803,"d":"3,803"},{"v":5966,"d":"5,966"},{"v":6342,"d":"6,342"},{"v":2653,"d":"2,653"},925,694,190,81,78,194,{"v":1269,"d":"1,269"},{"v":2522,"d":"2,522"},{"v":4080,"d":"4,080"},{"v":5537,"d":"5,537"},{"v":6510,"d":"6,510"},{"v":2344,"d":"2,344"},803,644,260,70,65,152,950,{"v":2470,"d":"2,470"},{"v":3706,"d":"3,706"},{"v":4835,"d":"4,835"},{"v":5085,"d":"5,085"},{"v":1469,"d":"1,469"},811,705,179,80,59,193,{"v":1138,"d":"1,138"},{"v":3204,"d":"3,204"},{"v":4505,"d":"4,505"},{"v":5055,"d":"5,055"},{"v":6363,"d":"6,363"},{"v":1793,"d":"1,793"},882,708,223,99,42,34,0,292,{"v":2178,"d":"2,178"},{"v":5440,"d":"5,440"},{"v":6962,"d":"6,962"},{"v":2979,"d":"2,979"},852,8,0,11,0,0,12,611,{"v":2742,"d":"2,742"},{"v":5676,"d":"5,676"},{"v":6694,"d":"6,694"},{"v":2721,"d":"2,721"},{"v":1201,"d":"1,201"},485,123,106,194,264,{"v":1924,"d":"1,924"},{"v":3799,"d":"3,799"},{"v":4291,"d":"4,291"},{"v":4199,"d":"4,199"},{"v":5022,"d":"5,022"},{"v":2249,"d":"2,249"},{"v":1411,"d":"1,411"},895,350,83,101,187,{"v":1620,"d":"1,620"},{"v":3400,"d":"3,400"},{"v":3947,"d":"3,947"},{"v":4345,"d":"4,345"},{"v":4946,"d":"4,946"},{"v":2792,"d":"2,792"},{"v":1364,"d":"1,364"},725,367,291,151,357,965,{"v":3755,"d":"3,755"},{"v":4635,"d":"4,635"},{"v":4626,"d":"4,626"},{"v":5786,"d":"5,786"},{"v":2448,"d":"2,448"},{"v":1419,"d":"1,419"},683,370]
["10201","Rust",{"v":1281,"d":"1,281"},{"v":1358,"d":"1,358"},{"v":2827,"d":"2,827"},{"v":4552,"d":"4,552"},{"v":12415,"d":"12,415"},{"v":14925,"d":"14,925"},{"v":21688,"d":"21,688"},{"v":29414,"d":"29,414"},{"v":12837,"d":"12,837"},{"v":7982,"d":"7,982"},{"v":2801,"d":"2,801"},{"v":1612,"d":"1,612"},{"v":1386,"d":"1,386"},891,{"v":2769,"d":"2,769"},{"v":4442,"d":"4,442"},{"v":13934,"d":"13,934"},{"v":12557,"d":"12,557"},{"v":19153,"d":"19,153"},{"v":29169,"d":"29,169"},{"v":14363,"d":"14,363"},{"v":7837,"d":"7,837"},{"v":2739,"d":"2,739"},{"v":1601,"d":"1,601"},{"v":2074,"d":"2,074"},{"v":1570,"d":"1,570"},{"v":2489,"d":"2,489"},{"v":6019,"d":"6,019"},{"v":12524,"d":"12,524"},{"v":14328,"d":"14,328"},{"v":20166,"d":"20,166"},{"v":29549,"d":"29,549"},{"v":13585,"d":"13,585"},{"v":8342,"d":"8,342"},{"v":3039,"d":"3,039"},{"v":1617,"d":"1,617"},{"v":2286,"d":"2,286"},{"v":1698,"d":"1,698"},{"v":2399,"d":"2,399"},{"v":5200,"d":"5,200"},{"v":12736,"d":"12,736"},{"v":12572,"d":"12,572"},{"v":20038,"d":"20,038"},{"v":30667,"d":"30,667"},{"v":14187,"d":"14,187"},{"v":7550,"d":"7,550"},{"v":2138,"d":"2,138"},{"v":1891,"d":"1,891"},{"v":1752,"d":"1,752"},{"v":1285,"d":"1,285"},{"v":2459,"d":"2,459"},{"v":6699,"d":"6,699"},{"v":9270,"d":"9,270"},{"v":17545,"d":"17,545"},{"v":22124,"d":"22,124"},{"v":30170,"d":"30,170"},{"v":12874,"d":"12,874"},{"v":6975,"d":"6,975"},{"v":2901,"d":"2,901"},{"v":2348,"d":"2,348"},{"v":2116,"d":"2,116"},{"v":1290,"d":"1,290"},{"v":2693,"d":"2,693"},{"v":6599,"d":"6,599"},{"v":13153,"d":"13,153"},{"v":17148,"d":"17,148"},{"$f":"23498+2390","v":{"v":25888,"d":"25,888"}},{"$f":"33460+1004","v":{"v":34464,"d":"34,464"}},{"v":11552,"d":"11,552"},{"v":6901,"d":"6,901"},{"v":3189,"d":"3,189"},{"v":1733,"d":"1,733"},{"v":1750,"d":"1,750"},{"v":2045,"d":"2,045"},{"v":3197,"d":"3,197"},{"v":4273,"d":"4,273"},{"v":15908,"d":"15,908"},{"v":14437,"d":"14,437"},{"v":24153,"d":"24,153"},{"v":30151,"d":"30,151"},{"v":12703,"d":"12,703"},{"v":7035,"d":"7,035"},{"v":2807,"d":"2,807"},{"v":1342,"d":"1,342"},{"v":1180,"d":"1,180"},{"v":1430,"d":"1,430"},{"v":1877,"d":"1,877"},{"v":6687,"d":"6,687"},{"v":14192,"d":"14,192"},{"v":19762,"d":"19,762"},{"v":25926,"d":"25,926"},{"v":32328,"d":"32,328"},{"v":14104,"d":"14,104"},{"v":6325,"d":"6,325"},{"v":3360,"d":"3,360"},{"v":2002,"d":"2,002"},{"v":1759,"d":"1,759"},{"v":1475,"d":"1,475"},{"v":3004,"d":"3,004"},{"v":6759,"d":"6,759"},{"v":13684,"d":"13,684"},{"v":14494,"d":"14,494"},{"v":24588,"d":"24,588"},{"v":32755,"d":"32,755"},{"v":14612,"d":"14,612"},{"v":6639,"d":"6,639"},{"v":2031,"d":"2,031"},{"v":1898,"d":"1,898"},{"v":1517,"d":"1,517"},875,{"v":1987,"d":"1,987"},{"$f":"4780+238","v":{"v":5018,"d":"5,018"}},{"$f":"14482+499","v":{"v":14981,"d":"14,981"}},{"v":13988,"d":"13,988"},{"v":23845,"d":"23,845"},{"v":31254,"d":"31,254"},{"v":13865,"d":"13,865"},{"v":7780,"d":"7,780"},{"v":3063,"d":"3,063"},{"v":1999,"d":"1,999"},{"v":1745,"d":"1,745"},{"v":1691,"d":"1,691"},{"v":2336,"d":"2,336"},{"v":5900,"d":"5,900"},{"v":11480,"d":"11,480"},{"v":15826,"d":"15,826"},{"v":22355,"d":"22,355"},{"v":26795,"d":"26,795"},{"v":15972,"d":"15,972"},{"v":8166,"d":"8,166"},{"v":3189,"d":"3,189"},{"v":2328,"d":"2,328"},{"v":2118,"d":"2,118"},{"v":1496,"d":"1,496"},{"v":2203,"d":"2,203"},{"v":7514,"d":"7,514"},{"v":12670,"d":"12,670"},{"v":16164,"d":"16,164"},{"v":25573,"d":"25,573"},{"v":28067,"d":"28,067"},{"v":13396,"d":"13,396"},{"v":8359,"d":"8,359"},{"v":3123,"d":"3,123"},{"v":2257,"d":"2,257"},{"v":2046,"d":"2,046"},{"v":2779,"d":"2,779"},{"v":2736,"d":"2,736"},{"v":5977,"d":"5,977"},{"v":16992,"d":"16,992"},{"v":12583,"d":"12,583"},{"v":24988,"d":"24,988"},{"v":28919,"d":"28,919"},{"v":14441,"d":"14,441"},{"v":6249,"d":"6,249"},{"v":3235,"d":"3,235"},{"v":2577,"d":"2,577"},{"v":1931,"d":"1,931"},{"v":1057,"d":"1,057"},{"v":2702,"d":"2,702"},{"v":8011,"d":"8,011"},{"v":14309,"d":"14,309"},{"v":14380,"d":"14,380"},{"v":24437,"d":"24,437"},{"v":28023,"d":"28,023"},{"v":14636,"d":"14,636"},{"v":7341,"d":"7,341"},{"v":2448,"d":"2,448"},{"v":2486,"d":"2,486"},{"v":1800,"d":"1,800"},{"v":2567,"d":"2,567"},{"v":3152,"d":"3,152"},{"v":7270,"d":"7,270"},{"v":12294,"d":"12,294"},{"v":14406,"d":"14,406"},{"v":23342,"d":"23,342"},{"v":28923,"d":"28,923"},{"v":13268,"d":"13,268"},{"v":6514,"d":"6,514"},{"v":3199,"d":"3,199"},{"v":2833,"d":"2,833"},{"v":3760,"d":"3,760"},{"v":4401,"d":"4,401"},{"v":5496,"d":"5,496"},{"v":9492,"d":"9,492"},{"v":13818,"d":"13,818"},{"v":20806,"d":"20,806"},{"v":24209,"d":"24,209"},{"v":30552,"d":"30,552"},{"v":16482,"d":"16,482"},{"v":9510,"d":"9,510"},{"v":6305,"d":"6,305"},{"v":5334,"d":"5,334"},{"v":3978,"d":"3,978"},{"v":3201,"d":"3,201"},{"v":4887,"d":"4,887"},{"v":9063,"d":"9,063"},{"v":15072,"d":"15,072"},{"v":17817,"d":"17,817"},{"v":24528,"d":"24,528"},{"v":30908,"d":"30,908"},{"v":15362,"d":"15,362"},{"v":9402,"d":"9,402"},{"v":6104,"d":"6,104"},{"v":4688,"d":"4,688"},{"v":4541,"d":"4,541"},{"v":3681,"d":"3,681"},{"v":5237,"d":"5,237"},{"v":7780,"d":"7,780"},{"v":16815,"d":"16,815"},{"v":15765,"d":"15,765"},{"v":27251,"d":"27,251"},{"v":30395,"d":"30,395"},{"v":14955,"d":"14,955"},{"v":8446,"d":"8,446"},{"v":6485,"d":"6,485"},{"v":4391,"d":"4,391"},{"v":5064,"d":"5,064"},{"v":4990,"d":"4,990"},{"v":5908,"d":"5,908"},{"v":10012,"d":"10,012"},{"v":15496,"d":"15,496"},{"v":18953,"d":"18,953"},{"v":26489,"d":"26,489"},{"v":28217,"d":"28,217"},{"v":14120,"d":"14,120"},{"v":9397,"d":"9,397"},{"v":6420,"d":"6,420"},{"v":5338,"d":"5,338"},{"v":4306,"d":"4,306"},{"v":3785,"d":"3,785"},{"v":5675,"d":"5,675"},{"v":9103,"d":"9,103"},{"v":15216,"d":"15,216"},{"v":19666,"d":"19,666"},{"v":26554,"d":"26,554"},{"v":28223,"d":"28,223"},{"v":14722,"d":"14,722"},{"v":8971,"d":"8,971"},{"v":6262,"d":"6,262"},{"v":5999,"d":"5,999"},{"v":5045,"d":"5,045"},{"v":4428,"d":"4,428"},{"v":5745,"d":"5,745"},{"v":8597,"d":"8,597"},{"v":16550,"d":"16,550"},{"v":16773,"d":"16,773"},{"v":25999,"d":"25,999"},{"v":29153,"d":"29,153"},{"v":15699,"d":"15,699"},{"v":9270,"d":"9,270"},{"v":6233,"d":"6,233"},{"v":5979,"d":"5,979"},{"v":4441,"d":"4,441"},{"v":3727,"d":"3,727"},{"v":4948,"d":"4,948"},{"v":10110,"d":"10,110"},{"v":15203,"d":"15,203"},{"v":20903,"d":"20,903"},{"v":28098,"d":"28,098"},{"v":29302,"d":"29,302"},{"v":16106,"d":"16,106"},{"v":10496,"d":"10,496"},{"v":6887,"d":"6,887"},{"v":5827,"d":"5,827"},{"v":4856,"d":"4,856"},{"v":3889,"d":"3,889"},{"v":6002,"d":"6,002"},{"v":11886,"d":"11,886"},{"v":19091,"d":"19,091"},{"v":19936,"d":"19,936"},{"v":28159,"d":"28,159"},{"v":31111,"d":"31,111"},{"v":17248,"d":"17,248"},{"v":10652,"d":"10,652"},{"v":8065,"d":"8,065"},{"v":6326,"d":"6,326"},{"v":4763,"d":"4,763"},{"v":4127,"d":"4,127"},{"v":5950,"d":"5,950"},{"v":12165,"d":"12,165"},{"v":15867,"d":"15,867"},{"v":21852,"d":"21,852"},{"v":26847,"d":"26,847"},{"v":35708,"d":"35,708"},{"v":17869,"d":"17,869"},{"v":11197,"d":"11,197"},{"v":7747,"d":"7,747"},{"v":6791,"d":"6,791"},{"v":5681,"d":"5,681"},{"v":4338,"d":"4,338"},{"v":2559,"d":"2,559"},94,{"v":2090,"d":"2,090"},{"v":18397,"d":"18,397"},{"v":32842,"d":"32,842"},{"v":37691,"d":"37,691"},{"v":23584,"d":"23,584"},{"v":10608,"d":"10,608"},{"v":2897,"d":"2,897"},{"v":2500,"d":"2,500"},{"v":3112,"d":"3,112"},{"v":2826,"d":"2,826"},{"v":3364,"d":"3,364"},{"v":3353,"d":"3,353"},{"v":9054,"d":"9,054"},{"v":21924,"d":"21,924"},{"v":32895,"d":"32,895"},{"v":36455,"d":"36,455"},{"v":21259,"d":"21,259"},{"v":13617,"d":"13,617"},{"v":4780,"d":"4,780"},{"v":4205,"d":"4,205"},{"v":3689,"d":"3,689"},{"v":2845,"d":"2,845"},{"v":5267,"d":"5,267"},{"v":11099,"d":"11,099"},{"v":17759,"d":"17,759"},{"v":21671,"d":"21,671"},{"v":27680,"d":"27,680"},{"v":29545,"d":"29,545"},{"v":17149,"d":"17,149"},{"v":12113,"d":"12,113"},{"v":6583,"d":"6,583"},{"v":5811,"d":"5,811"},{"v":4941,"d":"4,941"},{"v":3928,"d":"3,928"},{"v":5204,"d":"5,204"},{"v":10181,"d":"10,181"},{"v":16137,"d":"16,137"},{"v":17892,"d":"17,892"},{"v":28353,"d":"28,353"},{"v":31169,"d":"31,169"},{"v":16883,"d":"16,883"},{"v":11779,"d":"11,779"},{"v":7272,"d":"7,272"},{"v":6074,"d":"6,074"},{"v":4968,"d":"4,968"},{"v":4070,"d":"4,070"},{"v":6844,"d":"6,844"},{"v":9780,"d":"9,780"},{"v":18540,"d":"18,540"},{"v":17600,"d":"17,600"},{"v":26800,"d":"26,800"},{"v":31004,"d":"31,004"},{"v":14509,"d":"14,509"},{"v":11515,"d":"11,515"},{"v":7523,"d":"7,523"},{"v":6645,"d":"6,645"}]
["10719","Sankt Andrä a. Zicksee",{"v":1556,"d":"1,556"},{"v":4034,"d":"4,034"},{"v":4164,"d":"4,164"},{"v":4066,"d":"4,066"},{"v":11515,"d":"11,515"},{"v":11977,"d":"11,977"},{"v":16745,"d":"16,745"},{"v":22753,"d":"22,753"},{"v":6659,"d":"6,659"},{"v":4002,"d":"4,002"},{"v":2975,"d":"2,975"},591,788,{"v":2626,"d":"2,626"},{"v":3658,"d":"3,658"},{"v":3970,"d":"3,970"},{"v":11686,"d":"11,686"},{"v":8936,"d":"8,936"},{"v":15321,"d":"15,321"},{"v":22134,"d":"22,134"},{"v":7585,"d":"7,585"},{"v":4190,"d":"4,190"},{"v":4163,"d":"4,163"},{"v":1438,"d":"1,438"},{"v":1155,"d":"1,155"},{"v":3852,"d":"3,852"},{"v":4136,"d":"4,136"},{"v":4222,"d":"4,222"},{"v":9502,"d":"9,502"},{"v":11807,"d":"11,807"},{"v":16815,"d":"16,815"},{"v":22158,"d":"22,158"},{"v":6801,"d":"6,801"},{"v":4204,"d":"4,204"},{"v":4078,"d":"4,078"},{"v":1724,"d":"1,724"},0,{"v":3444,"d":"3,444"},{"v":4239,"d":"4,239"},{"v":4134,"d":"4,134"},{"v":11798,"d":"11,798"},{"v":11534,"d":"11,534"},{"v":16728,"d":"16,728"},{"v":23704,"d":"23,704"},{"v":7681,"d":"7,681"},{"v":4299,"d":"4,299"},{"v":4186,"d":"4,186"},{"v":1394,"d":"1,394"},{"v":2273,"d":"2,273"},{"v":3945,"d":"3,945"},{"v":4223,"d":"4,223"},{"v":6138,"d":"6,138"},{"v":7691,"d":"7,691"},{"v":15944,"d":"15,944"},{"v":16099,"d":"16,099"},{"v":21861,"d":"21,861"},{"v":7084,"d":"7,084"},{"v":4450,"d":"4,450"},{"v":4082,"d":"4,082"},{"v":1097,"d":"1,097"},{"v":1663,"d":"1,663"},{"v":3538,"d":"3,538"},{"v":4272,"d":"4,272"},{"v":5973,"d":"5,973"},{"v":8109,"d":"8,109"},{"v":12502,"d":"12,502"},{"v":16960,"d":"16,960"},{"v":18306,"d":"18,306"},{"v":6093,"d":"6,093"},{"v":4484,"d":"4,484"},{"v":4134,"d":"4,134"},921,{"v":2730,"d":"2,730"},{"v":3832,"d":"3,832"},{"v":4344,"d":"4,344"},{"v":5042,"d":"5,042"},{"v":11483,"d":"11,483"},{"v":9453,"d":"9,453"},{"v":14240,"d":"14,240"},{"v":16736,"d":"16,736"},{"v":6753,"d":"6,753"},{"v":4411,"d":"4,411"},{"v":4075,"d":"4,075"},{"v":1615,"d":"1,615"},{"v":1836,"d":"1,836"},{"v":3992,"d":"3,992"},{"v":4398,"d":"4,398"},{"v":5636,"d":"5,636"},{"v":8387,"d":"8,387"},{"v":11437,"d":"11,437"},{"v":11896,"d":"11,896"},{"v":14361,"d":"14,361"},{"v":6152,"d":"6,152"},{"v":4624,"d":"4,624"},{"v":3959,"d":"3,959"},{"v":1371,"d":"1,371"},{"v":2197,"d":"2,197"},{"v":4048,"d":"4,048"},{"v":4573,"d":"4,573"},{"v":6419,"d":"6,419"},{"v":9434,"d":"9,434"},{"v":8807,"d":"8,807"},{"v":11281,"d":"11,281"},{"v":16189,"d":"16,189"},{"v":6293,"d":"6,293"},{"v":4228,"d":"4,228"},{"v":3987,"d":"3,987"},{"v":2173,"d":"2,173"},{"v":1517,"d":"1,517"},{"v":3467,"d":"3,467"},{"v":4343,"d":"4,343"},{"v":4848,"d":"4,848"},{"v":10181,"d":"10,181"},{"v":8391,"d":"8,391"},{"v":11253,"d":"11,253"},{"v":13897,"d":"13,897"},{"$f":"6233+251","v":{"v":6484,"d":"6,484"}},{"v":4248,"d":"4,248"},{"v":4068,"d":"4,068"},{"v":1155,"d":"1,155"},{"v":2685,"d":"2,685"},{"v":3871,"d":"3,871"},{"v":4309,"d":"4,309"},{"v":5218,"d":"5,218"},{"v":7718,"d":"7,718"},{"v":8594,"d":"8,594"},{"v":10352,"d":"10,352"},{"v":11073,"d":"11,073"},{"v":6116,"d":"6,116"},{"v":4446,"d":"4,446"},{"v":4061,"d":"4,061"},{"v":1807,"d":"1,807"},{"v":3022,"d":"3,022"},{"v":3657,"d":"3,657"},{"v":4292,"d":"4,292"},{"v":5766,"d":"5,766"},{"v":8793,"d":"8,793"},{"v":8140,"d":"8,140"},{"v":10601,"d":"10,601"},{"v":12574,"d":"12,574"},{"v":6172,"d":"6,172"},{"v":5136,"d":"5,136"},{"v":4231,"d":"4,231"},801,{"v":2840,"d":"2,840"},{"v":4278,"d":"4,278"},{"v":4395,"d":"4,395"},{"v":4902,"d":"4,902"},{"v":9369,"d":"9,369"},{"v":7552,"d":"7,552"},{"v":8690,"d":"8,690"},{"v":13795,"d":"13,795"},{"v":5882,"d":"5,882"},{"v":4768,"d":"4,768"},{"v":4495,"d":"4,495"},{"v":2947,"d":"2,947"},{"v":3938,"d":"3,938"},{"v":4159,"d":"4,159"},{"v":4553,"d":"4,553"},{"v":5375,"d":"5,375"},{"v":8344,"d":"8,344"},{"v":7767,"d":"7,767"},{"v":9266,"d":"9,266"},{"v":12585,"d":"12,585"},{"v":6493,"d":"6,493"},{"v":4648,"d":"4,648"},{"v":4092,"d":"4,092"},{"v":3084,"d":"3,084"},{"v":2417,"d":"2,417"},{"v":3071,"d":"3,071"},{"v":2635,"d":"2,635"},{"v":4970,"d":"4,970"},{"v":7086,"d":"7,086"},{"v":7474,"d":"7,474"},{"v":8578,"d":"8,578"},{"v":10920,"d":"10,920"},{"v":5640,"d":"5,640"},{"v":4491,"d":"4,491"},{"v":4025,"d":"4,025"},{"v":3192,"d":"3,192"},{"v":3269,"d":"3,269"},{"v":3401,"d":"3,401"},{"v":4029,"d":"4,029"},{"v":5177,"d":"5,177"},{"v":6200,"d":"6,200"},{"v":8751,"d":"8,751"},{"v":8297,"d":"8,297"},{"v":12423,"d":"12,423"},{"v":6306,"d":"6,306"},{"v":4238,"d":"4,238"},{"v":3631,"d":"3,631"},{"v":2323,"d":"2,323"},{"v":3300,"d":"3,300"},{"v":3267,"d":"3,267"},{"v":3874,"d":"3,874"},{"v":5400,"d":"5,400"},{"v":7244,"d":"7,244"},{"v":7730,"d":"7,730"},{"v":7527,"d":"7,527"},{"v":9909,"d":"9,909"},{"v":5608,"d":"5,608"},{"v":4333,"d":"4,333"},{"v":3864,"d":"3,864"},903,{"v":3257,"d":"3,257"},{"v":3482,"d":"3,482"},{"v":3910,"d":"3,910"},{"v":4517,"d":"4,517"},{"v":7584,"d":"7,584"},{"v":6642,"d":"6,642"},{"v":8801,"d":"8,801"},{"v":9754,"d":"9,754"},{"v":5534,"d":"5,534"},{"v":4499,"d":"4,499"},{"v":4077,"d":"4,077"},{"v":2354,"d":"2,354"},{"v":3220,"d":"3,220"},{"v":3081,"d":"3,081"},{"v":3783,"d":"3,783"},{"v":5039,"d":"5,039"},{"v":6566,"d":"6,566"},{"v":7543,"d":"7,543"},{"v":7734,"d":"7,734"},{"v":9025,"d":"9,025"},{"v":5511,"d":"5,511"},{"v":4115,"d":"4,115"},{"v":3729,"d":"3,729"},{"v":2845,"d":"2,845"},{"v":3208,"d":"3,208"},{"v":3212,"d":"3,212"},{"v":3818,"d":"3,818"},{"v":4570,"d":"4,570"},{"v":6347,"d":"6,347"},{"v":6952,"d":"6,952"},{"v":7939,"d":"7,939"},{"v":9099,"d":"9,099"},{"v":5714,"d":"5,714"},{"v":4831,"d":"4,831"},{"v":4468,"d":"4,468"},{"v":2945,"d":"2,945"},{"v":3573,"d":"3,573"},{"v":3622,"d":"3,622"},{"v":4473,"d":"4,473"},{"v":4763,"d":"4,763"},{"v":8286,"d":"8,286"},{"v":5720,"d":"5,720"},{"v":9321,"d":"9,321"},{"v":11953,"d":"11,953"},{"v":6461,"d":"6,461"},{"v":5100,"d":"5,100"},{"v":4519,"d":"4,519"},{"v":4255,"d":"4,255"},{"v":4076,"d":"4,076"},{"v":4122,"d":"4,122"},{"v":4690,"d":"4,690"},{"v":5768,"d":"5,768"},{"v":7336,"d":"7,336"},{"v":9143,"d":"9,143"},{"v":10445,"d":"10,445"},{"v":12118,"d":"12,118"},{"v":6580,"d":"6,580"},{"v":5087,"d":"5,087"},{"v":4525,"d":"4,525"},{"v":3678,"d":"3,678"},{"v":4181,"d":"4,181"},{"v":3822,"d":"3,822"},{"v":4756,"d":"4,756"},{"v":6550,"d":"6,550"},{"v":9304,"d":"9,304"},{"v":7628,"d":"7,628"},{"v":9116,"d":"9,116"},{"v":10094,"d":"10,094"},{"v":6395,"d":"6,395"},{"v":4938,"d":"4,938"},{"v":4458,"d":"4,458"},{"v":3677,"d":"3,677"},{"v":4228,"d":"4,228"},{"v":3812,"d":"3,812"},{"v":4559,"d":"4,559"},{"v":6224,"d":"6,224"},{"v":6940,"d":"6,940"},{"v":9427,"d":"9,427"},{"v":7731,"d":"7,731"},{"$f":"8163+2223","v":{"v":10386,"d":"10,386"}},{"v":6416,"d":"6,416"},{"v":5066,"d":"5,066"},{"v":4407,"d":"4,407"},{"v":3810,"d":"3,810"},{"v":4124,"d":"4,124"},{"v":4172,"d":"4,172"},{"v":2532,"d":"2,532"},84,507,{"v":5820,"d":"5,820"},{"v":8616,"d":"8,616"},{"v":10192,"d":"10,192"},{"v":7675,"d":"7,675"},{"v":4565,"d":"4,565"},{"v":3675,"d":"3,675"},{"v":2898,"d":"2,898"},{"v":3050,"d":"3,050"},{"v":3208,"d":"3,208"},{"v":3739,"d":"3,739"},{"v":3494,"d":"3,494"},{"v":5555,"d":"5,555"},{"v":8206,"d":"8,206"},{"v":7812,"d":"7,812"},{"v":9022,"d":"9,022"},{"v":6752,"d":"6,752"},{"v":4614,"d":"4,614"},{"v":3904,"d":"3,904"},{"v":3462,"d":"3,462"},{"v":3837,"d":"3,837"},{"v":3390,"d":"3,390"},{"v":3961,"d":"3,961"},{"v":4773,"d":"4,773"},{"v":6615,"d":"6,615"},{"v":6950,"d":"6,950"},{"v":6590,"d":"6,590"},{"v":7122,"d":"7,122"},{"v":4901,"d":"4,901"},{"v":4136,"d":"4,136"},{"v":3635,"d":"3,635"},{"v":3205,"d":"3,205"},{"v":3453,"d":"3,453"},{"v":3400,"d":"3,400"},{"v":3486,"d":"3,486"},{"v":4496,"d":"4,496"},{"v":5818,"d":"5,818"},{"v":5563,"d":"5,563"},{"v":6528,"d":"6,528"},{"v":7358,"d":"7,358"},{"v":5972,"d":"5,972"},{"v":4939,"d":"4,939"},{"v":4469,"d":"4,469"},{"v":3538,"d":"3,538"},{"v":4506,"d":"4,506"},{"v":4230,"d":"4,230"},{"v":4884,"d":"4,884"},{"v":5536,"d":"5,536"},{"v":7770,"d":"7,770"},{"v":6836,"d":"6,836"},{"v":7518,"d":"7,518"},{"v":8463,"d":"8,463"},{"v":5687,"d":"5,687"},{"v":4998,"d":"4,998"},{"v":4453,"d":"4,453"},{"v":3398,"d":"3,398"}]
["10313","Sankt Margarethen i. Bgld.",8,0,0,36,243,833,{"v":1506,"d":"1,506"},{"v":2663,"d":"2,663"},605,139,0,0,0,0,0,27,448,470,{"v":1071,"d":"1,071"},{"v":1995,"d":"1,995"},647,11,28,0,0,0,0,56,528,235,{"v":1226,"d":"1,226"},{"v":1972,"d":"1,972"},712,190,35,0,0,0,0,32,323,544,949,{"v":2088,"d":"2,088"},486,109,4,0,0,0,6,110,132,729,{"v":1446,"d":"1,446"},{"v":2458,"d":"2,458"},714,188,8,96,0,0,15,80,221,714,{"v":2060,"d":"2,060"},{"v":2697,"d":"2,697"},539,659,5,0,21,0,0,176,549,452,{"v":1480,"d":"1,480"},{"v":2879,"d":"2,879"},447,350,16,0,9,37,18,233,404,452,{"v":1547,"d":"1,547"},{"v":2389,"d":"2,389"},577,8,41,0,9,0,0,0,186,418,{"v":1448,"d":"1,448"},{"v":2776,"d":"2,776"},441,213,0,0,5,14,0,0,260,669,{"v":1841,"d":"1,841"},{"v":2703,"d":"2,703"},584,54,239,0,0,0,0,0,120,448,{"v":1545,"d":"1,545"},{"v":2507,"d":"2,507"},156,22,244,0,0,0,0,20,229,381,{"v":2476,"d":"2,476"},{"v":3238,"d":"3,238"},192,400,0,19,0,0,0,4,686,914,{"v":2634,"d":"2,634"},{"v":2897,"d":"2,897"},681,59,235,0,0,0,0,542,443,971,{"v":3058,"d":"3,058"},{"v":3268,"d":"3,268"},438,84,131,0,181,0,0,8,740,730,{"v":2697,"d":"2,697"},{"v":3481,"d":"3,481"},730,90,175,223,82,0,445,310,592,{"v":1247,"d":"1,247"},{"v":2414,"d":"2,414"},{"v":2624,"d":"2,624"},654,355,268,28,111,20,95,248,937,477,{"v":1889,"d":"1,889"},{"v":2389,"d":"2,389"},485,40,239,0,0,0,0,4,312,434,{"v":1968,"d":"1,968"},{"v":2094,"d":"2,094"},349,10,0,42,0,0,0,18,54,{"v":1107,"d":"1,107"},{"v":1964,"d":"1,964"},{"v":1621,"d":"1,621"},343,89,37,12,0,0,40,157,260,950,{"v":1753,"d":"1,753"},{"v":1447,"d":"1,447"},517,308,59,4,17,18,12,7,321,526,{"v":1751,"d":"1,751"},{"v":1515,"d":"1,515"},453,183,128,48,27,17,58,192,241,502,{"v":1208,"d":"1,208"},{"v":1567,"d":"1,567"},539,405,174,118,40,6,106,397,400,443,{"v":1025,"d":"1,025"},{"v":1196,"d":"1,196"},492,197,125,19,68,90,34,85,325,329,{"v":1282,"d":"1,282"},{"v":1548,"d":"1,548"},277,328,63,49,40,37,64,4,69,169,687,989,339,72,98,42,76,53,71,139,215,374,917,{"v":1193,"d":"1,193"},619,341,69,51,44,69,94,140,253,484,965,996,282,161,41,23,15,27,48,67,166,195,{"v":1101,"d":"1,101"},841,213,142,53,42,24,4,29,70,287,190,844,826,104,160,62,15]
["10314","Schützen a. Geb. (ab 11/23)",{"$nulls":334},22,18,14,14,46,69,52,106,169,402,179,64,16,175]
[10315,"Siegendorf (bis 4/99)",7,21,17,17,190,36,203,386,77,74,10,21,1,8,9,17,174,124,192,268,45,81,4,9,2,49,18,40,78,174,314,454,170,45,0,0,0,0,11,10,0,0,0,0,0,0,0,0,0,0,0,0,{"$nulls":292},0,0,0,0]
["10720","Tadten (ab 11/23)",{"$nulls":334},43,10,31,2,53,78,149,159,266,304,86,37,34,15]
["10317","Trausdorf a. d. Wulka",168,330,404,501,888,776,{"v":1036,"d":"1,036"},{"v":1221,"d":"1,221"},{"v":1001,"d":"1,001"},478,130,61,217,118,117,219,377,325,573,991,592,743,159,89,157,143,199,200,545,652,673,763,627,193,177,186,134,130,221,177,474,710,777,{"v":1201,"d":"1,201"},434,197,123,64,84,137,147,263,425,425,819,{"v":1194,"d":"1,194"},556,546,66,93,113,219,354,343,606,319,842,{"v":1117,"d":"1,117"},659,423,72,158,252,74,80,268,413,344,{"v":1014,"d":"1,014"},{"v":1277,"d":"1,277"},397,435,87,58,124,116,185,423,340,555,779,825,448,155,134,17,51,23,66,164,506,416,{"v":1030,"d":"1,030"},{"v":1378,"d":"1,378"},399,184,129,112,153,103,202,257,543,509,812,{"v":1345,"d":"1,345"},553,266,132,101,74,64,53,190,305,291,751,680,527,529,157,177,161,196,216,247,377,549,{"v":1035,"d":"1,035"},{"v":1253,"d":"1,253"},629,416,174,123,207,203,49,313,525,489,995,{"v":1307,"d":"1,307"},599,273,71,118,113,118,125,102,351,287,{"v":1111,"d":"1,111"},{"v":1014,"d":"1,014"},558,260,34,62,80,103,78,236,219,231,779,{"v":1261,"d":"1,261"},244,324,140,41,100,117,74,148,214,456,625,{"v":1043,"d":"1,043"},377,168,128,57,123,50,73,181,243,289,748,936,277,97,75,105,62,60,190,126,134,241,510,667,200,90,125,46,138,85,95,99,178,169,673,694,205,178,91,15,68,59,192,78,214,162,243,345,227,174,134,59,14,64,33,101,210,236,652,459,330,202,35,58,41,66,60,113,129,156,465,739,330,90,70,34,41,70,149,210,170,210,257,364,131,118,31,28,17,27,69,62,322,277,719,670,217,295,86,56,32,41,34,0,11,173,543,710,302,70,0,0,2,0,0,0,67,272,819,908,404,269,35,94,39,25,114,90,235,405,868,746,298,151,65,54,61,66,76,188,235,239,{"v":1026,"d":"1,026"},868,470,444,60,89,36,133,125,303,566,480,{"v":1135,"d":"1,135"},980,343,249,79,44]
["10721","Wallern i. Bgld.",9,36,57,16,947,701,705,{"v":1088,"d":"1,088"},573,415,200,41,2,0,31,18,587,496,726,{"v":1173,"d":"1,173"},464,261,100,24,0,6,9,204,280,422,542,{"v":1193,"d":"1,193"},237,149,80,80,31,20,37,30,269,98,128,{"v":1188,"d":"1,188"},163,88,70,0,11,6,39,13,193,832,565,{"v":1231,"d":"1,231"},266,49,53,32,75,19,13,21,753,327,447,{"v":1771,"d":"1,771"},192,40,40,21,1,0,51,0,396,401,439,913,130,80,45,5,0,0,8,28,{"v":1024,"d":"1,024"},667,724,{"v":1165,"d":"1,165"},293,72,90,24,0,0,0,161,126,741,{"v":1263,"d":"1,263"},{"v":1486,"d":"1,486"},341,93,99,8,55,1,26,116,{"v":1080,"d":"1,080"},819,812,{"v":1726,"d":"1,726"},346,91,141,23,409,6,113,140,536,969,754,{"v":1022,"d":"1,022"},630,191,258,159,31,114,42,80,326,777,659,{"v":1654,"d":"1,654"},529,73,161,72,35,8,22,144,515,{"v":1333,"d":"1,333"},482,{"$f":"376+929","v":{"v":1305,"d":"1,305"}},343,145,125,36,27,11,41,108,720,752,813,{"v":1418,"d":"1,418"},415,383,188,10,4,21,84,94,634,914,434,{"v":1274,"d":"1,274"},447,204,152,86,16,8,99,116,388,988,886,{"v":1405,"d":"1,405"},476,158,119,81,24,26,29,150,{"v":1094,"d":"1,094"},{"v":1061,"d":"1,061"},{"v":1269,"d":"1,269"},{"v":1790,"d":"1,790"},699,383,336,137,43,118,69,232,580,734,608,{"v":1688,"d":"1,688"},734,269,218,78,51,146,14,58,{"v":1485,"d":"1,485"},710,592,{"v":1329,"d":"1,329"},626,61,232,60,59,243,76,121,757,649,447,{"v":1330,"d":"1,330"},714,273,337,90,135,170,140,222,{"v":1137,"d":"1,137"},888,{"v":1004,"d":"1,004"},{"v":1315,"d":"1,315"},{"v":1104,"d":"1,104"},462,505,120,70,120,88,167,{"v":1070,"d":"1,070"},617,875,{"v":1118,"d":"1,118"},768,102,384,283,59,174,48,312,591,730,863,826,649,96,406,193,51,95,427,305,723,897,937,{"v":1038,"d":"1,038"},605,208,260,50,65,44,180,64,143,280,849,{"v":1522,"d":"1,522"},766,160,106,53,64,61,211,243,179,387,951,{"v":1671,"d":"1,671"},717,169,205,28,206,82,211,233,784,{"v":1168,"d":"1,168"},599,758,556,149,226,92,24,165,163,115,593,513,570,653,565,261,370,58,62,69,210,86,369,716,583,761,265,247,342,240]
["10722","Weiden a. See",0,0,0,{"v":1349,"d":"1,349"},{"v":5737,"d":"5,737"},{"v":7858,"d":"7,858"},{"v":11418,"d":"11,418"},{"v":20531,"d":"20,531"},{"v":6107,"d":"6,107"},{"v":1478,"d":"1,478"},280,0,0,0,0,496,{"v":5476,"d":"5,476"},{"v":11774,"d":"11,774"},{"v":11314,"d":"11,314"},{"v":19919,"d":"19,919"},{"v":4899,"d":"4,899"},{"v":2376,"d":"2,376"},344,0,0,0,0,861,{"v":6700,"d":"6,700"},{"v":9166,"d":"9,166"},{"v":13918,"d":"13,918"},{"v":18957,"d":"18,957"},{"v":5956,"d":"5,956"},{"v":3030,"d":"3,030"},517,0,0,0,39,777,{"v":5655,"d":"5,655"},{"v":9431,"d":"9,431"},{"v":14698,"d":"14,698"},{"v":18379,"d":"18,379"},{"v":7340,"d":"7,340"},{"v":1353,"d":"1,353"},363,0,0,0,0,{"v":1459,"d":"1,459"},{"v":6007,"d":"6,007"},{"v":11382,"d":"11,382"},{"v":15754,"d":"15,754"},{"v":20297,"d":"20,297"},{"v":5311,"d":"5,311"},746,366,0,0,0,0,{"v":1618,"d":"1,618"},{"v":6652,"d":"6,652"},{"v":10597,"d":"10,597"},{"v":16127,"d":"16,127"},{"v":18770,"d":"18,770"},{"v":4229,"d":"4,229"},{"v":1072,"d":"1,072"},569,0,0,0,0,{"v":1555,"d":"1,555"},{"v":8242,"d":"8,242"},{"v":9974,"d":"9,974"},{"v":15269,"d":"15,269"},{"v":18658,"d":"18,658"},{"v":5639,"d":"5,639"},{"v":1146,"d":"1,146"},631,0,0,0,74,{"v":1432,"d":"1,432"},{"v":7218,"d":"7,218"},{"v":11157,"d":"11,157"},{"v":14945,"d":"14,945"},{"v":17047,"d":"17,047"},{"v":3800,"d":"3,800"},{"v":1103,"d":"1,103"},539,24,17,20,73,{"v":1167,"d":"1,167"},{"v":6247,"d":"6,247"},{"v":8699,"d":"8,699"},{"v":13740,"d":"13,740"},{"v":14017,"d":"14,017"},{"v":4198,"d":"4,198"},{"v":1299,"d":"1,299"},943,43,37,60,111,{"v":1218,"d":"1,218"},{"v":4982,"d":"4,982"},{"v":8011,"d":"8,011"},{"v":13748,"d":"13,748"},{"v":13135,"d":"13,135"},{"v":4053,"d":"4,053"},{"v":1483,"d":"1,483"},756,0,0,7,38,974,{"v":6206,"d":"6,206"},{"v":7294,"d":"7,294"},{"v":10861,"d":"10,861"},{"v":11878,"d":"11,878"},{"v":3434,"d":"3,434"},922,{"v":1033,"d":"1,033"},4,0,103,198,{"v":1121,"d":"1,121"},{"v":4037,"d":"4,037"},{"v":6118,"d":"6,118"},{"v":9538,"d":"9,538"},{"v":10926,"d":"10,926"},{"v":3243,"d":"3,243"},799,896,43,6,97,{"$f":"23+70","v":93},{"v":1147,"d":"1,147"},{"v":4895,"d":"4,895"},{"v":5419,"d":"5,419"},{"v":9144,"d":"9,144"},{"v":12558,"d":"12,558"},{"v":3905,"d":"3,905"},{"v":1710,"d":"1,710"},{"v":1319,"d":"1,319"},18,57,55,109,{"v":1276,"d":"1,276"},{"v":4496,"d":"4,496"},{"v":5735,"d":"5,735"},{"v":9741,"d":"9,741"},{"v":12810,"d":"12,810"},{"v":3856,"d":"3,856"},{"v":1175,"d":"1,175"},{"v":1100,"d":"1,100"},9,37,67,208,{"v":1855,"d":"1,855"},{"v":3931,"d":"3,931"},{"v":6969,"d":"6,969"},{"v":10006,"d":"10,006"},{"v":12804,"d":"12,804"},{"v":4088,"d":"4,088"},838,{"v":1137,"d":"1,137"},13,31,76,155,{"v":2106,"d":"2,106"},{"v":3429,"d":"3,429"},{"v":7337,"d":"7,337"},{"v":9756,"d":"9,756"},{"v":13237,"d":"13,237"},{"v":4235,"d":"4,235"},{"v":1387,"d":"1,387"},{"v":1489,"d":"1,489"},63,31,53,312,{"v":2585,"d":"2,585"},{"v":4703,"d":"4,703"},{"v":6809,"d":"6,809"},{"v":9958,"d":"9,958"},{"v":12834,"d":"12,834"},{"v":5239,"d":"5,239"},{"v":1177,"d":"1,177"},{"v":1446,"d":"1,446"},250,295,360,475,{"v":1667,"d":"1,667"},{"v":4413,"d":"4,413"},{"v":6271,"d":"6,271"},{"v":10071,"d":"10,071"},{"v":12091,"d":"12,091"},{"v":4617,"d":"4,617"},{"v":1649,"d":"1,649"},{"v":1849,"d":"1,849"},237,163,161,255,{"v":1495,"d":"1,495"},{"v":4088,"d":"4,088"},{"v":5914,"d":"5,914"},{"v":8989,"d":"8,989"},{"v":10605,"d":"10,605"},{"v":3427,"d":"3,427"},712,{"v":1018,"d":"1,018"},57,68,92,102,{"v":1233,"d":"1,233"},{"v":3512,"d":"3,512"},{"v":5965,"d":"5,965"},{"v":8836,"d":"8,836"},{"v":9852,"d":"9,852"},{"v":3546,"d":"3,546"},{"v":1052,"d":"1,052"},{"v":1284,"d":"1,284"},253,79,172,384,{"v":1313,"d":"1,313"},{"v":4673,"d":"4,673"},{"v":5373,"d":"5,373"},{"v":8632,"d":"8,632"},{"v":10154,"d":"10,154"},{"v":4023,"d":"4,023"},689,898,100,102,29,178,982,{"v":3339,"d":"3,339"},{"v":6151,"d":"6,151"},{"v":8188,"d":"8,188"},{"v":10173,"d":"10,173"},{"v":3303,"d":"3,303"},468,{"v":1022,"d":"1,022"},212,111,159,181,{"v":1547,"d":"1,547"},{"v":4139,"d":"4,139"},{"v":5168,"d":"5,168"},{"v":8192,"d":"8,192"},{"v":9320,"d":"9,320"},{"v":2892,"d":"2,892"},773,829,117,57,194,187,{"v":1113,"d":"1,113"},{"v":1825,"d":"1,825"},{"v":3608,"d":"3,608"},{"v":4479,"d":"4,479"},{"v":5143,"d":"5,143"},{"v":2165,"d":"2,165"},608,847,275,180,189,57,42,213,{"v":2247,"d":"2,247"},{"v":4647,"d":"4,647"},{"v":5269,"d":"5,269"},{"v":2888,"d":"2,888"},681,135,33,0,210,25,195,584,{"v":2686,"d":"2,686"},{"v":4129,"d":"4,129"},{"v":5630,"d":"5,630"},{"v":2419,"d":"2,419"},699,502,24,109,122,113,462,{"v":1595,"d":"1,595"},{"v":2523,"d":"2,523"},{"v":3270,"d":"3,270"},{"v":3465,"d":"3,465"},{"v":1544,"d":"1,544"},529,489,190,194,217,180,744,{"v":2035,"d":"2,035"},{"v":3010,"d":"3,010"},{"v":6304,"d":"6,304"},{"v":7797,"d":"7,797"},{"v":4413,"d":"4,413"},{"v":2562,"d":"2,562"},{"v":1661,"d":"1,661"},{"v":1536,"d":"1,536"},41,{"v":1205,"d":"1,205"},{"v":1659,"d":"1,659"},{"v":1915,"d":"1,915"},{"v":4142,"d":"4,142"},{"v":4308,"d":"4,308"},{"v":6386,"d":"6,386"},{"v":7417,"d":"7,417"},{"v":3721,"d":"3,721"},{"v":2654,"d":"2,654"},{"v":2644,"d":"2,644"},{"v":2144,"d":"2,144"}]
[10318,"Wimpassing a. d. Leitha (bis 4/99)",2,12,42,15,157,0,158,196,150,155,169,122,0,26,120,137,96,126,151,24,50,56,44,0,46,39,56,197,118,49,97,122,142,52,67,48,69,87,217,180,0,0,0,0,0,0,0,0,0,0,0,0,{"$nulls":292},0,0,0,0]
[10723,"Winden a. See (ab 11/06)",{"$nulls":130},24,0,0,0,29,107,121,177,470,610,304,34,68,0,0,0,0,32,287,222,554,959,246,81,63,4,0,0,2,117,320,296,720,916,171,44,32,0,0,0,0,58,136,168,575,729,152,60,34,0,0,0,0,73,176,384,417,638,231,82,43,0,0,0,0,14,220,186,431,694,294,142,21,0,0,4,0,20,272,149,362,552,192,59,62,15,0,0,2,58,136,212,390,552,141,38,58,0,2,4,0,60,268,181,408,593,135,36,32,0,0,0,24,56,266,242,555,578,321,89,111,0,0,20,41,76,235,222,617,709,217,203,14,6,27,0,14,82,294,297,657,663,160,128,109,43,8,0,0,53,196,258,587,557,261,131,112,15,38,47,24,25,42,260,657,671,317,60,42,12,0,28,17,34,{"$f":"122+53","v":175},506,689,791,376,113,47,2,16,29,54,242,331,383,527,467,257,59,37,15,39,63,134,113,125,287,483,496,297,302,246,120,136,113,150,173,283,355,529,584,312,197,216,210]
[10724,"Zurndorf (ab 11/06)",{"$nulls":130},326,164,0,0,126,226,339,344,463,616,352,329,288,0,0,0,186,248,365,366,418,466,363,277,314,65,0,11,190,212,295,335,522,533,285,240,141,117,21,77,169,218,216,259,606,675,398,343,284,124,48,3,269,198,314,308,617,296,505,290,271,165,157,191,210,292,274,379,388,428,262,277,198,132,0,0,1,210,236,372,343,539,351,273,241,0,43,57,433,209,395,443,401,707,380,285,300,112,101,160,213,173,416,498,573,546,393,200,436,109,73,153,196,336,562,706,756,793,538,528,579,187,115,276,117,238,656,818,783,796,620,392,465,36,74,81,281,621,491,719,749,815,585,441,537,177,68,216,275,440,625,785,796,{"v":1051,"d":"1,051"},660,573,353,121,143,157,452,3,43,352,906,{"v":1308,"d":"1,308"},553,322,23,3,17,62,138,12,218,750,{"v":1215,"d":"1,215"},{"v":1163,"d":"1,163"},827,734,414,18,44,555,383,553,614,{"v":1060,"d":"1,060"},800,978,681,977,652,300,8,570,434,605,860,877,595,732,575,676,444,112,0,685,412,411,399,472,755,791,633,981,452,28]