{"text_format":"3","workbook":"xlsx","n_sheets":2,"sheets":["Preisliste ","Hilfstabelle"],"not_rendered":{"defined_names":1},"read":"whole","date_system":"1900"}

{"sheet":"Preisliste ","index":0,"n_rows":214,"n_cols":10,"rows_kept":214}
["Preisliste / Pricelist (Januar 2026)"]
[null,"Top","Zimmer","Fläche","Freifläche","Miete 6 Monate","Miete 5 Monate","Miete 4 Monate","Miete 3 Monate","Miete 2 Monate"]
[]
["1. Stock",101,1,22.21,{"v":0,"d":"0.00"},{"$f":"Hilfstabelle!B5","v":{"v":679,"d":"€ 679.00"}},{"$f":"F4+20","v":{"v":699,"d":"€ 699.00"}},{"$f":"G4+20","v":{"v":719,"d":"€ 719.00"}},{"v":739,"d":"€ 739.00"},{"v":759,"d":"€ 759.00"}]
[null,102,1,18.19,{"v":0,"d":"0.00"},{"$f":"Hilfstabelle!B6","v":{"v":679,"d":"€ 679.00"}},{"$f":"F5+20","v":{"v":699,"d":"€ 699.00"}},{"v":719,"d":"€ 719.00"},{"v":739,"d":"€ 739.00"},{"v":759,"d":"€ 759.00"}]
[null,103,1,21.45,{"v":0,"d":"0.00"},{"$f":"Hilfstabelle!B7","v":{"v":679,"d":"€ 679.00"}},{"v":699,"d":"€ 699.00"},{"v":719,"d":"€ 719.00"},{"v":739,"d":"€ 739.00"},{"v":759,"d":"€ 759.00"}]
[null,104,1,22.14,{"v":0,"d":"0.00"},{"$f":"Hilfstabelle!B8","v":{"v":679,"d":"€ 679.00"}},{"v":699,"d":"€ 699.00"},{"v":719,"d":"€ 719.00"},{"v":739,"d":"€ 739.00"},{"v":759,"d":"€ 759.00"}]
[null,105,1,22.34,{"v":0,"d":"0.00"},{"$f":"Hilfstabelle!B9","v":{"v":679,"d":"€ 679.00"}},{"v":699,"d":"€ 699.00"},{"v":719,"d":"€ 719.00"},{"v":739,"d":"€ 739.00"},{"v":759,"d":"€ 759.00"}]
[null,106,1,22.15,{"v":0,"d":"0.00"},{"$f":"Hilfstabelle!B10","v":{"v":679,"d":"€ 679.00"}},{"v":699,"d":"€ 699.00"},{"v":719,"d":"€ 719.00"},{"v":739,"d":"€ 739.00"},{"v":759,"d":"€ 759.00"}]
[null,107,1,22.34,{"v":0,"d":"0.00"},{"$f":"Hilfstabelle!B11","v":{"v":679,"d":"€ 679.00"}},{"v":699,"d":"€ 699.00"},{"v":719,"d":"€ 719.00"},{"v":739,"d":"€ 739.00"},{"v":759,"d":"€ 759.00"}]
[null,108,1,22.15,{"v":0,"d":"0.00"},{"$f":"Hilfstabelle!B12","v":{"v":679,"d":"€ 679.00"}},{"v":699,"d":"€ 699.00"},{"v":719,"d":"€ 719.00"},{"v":739,"d":"€ 739.00"},{"v":759,"d":"€ 759.00"}]
[null,109,1,22.34,{"v":0,"d":"0.00"},{"$f":"Hilfstabelle!B13","v":{"v":679,"d":"€ 679.00"}},{"v":699,"d":"€ 699.00"},{"v":719,"d":"€ 719.00"},{"v":739,"d":"€ 739.00"},{"v":759,"d":"€ 759.00"}]
[null,110,1,22.15,{"v":0,"d":"0.00"},{"$f":"Hilfstabelle!B14","v":{"v":679,"d":"€ 679.00"}},{"v":699,"d":"€ 699.00"},{"v":719,"d":"€ 719.00"},{"v":739,"d":"€ 739.00"},{"v":759,"d":"€ 759.00"}]
[null,111,1,22.34,{"v":0,"d":"0.00"},{"$f":"Hilfstabelle!B15","v":{"v":679,"d":"€ 679.00"}},{"v":699,"d":"€ 699.00"},{"v":719,"d":"€ 719.00"},{"v":739,"d":"€ 739.00"},{"v":759,"d":"€ 759.00"}]
[null,112,1,22.15,{"v":0,"d":"0.00"},{"$f":"Hilfstabelle!B16","v":{"v":679,"d":"€ 679.00"}},{"v":699,"d":"€ 699.00"},{"v":719,"d":"€ 719.00"},{"v":739,"d":"€ 739.00"},{"v":759,"d":"€ 759.00"}]
[null,113,1,22.34,{"v":0,"d":"0.00"},{"$f":"Hilfstabelle!B17","v":{"v":679,"d":"€ 679.00"}},{"v":699,"d":"€ 699.00"},{"v":719,"d":"€ 719.00"},{"v":739,"d":"€ 739.00"},{"v":759,"d":"€ 759.00"}]
[null,114,1,22.15,{"v":0,"d":"0.00"},{"$f":"Hilfstabelle!B18","v":{"v":679,"d":"€ 679.00"}},{"v":699,"d":"€ 699.00"},{"v":719,"d":"€ 719.00"},{"v":739,"d":"€ 739.00"},{"v":759,"d":"€ 759.00"}]
[null,115,1,22.34,{"v":0,"d":"0.00"},{"$f":"Hilfstabelle!B19","v":{"v":679,"d":"€ 679.00"}},{"v":699,"d":"€ 699.00"},{"v":719,"d":"€ 719.00"},{"v":739,"d":"€ 739.00"},{"v":759,"d":"€ 759.00"}]
[null,116,1,22.15,{"v":0,"d":"0.00"},{"$f":"Hilfstabelle!B20","v":{"v":679,"d":"€ 679.00"}},{"v":699,"d":"€ 699.00"},{"v":719,"d":"€ 719.00"},{"v":739,"d":"€ 739.00"},{"v":759,"d":"€ 759.00"}]
[null,117,1,22.29,{"v":0,"d":"0.00"},{"$f":"Hilfstabelle!B21","v":{"v":679,"d":"€ 679.00"}},{"v":699,"d":"€ 699.00"},{"v":719,"d":"€ 719.00"},{"v":739,"d":"€ 739.00"},{"v":759,"d":"€ 759.00"}]
[null,118,2,{"v":51.4,"d":"51.40"},{"v":0,"d":"0.00"},{"$f":"Hilfstabelle!B22","v":{"v":1239,"d":"€ 1,239.00"}},{"$f":"F21+40","v":{"v":1279,"d":"€ 1,279.00"}},{"$f":"G21+40","v":{"v":1319,"d":"€ 1,319.00"}},{"v":1359,"d":"€ 1,359.00"},{"v":1399,"d":"€ 1,399.00"}]
[null,119,1,40.33,{"v":0,"d":"0.00"},{"$f":"Hilfstabelle!B23","v":{"v":969,"d":"€ 969.00"}},{"$f":"F22+30","v":{"v":999,"d":"€ 999.00"}},{"$f":"G22+30","v":{"v":1029,"d":"€ 1,029.00"}},{"v":1059,"d":"€ 1,059.00"},{"v":1089,"d":"€ 1,089.00"}]
[null,120,1,22.98,{"v":0,"d":"0.00"},{"$f":"Hilfstabelle!B24","v":{"v":679,"d":"€ 679.00"}},{"v":699,"d":"€ 699.00"},{"v":719,"d":"€ 719.00"},{"v":739,"d":"€ 739.00"},{"v":759,"d":"€ 759.00"}]
[null,121,1,27.61,15.92,{"$f":"Hilfstabelle!B25","v":{"v":809,"d":"€ 809.00"}},{"$f":"F24+30","v":{"v":839,"d":"€ 839.00"}},{"$f":"G24+30","v":{"v":869,"d":"€ 869.00"}},{"v":899,"d":"€ 899.00"},{"v":929,"d":"€ 929.00"}]
[null,122,1,21.91,{"v":6.1,"d":"6.10"},{"$f":"Hilfstabelle!B26","v":{"v":739,"d":"€ 739.00"}},{"v":759,"d":"€ 759.00"},{"v":779,"d":"€ 779.00"},{"v":799,"d":"€ 799.00"},{"v":819,"d":"€ 819.00"}]
[null,123,1,21.91,{"v":6.1,"d":"6.10"},{"$f":"Hilfstabelle!B27","v":{"v":739,"d":"€ 739.00"}},{"v":759,"d":"€ 759.00"},{"v":779,"d":"€ 779.00"},{"v":799,"d":"€ 799.00"},{"v":819,"d":"€ 819.00"}]
[null,124,1,21.64,{"v":6.1,"d":"6.10"},{"$f":"Hilfstabelle!B28","v":{"v":739,"d":"€ 739.00"}},{"v":759,"d":"€ 759.00"},{"v":779,"d":"€ 779.00"},{"v":799,"d":"€ 799.00"},{"v":819,"d":"€ 819.00"}]
[null,125,1,{"v":21.9,"d":"21.90"},{"v":6.1,"d":"6.10"},{"$f":"Hilfstabelle!B29","v":{"v":739,"d":"€ 739.00"}},{"v":759,"d":"€ 759.00"},{"v":779,"d":"€ 779.00"},{"v":799,"d":"€ 799.00"},{"v":819,"d":"€ 819.00"}]
[null,126,1,"21.91",{"v":6.1,"d":"6.10"},{"$f":"Hilfstabelle!B30","v":{"v":739,"d":"€ 739.00"}},{"v":759,"d":"€ 759.00"},{"v":779,"d":"€ 779.00"},{"v":799,"d":"€ 799.00"},{"v":819,"d":"€ 819.00"}]
[null,127,1,21.74,{"v":6.1,"d":"6.10"},{"$f":"Hilfstabelle!B31","v":{"v":739,"d":"€ 739.00"}},{"v":759,"d":"€ 759.00"},{"v":779,"d":"€ 779.00"},{"v":799,"d":"€ 799.00"},{"v":819,"d":"€ 819.00"}]
[null,128,1,{"v":21.9,"d":"21.90"},{"v":6.1,"d":"6.10"},{"$f":"Hilfstabelle!B32","v":{"v":739,"d":"€ 739.00"}},{"v":759,"d":"€ 759.00"},{"v":779,"d":"€ 779.00"},{"v":799,"d":"€ 799.00"},{"v":819,"d":"€ 819.00"}]
[null,129,1,21.71,{"v":6.1,"d":"6.10"},{"$f":"Hilfstabelle!B33","v":{"v":739,"d":"€ 739.00"}},{"v":759,"d":"€ 759.00"},{"v":779,"d":"€ 779.00"},{"v":799,"d":"€ 799.00"},{"v":819,"d":"€ 819.00"}]
[null,130,1,21.89,{"v":6.1,"d":"6.10"},{"$f":"Hilfstabelle!B34","v":{"v":739,"d":"€ 739.00"}},{"v":759,"d":"€ 759.00"},{"v":779,"d":"€ 779.00"},{"v":799,"d":"€ 799.00"},{"v":819,"d":"€ 819.00"}]
[null,131,1,21.71,{"v":6.1,"d":"6.10"},{"$f":"Hilfstabelle!B35","v":{"v":739,"d":"€ 739.00"}},{"v":759,"d":"€ 759.00"},{"v":779,"d":"€ 779.00"},{"v":799,"d":"€ 799.00"},{"v":819,"d":"€ 819.00"}]
[null,132,"2 + AR",46.21,9.46,{"$f":"Hilfstabelle!B36","v":{"v":1199,"d":"€ 1,199.00"}},{"$f":"F35+40","v":{"v":1239,"d":"€ 1,239.00"}},{"$f":"G35+40","v":{"v":1279,"d":"€ 1,279.00"}},{"v":1319,"d":"€ 1,319.00"},{"v":1359,"d":"€ 1,359.00"}]
[null,133,1,21.72,{"v":6.1,"d":"6.10"},{"$f":"Hilfstabelle!B37","v":{"v":739,"d":"€ 739.00"}},{"v":759,"d":"€ 759.00"},{"v":779,"d":"€ 779.00"},{"v":799,"d":"€ 799.00"},{"v":819,"d":"€ 819.00"}]
[null,134,1,21.92,{"v":6.1,"d":"6.10"},{"$f":"Hilfstabelle!B38","v":{"v":739,"d":"€ 739.00"}},{"v":759,"d":"€ 759.00"},{"v":779,"d":"€ 779.00"},{"v":799,"d":"€ 799.00"},{"v":819,"d":"€ 819.00"}]
[null,135,1,21.72,{"v":6.1,"d":"6.10"},{"$f":"Hilfstabelle!B39","v":{"v":739,"d":"€ 739.00"}},{"v":759,"d":"€ 759.00"},{"v":779,"d":"€ 779.00"},{"v":799,"d":"€ 799.00"},{"v":819,"d":"€ 819.00"}]
[null,136,1,21.64,{"v":6.1,"d":"6.10"},{"$f":"Hilfstabelle!B40","v":{"v":739,"d":"€ 739.00"}},{"v":759,"d":"€ 759.00"},{"v":779,"d":"€ 779.00"},{"v":799,"d":"€ 799.00"},{"v":819,"d":"€ 819.00"}]
[null,137,2,33.66,12.54,{"$f":"Hilfstabelle!B41","v":{"v":1059,"d":"€ 1,059.00"}},{"$f":"F40+30","v":{"v":1089,"d":"€ 1,089.00"}},{"$f":"G40+30","v":{"v":1119,"d":"€ 1,119.00"}},{"v":1149,"d":"€ 1,149.00"},{"v":1179,"d":"€ 1,179.00"}]
[]
["2. Stock",201,2,33.62,{"v":0,"d":"0.00"},{"$f":"Hilfstabelle!B43","v":{"v":989,"d":"€ 989.00"}},{"$f":"F42+30","v":{"v":1019,"d":"€ 1,019.00"}},{"$f":"G42+30","v":{"v":1049,"d":"€ 1,049.00"}},{"v":1079,"d":"€ 1,079.00"},{"v":1109,"d":"€ 1,109.00"}]
[null,202,1,22.75,{"v":0,"d":"0.00"},{"$f":"Hilfstabelle!B44","v":{"v":689,"d":"€ 689.00"}},{"$f":"F43+20","v":{"v":709,"d":"€ 709.00"}},{"v":729,"d":"€ 729.00"},{"v":749,"d":"€ 749.00"},{"v":769,"d":"€ 769.00"}]
[null,203,1,23.83,{"v":0,"d":"0.00"},{"$f":"Hilfstabelle!B45","v":{"v":689,"d":"€ 689.00"}},{"v":709,"d":"€ 709.00"},{"v":729,"d":"€ 729.00"},{"v":749,"d":"€ 749.00"},{"v":769,"d":"€ 769.00"}]
[null,204,1,23.72,{"v":0,"d":"0.00"},{"$f":"Hilfstabelle!B46","v":{"v":689,"d":"€ 689.00"}},{"v":709,"d":"€ 709.00"},{"v":729,"d":"€ 729.00"},{"v":749,"d":"€ 749.00"},{"v":769,"d":"€ 769.00"}]
[null,205,1,23.91,{"v":0,"d":"0.00"},{"$f":"Hilfstabelle!B47","v":{"v":689,"d":"€ 689.00"}},{"v":709,"d":"€ 709.00"},{"v":729,"d":"€ 729.00"},{"v":749,"d":"€ 749.00"},{"v":769,"d":"€ 769.00"}]
[null,206,1,23.72,{"v":0,"d":"0.00"},{"$f":"Hilfstabelle!B48","v":{"v":689,"d":"€ 689.00"}},{"v":709,"d":"€ 709.00"},{"v":729,"d":"€ 729.00"},{"v":749,"d":"€ 749.00"},{"v":769,"d":"€ 769.00"}]
[null,207,1,23.91,{"v":0,"d":"0.00"},{"$f":"Hilfstabelle!B49","v":{"v":689,"d":"€ 689.00"}},{"v":709,"d":"€ 709.00"},{"v":729,"d":"€ 729.00"},{"v":749,"d":"€ 749.00"},{"v":769,"d":"€ 769.00"}]
[null,208,1,23.72,{"v":0,"d":"0.00"},{"$f":"Hilfstabelle!B50","v":{"v":689,"d":"€ 689.00"}},{"v":709,"d":"€ 709.00"},{"v":729,"d":"€ 729.00"},{"v":749,"d":"€ 749.00"},{"v":769,"d":"€ 769.00"}]
[null,209,1,23.91,{"v":0,"d":"0.00"},{"$f":"Hilfstabelle!B51","v":{"v":689,"d":"€ 689.00"}},{"v":709,"d":"€ 709.00"},{"v":729,"d":"€ 729.00"},{"v":749,"d":"€ 749.00"},{"v":769,"d":"€ 769.00"}]
[null,210,1,23.72,{"v":0,"d":"0.00"},{"$f":"Hilfstabelle!B52","v":{"v":689,"d":"€ 689.00"}},{"v":709,"d":"€ 709.00"},{"v":729,"d":"€ 729.00"},{"v":749,"d":"€ 749.00"},{"v":769,"d":"€ 769.00"}]
[null,211,1,23.91,{"v":0,"d":"0.00"},{"$f":"Hilfstabelle!B53","v":{"v":689,"d":"€ 689.00"}},{"v":709,"d":"€ 709.00"},{"v":729,"d":"€ 729.00"},{"v":749,"d":"€ 749.00"},{"v":769,"d":"€ 769.00"}]
[null,212,1,23.72,{"v":0,"d":"0.00"},{"$f":"Hilfstabelle!B54","v":{"v":689,"d":"€ 689.00"}},{"v":709,"d":"€ 709.00"},{"v":729,"d":"€ 729.00"},{"v":749,"d":"€ 749.00"},{"v":769,"d":"€ 769.00"}]
[null,213,1,23.91,{"v":0,"d":"0.00"},{"$f":"Hilfstabelle!B55","v":{"v":689,"d":"€ 689.00"}},{"v":709,"d":"€ 709.00"},{"v":729,"d":"€ 729.00"},{"v":749,"d":"€ 749.00"},{"v":769,"d":"€ 769.00"}]
[null,214,1,23.72,{"v":0,"d":"0.00"},{"$f":"Hilfstabelle!B56","v":{"v":689,"d":"€ 689.00"}},{"v":709,"d":"€ 709.00"},{"v":729,"d":"€ 729.00"},{"v":749,"d":"€ 749.00"},{"v":769,"d":"€ 769.00"}]
[null,215,1,23.91,{"v":0,"d":"0.00"},{"$f":"Hilfstabelle!B57","v":{"v":689,"d":"€ 689.00"}},{"v":709,"d":"€ 709.00"},{"v":729,"d":"€ 729.00"},{"v":749,"d":"€ 749.00"},{"v":769,"d":"€ 769.00"}]
[null,216,1,23.26,{"v":0,"d":"0.00"},{"$f":"Hilfstabelle!B58","v":{"v":689,"d":"€ 689.00"}},{"v":709,"d":"€ 709.00"},{"v":729,"d":"€ 729.00"},{"v":749,"d":"€ 749.00"},{"v":769,"d":"€ 769.00"}]
[null,217,1,22.53,{"v":0,"d":"0.00"},{"$f":"Hilfstabelle!B59","v":{"v":689,"d":"€ 689.00"}},{"v":709,"d":"€ 709.00"},{"v":729,"d":"€ 729.00"},{"v":749,"d":"€ 749.00"},{"v":769,"d":"€ 769.00"}]
[null,218,2,{"v":51.4,"d":"51.40"},{"v":0,"d":"0.00"},{"$f":"Hilfstabelle!B60","v":{"v":1239,"d":"€ 1,239.00"}},{"$f":"F59+40","v":{"v":1279,"d":"€ 1,279.00"}},{"$f":"G59+40","v":{"v":1319,"d":"€ 1,319.00"}},{"v":1359,"d":"€ 1,359.00"},{"v":1399,"d":"€ 1,399.00"}]
[null,219,1,40.33,{"v":0,"d":"0.00"},{"$f":"Hilfstabelle!B61","v":{"v":969,"d":"€ 969.00"}},{"$f":"F60+30","v":{"v":999,"d":"€ 999.00"}},{"$f":"G60+30","v":{"v":1029,"d":"€ 1,029.00"}},{"v":1059,"d":"€ 1,059.00"},{"v":1089,"d":"€ 1,089.00"}]
[null,220,1,21.81,{"v":0,"d":"0.00"},{"$f":"Hilfstabelle!B62","v":{"v":689,"d":"€ 689.00"}},{"$f":"F61+20","v":{"v":709,"d":"€ 709.00"}},{"v":729,"d":"€ 729.00"},{"v":749,"d":"€ 749.00"},{"v":769,"d":"€ 769.00"}]
[null,221,1,{"v":33.7,"d":"33.70"},12.44,{"$f":"Hilfstabelle!B63","v":{"v":889,"d":"€ 889.00"}},{"$f":"F62+30","v":{"v":919,"d":"€ 919.00"}},{"$f":"G62+30","v":{"v":949,"d":"€ 949.00"}},{"v":979,"d":"€ 979.00"},{"v":1009,"d":"€ 1,009.00"}]
[null,222,1,23.48,4.77,{"$f":"Hilfstabelle!B64","v":{"v":739,"d":"€ 739.00"}},{"$f":"F63+20","v":{"v":759,"d":"€ 759.00"}},{"v":779,"d":"€ 779.00"},{"v":799,"d":"€ 799.00"},{"v":819,"d":"€ 819.00"}]
[null,223,1,23.48,4.77,{"$f":"Hilfstabelle!B65","v":{"v":739,"d":"€ 739.00"}},{"v":759,"d":"€ 759.00"},{"v":779,"d":"€ 779.00"},{"v":799,"d":"€ 799.00"},{"v":819,"d":"€ 819.00"}]
[null,224,1,23.21,4.77,{"$f":"Hilfstabelle!B66","v":{"v":739,"d":"€ 739.00"}},{"v":759,"d":"€ 759.00"},{"v":779,"d":"€ 779.00"},{"v":799,"d":"€ 799.00"},{"v":819,"d":"€ 819.00"}]
[null,225,1,23.52,4.77,{"$f":"Hilfstabelle!B67","v":{"v":739,"d":"€ 739.00"}},{"v":759,"d":"€ 759.00"},{"v":779,"d":"€ 779.00"},{"v":799,"d":"€ 799.00"},{"v":819,"d":"€ 819.00"}]
[null,226,1,23.46,4.77,{"$f":"Hilfstabelle!B68","v":{"v":739,"d":"€ 739.00"}},{"v":759,"d":"€ 759.00"},{"v":779,"d":"€ 779.00"},{"v":799,"d":"€ 799.00"},{"v":819,"d":"€ 819.00"}]
[null,227,1,23.31,4.77,{"$f":"Hilfstabelle!B69","v":{"v":739,"d":"€ 739.00"}},{"v":759,"d":"€ 759.00"},{"v":779,"d":"€ 779.00"},{"v":799,"d":"€ 799.00"},{"v":819,"d":"€ 819.00"}]
[null,228,1,23.44,4.77,{"$f":"Hilfstabelle!B70","v":{"v":739,"d":"€ 739.00"}},{"v":759,"d":"€ 759.00"},{"v":779,"d":"€ 779.00"},{"v":799,"d":"€ 799.00"},{"v":819,"d":"€ 819.00"}]
[null,229,1,23.31,4.77,{"$f":"Hilfstabelle!B71","v":{"v":739,"d":"€ 739.00"}},{"v":759,"d":"€ 759.00"},{"v":779,"d":"€ 779.00"},{"v":799,"d":"€ 799.00"},{"v":819,"d":"€ 819.00"}]
[null,230,1,23.44,4.77,{"$f":"Hilfstabelle!B72","v":{"v":739,"d":"€ 739.00"}},{"v":759,"d":"€ 759.00"},{"v":779,"d":"€ 779.00"},{"v":799,"d":"€ 799.00"},{"v":819,"d":"€ 819.00"}]
[null,231,1,23.28,4.77,{"$f":"Hilfstabelle!B73","v":{"v":739,"d":"€ 739.00"}},{"v":759,"d":"€ 759.00"},{"v":779,"d":"€ 779.00"},{"v":799,"d":"€ 799.00"},{"v":819,"d":"€ 819.00"}]
[null,232,"2 + AR",48.92,7.39,{"$f":"Hilfstabelle!B74","v":{"v":1239,"d":"€ 1,239.00"}},{"$f":"F73+40","v":{"v":1279,"d":"€ 1,279.00"}},{"$f":"G73+40","v":{"v":1319,"d":"€ 1,319.00"}},{"v":1359,"d":"€ 1,359.00"},{"v":1399,"d":"€ 1,399.00"}]
[null,233,1,23.29,4.77,{"$f":"Hilfstabelle!B75","v":{"v":739,"d":"€ 739.00"}},{"$f":"F74+20","v":{"v":759,"d":"€ 759.00"}},{"v":779,"d":"€ 779.00"},{"v":799,"d":"€ 799.00"},{"v":819,"d":"€ 819.00"}]
[null,234,1,23.48,4.77,{"$f":"Hilfstabelle!B76","v":{"v":739,"d":"€ 739.00"}},{"v":759,"d":"€ 759.00"},{"v":779,"d":"€ 779.00"},{"v":799,"d":"€ 799.00"},{"v":819,"d":"€ 819.00"}]
[null,235,1,23.29,4.77,{"$f":"Hilfstabelle!B77","v":{"v":739,"d":"€ 739.00"}},{"v":759,"d":"€ 759.00"},{"v":779,"d":"€ 779.00"},{"v":799,"d":"€ 799.00"},{"v":819,"d":"€ 819.00"}]
[null,236,1,23.48,3.34,{"$f":"Hilfstabelle!B78","v":{"v":739,"d":"€ 739.00"}},{"v":759,"d":"€ 759.00"},{"v":779,"d":"€ 779.00"},{"v":799,"d":"€ 799.00"},{"v":819,"d":"€ 819.00"}]
[null,237,3,48.46,{"v":9.8,"d":"9.80"},{"$f":"Hilfstabelle!B79","v":{"v":1309,"d":"€ 1,309.00"}},{"$f":"F78+40","v":{"v":1349,"d":"€ 1,349.00"}},{"$f":"G78+40","v":{"v":1389,"d":"€ 1,389.00"}},{"v":1429,"d":"€ 1,429.00"},{"v":1469,"d":"€ 1,469.00"}]
[]
["3. Stock",301,2,33.63,{"v":0,"d":"0.00"},{"$f":"Hilfstabelle!B81","v":{"v":989,"d":"€ 989.00"}},{"$f":"F80+30","v":{"v":1019,"d":"€ 1,019.00"}},{"$f":"G80+30","v":{"v":1049,"d":"€ 1,049.00"}},{"v":1079,"d":"€ 1,079.00"},{"v":1109,"d":"€ 1,109.00"}]
[null,302,1,22.75,{"v":0,"d":"0.00"},{"$f":"Hilfstabelle!B82","v":{"v":689,"d":"€ 689.00"}},{"$f":"F81+20","v":{"v":709,"d":"€ 709.00"}},{"v":729,"d":"€ 729.00"},{"v":749,"d":"€ 749.00"},{"v":769,"d":"€ 769.00"}]
[null,303,1,23.83,{"v":0,"d":"0.00"},{"$f":"Hilfstabelle!B83","v":{"v":689,"d":"€ 689.00"}},{"v":709,"d":"€ 709.00"},{"v":729,"d":"€ 729.00"},{"v":749,"d":"€ 749.00"},{"v":769,"d":"€ 769.00"}]
[null,304,1,23.72,{"v":0,"d":"0.00"},{"$f":"Hilfstabelle!B84","v":{"v":689,"d":"€ 689.00"}},{"v":709,"d":"€ 709.00"},{"v":729,"d":"€ 729.00"},{"v":749,"d":"€ 749.00"},{"v":769,"d":"€ 769.00"}]
[null,305,1,23.91,{"v":0,"d":"0.00"},{"$f":"Hilfstabelle!B85","v":{"v":689,"d":"€ 689.00"}},{"v":709,"d":"€ 709.00"},{"v":729,"d":"€ 729.00"},{"v":749,"d":"€ 749.00"},{"v":769,"d":"€ 769.00"}]
[null,306,1,23.72,{"v":0,"d":"0.00"},{"$f":"Hilfstabelle!B86","v":{"v":689,"d":"€ 689.00"}},{"v":709,"d":"€ 709.00"},{"v":729,"d":"€ 729.00"},{"v":749,"d":"€ 749.00"},{"v":769,"d":"€ 769.00"}]
[null,307,1,23.91,{"v":0,"d":"0.00"},{"$f":"Hilfstabelle!B87","v":{"v":689,"d":"€ 689.00"}},{"v":709,"d":"€ 709.00"},{"v":729,"d":"€ 729.00"},{"v":749,"d":"€ 749.00"},{"v":769,"d":"€ 769.00"}]
[null,308,1,23.72,{"v":0,"d":"0.00"},{"$f":"Hilfstabelle!B88","v":{"v":689,"d":"€ 689.00"}},{"v":709,"d":"€ 709.00"},{"v":729,"d":"€ 729.00"},{"v":749,"d":"€ 749.00"},{"v":769,"d":"€ 769.00"}]
[null,309,1,23.91,{"v":0,"d":"0.00"},{"$f":"Hilfstabelle!B89","v":{"v":689,"d":"€ 689.00"}},{"v":709,"d":"€ 709.00"},{"v":729,"d":"€ 729.00"},{"v":749,"d":"€ 749.00"},{"v":769,"d":"€ 769.00"}]
[null,310,1,23.72,{"v":0,"d":"0.00"},{"$f":"Hilfstabelle!B90","v":{"v":689,"d":"€ 689.00"}},{"v":709,"d":"€ 709.00"},{"v":729,"d":"€ 729.00"},{"v":749,"d":"€ 749.00"},{"v":769,"d":"€ 769.00"}]
[null,311,1,23.91,{"v":0,"d":"0.00"},{"$f":"Hilfstabelle!B91","v":{"v":689,"d":"€ 689.00"}},{"v":709,"d":"€ 709.00"},{"v":729,"d":"€ 729.00"},{"v":749,"d":"€ 749.00"},{"v":769,"d":"€ 769.00"}]
[null,312,1,23.72,{"v":0,"d":"0.00"},{"$f":"Hilfstabelle!B92","v":{"v":689,"d":"€ 689.00"}},{"v":709,"d":"€ 709.00"},{"v":729,"d":"€ 729.00"},{"v":749,"d":"€ 749.00"},{"v":769,"d":"€ 769.00"}]
[null,313,1,23.91,{"v":0,"d":"0.00"},{"$f":"Hilfstabelle!B93","v":{"v":689,"d":"€ 689.00"}},{"v":709,"d":"€ 709.00"},{"v":729,"d":"€ 729.00"},{"v":749,"d":"€ 749.00"},{"v":769,"d":"€ 769.00"}]
[null,314,1,23.72,{"v":0,"d":"0.00"},{"$f":"Hilfstabelle!B94","v":{"v":689,"d":"€ 689.00"}},{"v":709,"d":"€ 709.00"},{"v":729,"d":"€ 729.00"},{"v":749,"d":"€ 749.00"},{"v":769,"d":"€ 769.00"}]
[null,315,1,23.91,{"v":0,"d":"0.00"},{"$f":"Hilfstabelle!B95","v":{"v":689,"d":"€ 689.00"}},{"v":709,"d":"€ 709.00"},{"v":729,"d":"€ 729.00"},{"v":749,"d":"€ 749.00"},{"v":769,"d":"€ 769.00"}]
[null,316,1,23.25,{"v":0,"d":"0.00"},{"$f":"Hilfstabelle!B96","v":{"v":689,"d":"€ 689.00"}},{"v":709,"d":"€ 709.00"},{"v":729,"d":"€ 729.00"},{"v":749,"d":"€ 749.00"},{"v":769,"d":"€ 769.00"}]
[null,317,1,22.53,{"v":0,"d":"0.00"},{"$f":"Hilfstabelle!B97","v":{"v":689,"d":"€ 689.00"}},{"v":709,"d":"€ 709.00"},{"v":729,"d":"€ 729.00"},{"v":749,"d":"€ 749.00"},{"v":769,"d":"€ 769.00"}]
[null,318,2,51.41,{"v":0,"d":"0.00"},{"$f":"Hilfstabelle!B98","v":{"v":1239,"d":"€ 1,239.00"}},{"$f":"F97+40","v":{"v":1279,"d":"€ 1,279.00"}},{"$f":"G97+40","v":{"v":1319,"d":"€ 1,319.00"}},{"v":1359,"d":"€ 1,359.00"},{"v":1399,"d":"€ 1,399.00"}]
[null,319,1,40.33,{"v":0,"d":"0.00"},{"$f":"Hilfstabelle!B99","v":{"v":969,"d":"€ 969.00"}},{"$f":"F98+30","v":{"v":999,"d":"€ 999.00"}},{"$f":"G98+30","v":{"v":1029,"d":"€ 1,029.00"}},{"v":1059,"d":"€ 1,059.00"},{"v":1089,"d":"€ 1,089.00"}]
[null,320,1,21.81,{"v":0,"d":"0.00"},{"$f":"Hilfstabelle!B100","v":{"v":689,"d":"€ 689.00"}},{"$f":"F99+20","v":{"v":709,"d":"€ 709.00"}},{"v":729,"d":"€ 729.00"},{"v":749,"d":"€ 749.00"},{"v":769,"d":"€ 769.00"}]
[null,321,1,33.39,12.44,{"$f":"Hilfstabelle!B101","v":{"v":889,"d":"€ 889.00"}},{"$f":"F100+30","v":{"v":919,"d":"€ 919.00"}},{"$f":"G100+30","v":{"v":949,"d":"€ 949.00"}},{"v":979,"d":"€ 979.00"},{"v":1009,"d":"€ 1,009.00"}]
[null,322,1,23.48,4.77,{"$f":"Hilfstabelle!B102","v":{"v":739,"d":"€ 739.00"}},{"$f":"F101+20","v":{"v":759,"d":"€ 759.00"}},{"v":779,"d":"€ 779.00"},{"v":799,"d":"€ 799.00"},{"v":819,"d":"€ 819.00"}]
[null,323,1,23.48,4.77,{"$f":"Hilfstabelle!B103","v":{"v":739,"d":"€ 739.00"}},{"v":759,"d":"€ 759.00"},{"v":779,"d":"€ 779.00"},{"v":799,"d":"€ 799.00"},{"v":819,"d":"€ 819.00"}]
[null,324,1,23.21,4.77,{"$f":"Hilfstabelle!B104","v":{"v":739,"d":"€ 739.00"}},{"v":759,"d":"€ 759.00"},{"v":779,"d":"€ 779.00"},{"v":799,"d":"€ 799.00"},{"v":819,"d":"€ 819.00"}]
[null,325,1,23.52,4.77,{"$f":"Hilfstabelle!B105","v":{"v":739,"d":"€ 739.00"}},{"v":759,"d":"€ 759.00"},{"v":779,"d":"€ 779.00"},{"v":799,"d":"€ 799.00"},{"v":819,"d":"€ 819.00"}]
[null,326,1,23.46,4.77,{"$f":"Hilfstabelle!B106","v":{"v":739,"d":"€ 739.00"}},{"v":759,"d":"€ 759.00"},{"v":779,"d":"€ 779.00"},{"v":799,"d":"€ 799.00"},{"v":819,"d":"€ 819.00"}]
[null,327,1,{"v":23.3,"d":"23.30"},4.77,{"$f":"Hilfstabelle!B107","v":{"v":739,"d":"€ 739.00"}},{"v":759,"d":"€ 759.00"},{"v":779,"d":"€ 779.00"},{"v":799,"d":"€ 799.00"},{"v":819,"d":"€ 819.00"}]
[null,328,1,23.44,4.77,{"$f":"Hilfstabelle!B108","v":{"v":739,"d":"€ 739.00"}},{"v":759,"d":"€ 759.00"},{"v":779,"d":"€ 779.00"},{"v":799,"d":"€ 799.00"},{"v":819,"d":"€ 819.00"}]
[null,329,1,{"v":23.3,"d":"23.30"},4.77,{"$f":"Hilfstabelle!B109","v":{"v":739,"d":"€ 739.00"}},{"v":759,"d":"€ 759.00"},{"v":779,"d":"€ 779.00"},{"v":799,"d":"€ 799.00"},{"v":819,"d":"€ 819.00"}]
[null,330,1,23.45,4.77,{"$f":"Hilfstabelle!B110","v":{"v":739,"d":"€ 739.00"}},{"v":759,"d":"€ 759.00"},{"v":779,"d":"€ 779.00"},{"v":799,"d":"€ 799.00"},{"v":819,"d":"€ 819.00"}]
[null,331,1,23.28,4.77,{"$f":"Hilfstabelle!B111","v":{"v":739,"d":"€ 739.00"}},{"v":759,"d":"€ 759.00"},{"v":779,"d":"€ 779.00"},{"v":799,"d":"€ 799.00"},{"v":819,"d":"€ 819.00"}]
[null,332,"2 + AR",48.86,7.39,{"$f":"Hilfstabelle!B112","v":{"v":1239,"d":"€ 1,239.00"}},{"$f":"F111+40","v":{"v":1279,"d":"€ 1,279.00"}},{"$f":"G111+40","v":{"v":1319,"d":"€ 1,319.00"}},{"v":1359,"d":"€ 1,359.00"},{"v":1399,"d":"€ 1,399.00"}]
[null,333,1,23.29,4.77,{"$f":"Hilfstabelle!B113","v":{"v":739,"d":"€ 739.00"}},{"$f":"F112+20","v":{"v":759,"d":"€ 759.00"}},{"v":779,"d":"€ 779.00"},{"v":799,"d":"€ 799.00"},{"v":819,"d":"€ 819.00"}]
[null,334,1,23.48,4.77,{"$f":"Hilfstabelle!B114","v":{"v":739,"d":"€ 739.00"}},{"v":759,"d":"€ 759.00"},{"v":779,"d":"€ 779.00"},{"v":799,"d":"€ 799.00"},{"v":819,"d":"€ 819.00"}]
[null,335,1,23.29,4.77,{"$f":"Hilfstabelle!B115","v":{"v":739,"d":"€ 739.00"}},{"v":759,"d":"€ 759.00"},{"v":779,"d":"€ 779.00"},{"v":799,"d":"€ 799.00"},{"v":819,"d":"€ 819.00"}]
[null,336,1,23.48,3.34,{"$f":"Hilfstabelle!B116","v":{"v":739,"d":"€ 739.00"}},{"v":759,"d":"€ 759.00"},{"v":779,"d":"€ 779.00"},{"v":799,"d":"€ 799.00"},{"v":819,"d":"€ 819.00"}]
[null,337,3,48.47,{"v":9.8,"d":"9.80"},{"$f":"Hilfstabelle!B117","v":{"v":1309,"d":"€ 1,309.00"}},{"$f":"F116+40","v":{"v":1349,"d":"€ 1,349.00"}},{"$f":"G116+40","v":{"v":1389,"d":"€ 1,389.00"}},{"v":1429,"d":"€ 1,429.00"},{"v":1469,"d":"€ 1,469.00"}]
[]
["4. Stock",401,2,33.63,{"v":0,"d":"0.00"},{"$f":"Hilfstabelle!B119","v":{"v":989,"d":"€ 989.00"}},{"$f":"F118+30","v":{"v":1019,"d":"€ 1,019.00"}},{"$f":"G118+30","v":{"v":1049,"d":"€ 1,049.00"}},{"v":1079,"d":"€ 1,079.00"},{"v":1109,"d":"€ 1,109.00"}]
[null,402,1,22.75,{"v":0,"d":"0.00"},{"$f":"Hilfstabelle!B120","v":{"v":719,"d":"€ 719.00"}},{"$f":"F119+20","v":{"v":739,"d":"€ 739.00"}},{"v":759,"d":"€ 759.00"},{"v":779,"d":"€ 779.00"},{"v":799,"d":"€ 799.00"}]
[null,403,1,23.83,{"v":0,"d":"0.00"},{"$f":"Hilfstabelle!B121","v":{"v":719,"d":"€ 719.00"}},{"v":739,"d":"€ 739.00"},{"v":759,"d":"€ 759.00"},{"v":779,"d":"€ 779.00"},{"v":799,"d":"€ 799.00"}]
[null,404,1,23.72,{"v":0,"d":"0.00"},{"$f":"Hilfstabelle!B122","v":{"v":719,"d":"€ 719.00"}},{"v":739,"d":"€ 739.00"},{"v":759,"d":"€ 759.00"},{"v":779,"d":"€ 779.00"},{"v":799,"d":"€ 799.00"}]
[null,405,1,23.91,{"v":0,"d":"0.00"},{"$f":"Hilfstabelle!B123","v":{"v":719,"d":"€ 719.00"}},{"v":739,"d":"€ 739.00"},{"v":759,"d":"€ 759.00"},{"v":779,"d":"€ 779.00"},{"v":799,"d":"€ 799.00"}]
[null,406,1,23.72,{"v":0,"d":"0.00"},{"$f":"Hilfstabelle!B124","v":{"v":719,"d":"€ 719.00"}},{"v":739,"d":"€ 739.00"},{"v":759,"d":"€ 759.00"},{"v":779,"d":"€ 779.00"},{"v":799,"d":"€ 799.00"}]
[null,407,1,23.91,{"v":0,"d":"0.00"},{"$f":"Hilfstabelle!B125","v":{"v":719,"d":"€ 719.00"}},{"v":739,"d":"€ 739.00"},{"v":759,"d":"€ 759.00"},{"v":779,"d":"€ 779.00"},{"v":799,"d":"€ 799.00"}]
[null,408,1,23.72,{"v":0,"d":"0.00"},{"$f":"Hilfstabelle!B126","v":{"v":719,"d":"€ 719.00"}},{"v":739,"d":"€ 739.00"},{"v":759,"d":"€ 759.00"},{"v":779,"d":"€ 779.00"},{"v":799,"d":"€ 799.00"}]
[null,409,1,23.91,{"v":0,"d":"0.00"},{"$f":"Hilfstabelle!B127","v":{"v":719,"d":"€ 719.00"}},{"v":739,"d":"€ 739.00"},{"v":759,"d":"€ 759.00"},{"v":779,"d":"€ 779.00"},{"v":799,"d":"€ 799.00"}]
[null,410,1,23.72,{"v":0,"d":"0.00"},{"$f":"Hilfstabelle!B128","v":{"v":719,"d":"€ 719.00"}},{"v":739,"d":"€ 739.00"},{"v":759,"d":"€ 759.00"},{"v":779,"d":"€ 779.00"},{"v":799,"d":"€ 799.00"}]
[null,411,1,23.91,{"v":0,"d":"0.00"},{"$f":"Hilfstabelle!B129","v":{"v":719,"d":"€ 719.00"}},{"v":739,"d":"€ 739.00"},{"v":759,"d":"€ 759.00"},{"v":779,"d":"€ 779.00"},{"v":799,"d":"€ 799.00"}]
[null,412,1,23.72,{"v":0,"d":"0.00"},{"$f":"Hilfstabelle!B130","v":{"v":719,"d":"€ 719.00"}},{"v":739,"d":"€ 739.00"},{"v":759,"d":"€ 759.00"},{"v":779,"d":"€ 779.00"},{"v":799,"d":"€ 799.00"}]
[null,413,1,23.91,{"v":0,"d":"0.00"},{"$f":"Hilfstabelle!B131","v":{"v":719,"d":"€ 719.00"}},{"v":739,"d":"€ 739.00"},{"v":759,"d":"€ 759.00"},{"v":779,"d":"€ 779.00"},{"v":799,"d":"€ 799.00"}]
[null,414,1,23.72,{"v":0,"d":"0.00"},{"$f":"Hilfstabelle!B132","v":{"v":719,"d":"€ 719.00"}},{"v":739,"d":"€ 739.00"},{"v":759,"d":"€ 759.00"},{"v":779,"d":"€ 779.00"},{"v":799,"d":"€ 799.00"}]
[null,415,1,23.91,{"v":0,"d":"0.00"},{"$f":"Hilfstabelle!B133","v":{"v":719,"d":"€ 719.00"}},{"v":739,"d":"€ 739.00"},{"v":759,"d":"€ 759.00"},{"v":779,"d":"€ 779.00"},{"v":799,"d":"€ 799.00"}]
[null,416,1,23.25,{"v":0,"d":"0.00"},{"$f":"Hilfstabelle!B134","v":{"v":719,"d":"€ 719.00"}},{"v":739,"d":"€ 739.00"},{"v":759,"d":"€ 759.00"},{"v":779,"d":"€ 779.00"},{"v":799,"d":"€ 799.00"}]
[null,417,1,22.53,{"v":0,"d":"0.00"},{"$f":"Hilfstabelle!B135","v":{"v":719,"d":"€ 719.00"}},{"v":739,"d":"€ 739.00"},{"v":759,"d":"€ 759.00"},{"v":779,"d":"€ 779.00"},{"v":799,"d":"€ 799.00"}]
[null,418,2,{"v":51.4,"d":"51.40"},{"v":0,"d":"0.00"},{"$f":"Hilfstabelle!B136","v":{"v":1239,"d":"€ 1,239.00"}},{"$f":"F135+40","v":{"v":1279,"d":"€ 1,279.00"}},{"$f":"G135+40","v":{"v":1319,"d":"€ 1,319.00"}},{"v":1359,"d":"€ 1,359.00"},{"v":1399,"d":"€ 1,399.00"}]
[null,419,1,40.33,{"v":0,"d":"0.00"},{"$f":"Hilfstabelle!B137","v":{"v":969,"d":"€ 969.00"}},{"$f":"F136+30","v":{"v":999,"d":"€ 999.00"}},{"$f":"G136+30","v":{"v":1029,"d":"€ 1,029.00"}},{"v":1059,"d":"€ 1,059.00"},{"v":1089,"d":"€ 1,089.00"}]
[null,420,1,21.81,{"v":0,"d":"0.00"},{"$f":"Hilfstabelle!B138","v":{"v":719,"d":"€ 719.00"}},{"$f":"F137+20","v":{"v":739,"d":"€ 739.00"}},{"v":759,"d":"€ 759.00"},{"v":779,"d":"€ 779.00"},{"v":799,"d":"€ 799.00"}]
[null,421,1,33.39,12.44,{"$f":"Hilfstabelle!B139","v":{"v":889,"d":"€ 889.00"}},{"$f":"F138+30","v":{"v":919,"d":"€ 919.00"}},{"$f":"G138+30","v":{"v":949,"d":"€ 949.00"}},{"v":979,"d":"€ 979.00"},{"v":1009,"d":"€ 1,009.00"}]
[null,422,1,23.48,4.77,{"$f":"Hilfstabelle!B140","v":{"v":759,"d":"€ 759.00"}},{"$f":"F139+20","v":{"v":779,"d":"€ 779.00"}},{"v":799,"d":"€ 799.00"},{"v":819,"d":"€ 819.00"},{"v":839,"d":"€ 839.00"}]
[null,423,1,23.48,4.77,{"$f":"Hilfstabelle!B141","v":{"v":759,"d":"€ 759.00"}},{"v":779,"d":"€ 779.00"},{"v":799,"d":"€ 799.00"},{"v":819,"d":"€ 819.00"},{"v":839,"d":"€ 839.00"}]
[null,424,1,23.21,4.77,{"$f":"Hilfstabelle!B142","v":{"v":759,"d":"€ 759.00"}},{"v":779,"d":"€ 779.00"},{"v":799,"d":"€ 799.00"},{"v":819,"d":"€ 819.00"},{"v":839,"d":"€ 839.00"}]
[null,425,1,23.47,4.77,{"$f":"Hilfstabelle!B143","v":{"v":759,"d":"€ 759.00"}},{"v":779,"d":"€ 779.00"},{"v":799,"d":"€ 799.00"},{"v":819,"d":"€ 819.00"},{"v":839,"d":"€ 839.00"}]
[null,426,1,23.45,4.77,{"$f":"Hilfstabelle!B144","v":{"v":759,"d":"€ 759.00"}},{"v":779,"d":"€ 779.00"},{"v":799,"d":"€ 799.00"},{"v":819,"d":"€ 819.00"},{"v":839,"d":"€ 839.00"}]
[null,427,1,23.29,4.77,{"$f":"Hilfstabelle!B145","v":{"v":759,"d":"€ 759.00"}},{"v":779,"d":"€ 779.00"},{"v":799,"d":"€ 799.00"},{"v":819,"d":"€ 819.00"},{"v":839,"d":"€ 839.00"}]
[null,428,1,23.45,4.77,{"$f":"Hilfstabelle!B146","v":{"v":759,"d":"€ 759.00"}},{"v":779,"d":"€ 779.00"},{"v":799,"d":"€ 799.00"},{"v":819,"d":"€ 819.00"},{"v":839,"d":"€ 839.00"}]
[null,429,1,23.27,4.77,{"$f":"Hilfstabelle!B147","v":{"v":759,"d":"€ 759.00"}},{"v":779,"d":"€ 779.00"},{"v":799,"d":"€ 799.00"},{"v":819,"d":"€ 819.00"},{"v":839,"d":"€ 839.00"}]
[null,430,1,23.45,4.77,{"$f":"Hilfstabelle!B148","v":{"v":759,"d":"€ 759.00"}},{"v":779,"d":"€ 779.00"},{"v":799,"d":"€ 799.00"},{"v":819,"d":"€ 819.00"},{"v":839,"d":"€ 839.00"}]
[null,431,1,23.28,4.77,{"$f":"Hilfstabelle!B149","v":{"v":759,"d":"€ 759.00"}},{"v":779,"d":"€ 779.00"},{"v":799,"d":"€ 799.00"},{"v":819,"d":"€ 819.00"},{"v":839,"d":"€ 839.00"}]
[null,432,"2 + AR",48.85,7.39,{"$f":"Hilfstabelle!B150","v":{"v":1229,"d":"€ 1,229.00"}},{"$f":"F149+40","v":{"v":1269,"d":"€ 1,269.00"}},{"$f":"G149+40","v":{"v":1309,"d":"€ 1,309.00"}},{"v":1349,"d":"€ 1,349.00"},{"v":1389,"d":"€ 1,389.00"}]
[null,433,1,23.29,4.77,{"$f":"Hilfstabelle!B151","v":{"v":759,"d":"€ 759.00"}},{"$f":"F150+20","v":{"v":779,"d":"€ 779.00"}},{"v":799,"d":"€ 799.00"},{"v":819,"d":"€ 819.00"},{"v":839,"d":"€ 839.00"}]
[null,434,1,23.48,4.77,{"$f":"Hilfstabelle!B152","v":{"v":759,"d":"€ 759.00"}},{"v":779,"d":"€ 779.00"},{"v":799,"d":"€ 799.00"},{"v":819,"d":"€ 819.00"},{"v":839,"d":"€ 839.00"}]
[null,435,1,23.29,4.77,{"$f":"Hilfstabelle!B153","v":{"v":759,"d":"€ 759.00"}},{"v":779,"d":"€ 779.00"},{"v":799,"d":"€ 799.00"},{"v":819,"d":"€ 819.00"},{"v":839,"d":"€ 839.00"}]
[null,436,1,23.48,3.34,{"$f":"Hilfstabelle!B154","v":{"v":759,"d":"€ 759.00"}},{"v":779,"d":"€ 779.00"},{"v":799,"d":"€ 799.00"},{"v":819,"d":"€ 819.00"},{"v":839,"d":"€ 839.00"}]
[null,437,3,48.39,{"v":9.8,"d":"9.80"},{"$f":"Hilfstabelle!B155","v":{"v":1279,"d":"€ 1,279.00"}},{"$f":"F154+40","v":{"v":1319,"d":"€ 1,319.00"}},{"$f":"G154+40","v":{"v":1359,"d":"€ 1,359.00"}},{"v":1399,"d":"€ 1,399.00"},{"v":1439,"d":"€ 1,439.00"}]
[]
["5. Stock",501,2,33.63,{"v":0,"d":"0.00"},{"$f":"Hilfstabelle!B157","v":{"v":989,"d":"€ 989.00"}},{"$f":"F156+30","v":{"v":1019,"d":"€ 1,019.00"}},{"$f":"G156+30","v":{"v":1049,"d":"€ 1,049.00"}},{"v":1079,"d":"€ 1,079.00"},{"v":1109,"d":"€ 1,109.00"}]
[null,502,1,22.75,{"v":0,"d":"0.00"},{"$f":"Hilfstabelle!B158","v":{"v":719,"d":"€ 719.00"}},{"$f":"F157+20","v":{"v":739,"d":"€ 739.00"}},{"v":759,"d":"€ 759.00"},{"v":779,"d":"€ 779.00"},{"v":799,"d":"€ 799.00"}]
[null,503,1,23.82,{"v":0,"d":"0.00"},{"$f":"Hilfstabelle!B159","v":{"v":719,"d":"€ 719.00"}},{"v":739,"d":"€ 739.00"},{"v":759,"d":"€ 759.00"},{"v":779,"d":"€ 779.00"},{"v":799,"d":"€ 799.00"}]
[null,504,1,23.71,{"v":0,"d":"0.00"},{"$f":"Hilfstabelle!B160","v":{"v":719,"d":"€ 719.00"}},{"v":739,"d":"€ 739.00"},{"v":759,"d":"€ 759.00"},{"v":779,"d":"€ 779.00"},{"v":799,"d":"€ 799.00"}]
[null,505,1,{"v":23.9,"d":"23.90"},{"v":0,"d":"0.00"},{"$f":"Hilfstabelle!B161","v":{"v":719,"d":"€ 719.00"}},{"v":739,"d":"€ 739.00"},{"v":759,"d":"€ 759.00"},{"v":779,"d":"€ 779.00"},{"v":799,"d":"€ 799.00"}]
[null,506,1,23.72,{"v":0,"d":"0.00"},{"$f":"Hilfstabelle!B162","v":{"v":719,"d":"€ 719.00"}},{"v":739,"d":"€ 739.00"},{"v":759,"d":"€ 759.00"},{"v":779,"d":"€ 779.00"},{"v":799,"d":"€ 799.00"}]
[null,507,1,23.91,{"v":0,"d":"0.00"},{"$f":"Hilfstabelle!B163","v":{"v":719,"d":"€ 719.00"}},{"v":739,"d":"€ 739.00"},{"v":759,"d":"€ 759.00"},{"v":779,"d":"€ 779.00"},{"v":799,"d":"€ 799.00"}]
[null,508,1,23.71,{"v":0,"d":"0.00"},{"$f":"Hilfstabelle!B164","v":{"v":719,"d":"€ 719.00"}},{"v":739,"d":"€ 739.00"},{"v":759,"d":"€ 759.00"},{"v":779,"d":"€ 779.00"},{"v":799,"d":"€ 799.00"}]
[null,509,1,{"v":23.9,"d":"23.90"},{"v":0,"d":"0.00"},{"$f":"Hilfstabelle!B165","v":{"v":719,"d":"€ 719.00"}},{"v":739,"d":"€ 739.00"},{"v":759,"d":"€ 759.00"},{"v":779,"d":"€ 779.00"},{"v":799,"d":"€ 799.00"}]
[null,510,1,23.71,{"v":0,"d":"0.00"},{"$f":"Hilfstabelle!B166","v":{"v":719,"d":"€ 719.00"}},{"v":739,"d":"€ 739.00"},{"v":759,"d":"€ 759.00"},{"v":779,"d":"€ 779.00"},{"v":799,"d":"€ 799.00"}]
[null,511,1,{"v":23.9,"d":"23.90"},{"v":0,"d":"0.00"},{"$f":"Hilfstabelle!B167","v":{"v":719,"d":"€ 719.00"}},{"v":739,"d":"€ 739.00"},{"v":759,"d":"€ 759.00"},{"v":779,"d":"€ 779.00"},{"v":799,"d":"€ 799.00"}]
[null,512,1,23.72,{"v":0,"d":"0.00"},{"$f":"Hilfstabelle!B168","v":{"v":719,"d":"€ 719.00"}},{"v":739,"d":"€ 739.00"},{"v":759,"d":"€ 759.00"},{"v":779,"d":"€ 779.00"},{"v":799,"d":"€ 799.00"}]
[null,513,1,23.91,{"v":0,"d":"0.00"},{"$f":"Hilfstabelle!B169","v":{"v":719,"d":"€ 719.00"}},{"v":739,"d":"€ 739.00"},{"v":759,"d":"€ 759.00"},{"v":779,"d":"€ 779.00"},{"v":799,"d":"€ 799.00"}]
[null,514,1,23.72,{"v":0,"d":"0.00"},{"$f":"Hilfstabelle!B170","v":{"v":719,"d":"€ 719.00"}},{"v":739,"d":"€ 739.00"},{"v":759,"d":"€ 759.00"},{"v":779,"d":"€ 779.00"},{"v":799,"d":"€ 799.00"}]
[null,515,1,23.91,{"v":0,"d":"0.00"},{"$f":"Hilfstabelle!B171","v":{"v":719,"d":"€ 719.00"}},{"v":739,"d":"€ 739.00"},{"v":759,"d":"€ 759.00"},{"v":779,"d":"€ 779.00"},{"v":799,"d":"€ 799.00"}]
[null,516,1,23.25,{"v":0,"d":"0.00"},{"$f":"Hilfstabelle!B172","v":{"v":719,"d":"€ 719.00"}},{"v":739,"d":"€ 739.00"},{"v":759,"d":"€ 759.00"},{"v":779,"d":"€ 779.00"},{"v":799,"d":"€ 799.00"}]
[null,517,1,22.53,{"v":0,"d":"0.00"},{"$f":"Hilfstabelle!B173","v":{"v":719,"d":"€ 719.00"}},{"v":739,"d":"€ 739.00"},{"v":759,"d":"€ 759.00"},{"v":779,"d":"€ 779.00"},{"v":799,"d":"€ 799.00"}]
[null,518,2,{"v":51.4,"d":"51.40"},{"v":0,"d":"0.00"},{"$f":"Hilfstabelle!B174","v":{"v":1239,"d":"€ 1,239.00"}},{"$f":"F173+40","v":{"v":1279,"d":"€ 1,279.00"}},{"$f":"G173+40","v":{"v":1319,"d":"€ 1,319.00"}},{"v":1359,"d":"€ 1,359.00"},{"v":1399,"d":"€ 1,399.00"}]
[null,519,1,40.33,{"v":0,"d":"0.00"},{"$f":"Hilfstabelle!B175","v":{"v":969,"d":"€ 969.00"}},{"$f":"F174+30","v":{"v":999,"d":"€ 999.00"}},{"$f":"G174+30","v":{"v":1029,"d":"€ 1,029.00"}},{"v":1059,"d":"€ 1,059.00"},{"v":1089,"d":"€ 1,089.00"}]
[null,520,3,62.86,12.44,{"$f":"Hilfstabelle!B176","v":{"v":1379,"d":"€ 1,379.00"}},{"$f":"F175+50","v":{"v":1429,"d":"€ 1,429.00"}},{"$f":"G175+50","v":{"v":1479,"d":"€ 1,479.00"}},{"v":1529,"d":"€ 1,529.00"},{"v":1579,"d":"€ 1,579.00"}]
[null,521,"2 + AR",{"v":48.3,"d":"48.30"},9.59,{"$f":"Hilfstabelle!B177","v":{"v":1259,"d":"€ 1,259.00"}},{"$f":"F176+40","v":{"v":1299,"d":"€ 1,299.00"}},{"$f":"G176+40","v":{"v":1339,"d":"€ 1,339.00"}},{"v":1379,"d":"€ 1,379.00"},{"v":1419,"d":"€ 1,419.00"}]
[null,522,"2 + AR",47.66,9.59,{"$f":"Hilfstabelle!B178","v":{"v":1259,"d":"€ 1,259.00"}},{"$f":"F177+40","v":{"v":1299,"d":"€ 1,299.00"}},{"v":1339,"d":"€ 1,339.00"},{"v":1379,"d":"€ 1,379.00"},{"v":1419,"d":"€ 1,419.00"}]
[null,523,"2 + AR",48.16,9.59,{"$f":"Hilfstabelle!B179","v":{"v":1259,"d":"€ 1,259.00"}},{"$f":"F178+40","v":{"v":1299,"d":"€ 1,299.00"}},{"v":1339,"d":"€ 1,339.00"},{"v":1379,"d":"€ 1,379.00"},{"v":1419,"d":"€ 1,419.00"}]
[null,524,"2 + AR",48.18,9.59,{"$f":"Hilfstabelle!B180","v":{"v":1259,"d":"€ 1,259.00"}},{"$f":"F179+40","v":{"v":1299,"d":"€ 1,299.00"}},{"v":1339,"d":"€ 1,339.00"},{"v":1379,"d":"€ 1,379.00"},{"v":1419,"d":"€ 1,419.00"}]
[null,525,"2 + AR",48.18,9.59,{"$f":"Hilfstabelle!B181","v":{"v":1259,"d":"€ 1,259.00"}},{"$f":"F180+40","v":{"v":1299,"d":"€ 1,299.00"}},{"v":1339,"d":"€ 1,339.00"},{"v":1379,"d":"€ 1,379.00"},{"v":1419,"d":"€ 1,419.00"}]
[null,526,"3 + 2x AR",74.22,{"v":12.2,"d":"12.20"},{"$f":"Hilfstabelle!B182","v":{"v":1479,"d":"€ 1,479.00"}},{"$f":"F181+50","v":{"v":1529,"d":"€ 1,529.00"}},{"$f":"G181+50","v":{"v":1579,"d":"€ 1,579.00"}},{"v":1629,"d":"€ 1,629.00"},{"v":1679,"d":"€ 1,679.00"}]
[null,527,"2 + AR",48.18,9.58,{"$f":"Hilfstabelle!B183","v":{"v":1309,"d":"€ 1,309.00"}},{"$f":"F182+40","v":{"v":1349,"d":"€ 1,349.00"}},{"$f":"G182+40","v":{"v":1389,"d":"€ 1,389.00"}},{"v":1429,"d":"€ 1,429.00"},{"v":1469,"d":"€ 1,469.00"}]
[null,528,"4 + AR",73.23,13.14,{"$f":"Hilfstabelle!B184","v":{"v":1539,"d":"€ 1,539.00"}},{"$f":"F183+50","v":{"v":1589,"d":"€ 1,589.00"}},{"$f":"G183+50","v":{"v":1639,"d":"€ 1,639.00"}},{"v":1689,"d":"€ 1,689.00"},{"v":1739,"d":"€ 1,739.00"}]
[]
["6. Stock",601,2,33.63,{"v":0,"d":"0.00"},{"$f":"Hilfstabelle!B186","v":{"v":989,"d":"€ 989.00"}},{"$f":"F185+30","v":{"v":1019,"d":"€ 1,019.00"}},{"$f":"G185+30","v":{"v":1049,"d":"€ 1,049.00"}},{"v":1079,"d":"€ 1,079.00"},{"v":1109,"d":"€ 1,109.00"}]
[null,602,1,22.75,{"v":0,"d":"0.00"},{"$f":"Hilfstabelle!B187","v":{"v":719,"d":"€ 719.00"}},{"$f":"F186+20","v":{"v":739,"d":"€ 739.00"}},{"v":759,"d":"€ 759.00"},{"v":779,"d":"€ 779.00"},{"v":799,"d":"€ 799.00"}]
[null,603,1,23.83,{"v":0,"d":"0.00"},{"$f":"Hilfstabelle!B188","v":{"v":719,"d":"€ 719.00"}},{"v":739,"d":"€ 739.00"},{"v":759,"d":"€ 759.00"},{"v":779,"d":"€ 779.00"},{"v":799,"d":"€ 799.00"}]
[null,604,1,23.72,{"v":0,"d":"0.00"},{"$f":"Hilfstabelle!B189","v":{"v":719,"d":"€ 719.00"}},{"v":739,"d":"€ 739.00"},{"v":759,"d":"€ 759.00"},{"v":779,"d":"€ 779.00"},{"v":799,"d":"€ 799.00"}]
[null,605,1,23.91,{"v":0,"d":"0.00"},{"$f":"Hilfstabelle!B190","v":{"v":719,"d":"€ 719.00"}},{"v":739,"d":"€ 739.00"},{"v":759,"d":"€ 759.00"},{"v":779,"d":"€ 779.00"},{"v":799,"d":"€ 799.00"}]
[null,606,1,23.72,{"v":0,"d":"0.00"},{"$f":"Hilfstabelle!B191","v":{"v":719,"d":"€ 719.00"}},{"v":739,"d":"€ 739.00"},{"v":759,"d":"€ 759.00"},{"v":779,"d":"€ 779.00"},{"v":799,"d":"€ 799.00"}]
[null,607,1,23.91,{"v":0,"d":"0.00"},{"$f":"Hilfstabelle!B192","v":{"v":719,"d":"€ 719.00"}},{"v":739,"d":"€ 739.00"},{"v":759,"d":"€ 759.00"},{"v":779,"d":"€ 779.00"},{"v":799,"d":"€ 799.00"}]
[null,608,1,23.72,{"v":0,"d":"0.00"},{"$f":"Hilfstabelle!B193","v":{"v":719,"d":"€ 719.00"}},{"v":739,"d":"€ 739.00"},{"v":759,"d":"€ 759.00"},{"v":779,"d":"€ 779.00"},{"v":799,"d":"€ 799.00"}]
[null,609,1,23.91,{"v":0,"d":"0.00"},{"$f":"Hilfstabelle!B194","v":{"v":719,"d":"€ 719.00"}},{"v":739,"d":"€ 739.00"},{"v":759,"d":"€ 759.00"},{"v":779,"d":"€ 779.00"},{"v":799,"d":"€ 799.00"}]
[null,610,1,23.72,{"v":0,"d":"0.00"},{"$f":"Hilfstabelle!B195","v":{"v":719,"d":"€ 719.00"}},{"v":739,"d":"€ 739.00"},{"v":759,"d":"€ 759.00"},{"v":779,"d":"€ 779.00"},{"v":799,"d":"€ 799.00"}]
[null,611,1,23.91,{"v":0,"d":"0.00"},{"$f":"Hilfstabelle!B196","v":{"v":719,"d":"€ 719.00"}},{"v":739,"d":"€ 739.00"},{"v":759,"d":"€ 759.00"},{"v":779,"d":"€ 779.00"},{"v":799,"d":"€ 799.00"}]
[null,612,1,23.72,{"v":0,"d":"0.00"},{"$f":"Hilfstabelle!B197","v":{"v":719,"d":"€ 719.00"}},{"v":739,"d":"€ 739.00"},{"v":759,"d":"€ 759.00"},{"v":779,"d":"€ 779.00"},{"v":799,"d":"€ 799.00"}]
[null,613,1,23.91,{"v":0,"d":"0.00"},{"$f":"Hilfstabelle!B198","v":{"v":719,"d":"€ 719.00"}},{"v":739,"d":"€ 739.00"},{"v":759,"d":"€ 759.00"},{"v":779,"d":"€ 779.00"},{"v":799,"d":"€ 799.00"}]
[null,614,1,23.72,{"v":0,"d":"0.00"},{"$f":"Hilfstabelle!B199","v":{"v":719,"d":"€ 719.00"}},{"v":739,"d":"€ 739.00"},{"v":759,"d":"€ 759.00"},{"v":779,"d":"€ 779.00"},{"v":799,"d":"€ 799.00"}]
[null,615,1,23.91,{"v":0,"d":"0.00"},{"$f":"Hilfstabelle!B200","v":{"v":719,"d":"€ 719.00"}},{"v":739,"d":"€ 739.00"},{"v":759,"d":"€ 759.00"},{"v":779,"d":"€ 779.00"},{"v":799,"d":"€ 799.00"}]
[null,616,1,23.25,{"v":0,"d":"0.00"},{"$f":"Hilfstabelle!B201","v":{"v":719,"d":"€ 719.00"}},{"v":739,"d":"€ 739.00"},{"v":759,"d":"€ 759.00"},{"v":779,"d":"€ 779.00"},{"v":799,"d":"€ 799.00"}]
[null,617,1,22.53,{"v":0,"d":"0.00"},{"$f":"Hilfstabelle!B202","v":{"v":719,"d":"€ 719.00"}},{"v":739,"d":"€ 739.00"},{"v":759,"d":"€ 759.00"},{"v":779,"d":"€ 779.00"},{"v":799,"d":"€ 799.00"}]
[null,618,2,{"v":51.4,"d":"51.40"},{"v":0,"d":"0.00"},{"$f":"Hilfstabelle!B203","v":{"v":1249,"d":"€ 1,249.00"}},{"$f":"F202+40","v":{"v":1289,"d":"€ 1,289.00"}},{"$f":"G202+40","v":{"v":1329,"d":"€ 1,329.00"}},{"v":1369,"d":"€ 1,369.00"},{"v":1409,"d":"€ 1,409.00"}]
[null,619,1,40.33,{"v":0,"d":"0.00"},{"$f":"Hilfstabelle!B204","v":{"v":969,"d":"€ 969.00"}},{"$f":"F203+30","v":{"v":999,"d":"€ 999.00"}},{"$f":"G203+30","v":{"v":1029,"d":"€ 1,029.00"}},{"v":1059,"d":"€ 1,059.00"},{"v":1089,"d":"€ 1,089.00"}]
[null,620,2,42.05,12.43,{"$f":"Hilfstabelle!B205","v":{"v":1029,"d":"€ 1,029.00"}},{"$f":"F204+30","v":{"v":1059,"d":"€ 1,059.00"}},{"v":1089,"d":"€ 1,089.00"},{"v":1119,"d":"€ 1,119.00"},{"v":1149,"d":"€ 1,149.00"}]
[null,621,1,27.74,16.52,{"$f":"Hilfstabelle!B206","v":{"v":819,"d":"€ 819.00"}},{"$f":"F205+30","v":{"v":849,"d":"€ 849.00"}},{"v":879,"d":"€ 879.00"},{"v":909,"d":"€ 909.00"},{"v":939,"d":"€ 939.00"}]
[null,622,1,27.44,16.27,{"$f":"Hilfstabelle!B207","v":{"v":819,"d":"€ 819.00"}},{"$f":"F206+30","v":{"v":849,"d":"€ 849.00"}},{"v":879,"d":"€ 879.00"},{"v":909,"d":"€ 909.00"},{"v":939,"d":"€ 939.00"}]
[null,623,1,27.26,15.62,{"$f":"Hilfstabelle!B208","v":{"v":819,"d":"€ 819.00"}},{"$f":"F207+30","v":{"v":849,"d":"€ 849.00"}},{"v":879,"d":"€ 879.00"},{"v":909,"d":"€ 909.00"},{"v":939,"d":"€ 939.00"}]
[null,624,2,36.94,6.83,{"$f":"Hilfstabelle!B209","v":{"v":1069,"d":"€ 1,069.00"}},{"$f":"F208+40","v":{"v":1109,"d":"€ 1,109.00"}},{"$f":"G208+40","v":{"v":1149,"d":"€ 1,149.00"}},{"v":1189,"d":"€ 1,189.00"},{"v":1229,"d":"€ 1,229.00"}]
[null,625,1,27.46,{"v":16.1,"d":"16.10"},{"$f":"Hilfstabelle!B210","v":{"v":819,"d":"€ 819.00"}},{"$f":"F209+30","v":{"v":849,"d":"€ 849.00"}},{"$f":"G209+30","v":{"v":879,"d":"€ 879.00"}},{"v":909,"d":"€ 909.00"},{"v":939,"d":"€ 939.00"}]
[null,626,2,45.31,23.79,{"$f":"Hilfstabelle!B211","v":{"v":1149,"d":"€ 1,149.00"}},{"$f":"F210+40","v":{"v":1189,"d":"€ 1,189.00"}},{"$f":"G210+40","v":{"v":1229,"d":"€ 1,229.00"}},{"v":1269,"d":"€ 1,269.00"},{"v":1309,"d":"€ 1,309.00"}]
[null,627,1,27.45,{"v":16.8,"d":"16.80"},{"$f":"Hilfstabelle!B212","v":{"v":819,"d":"€ 819.00"}},{"$f":"F211+30","v":{"v":849,"d":"€ 849.00"}},{"$f":"G211+30","v":{"v":879,"d":"€ 879.00"}},{"v":909,"d":"€ 909.00"},{"v":939,"d":"€ 939.00"}]
[null,628,1,26.94,37.84,{"$f":"Hilfstabelle!B213","v":{"v":869,"d":"€ 869.00"}},{"$f":"F212+30","v":{"v":899,"d":"€ 899.00"}},{"v":929,"d":"€ 929.00"},{"v":959,"d":"€ 959.00"},{"v":989,"d":"€ 989.00"}]
[]
[{"$nulls":5},{"$f":"SUM(F4:F212)","v":{"v":164296,"d":"€ 164,296.00"}},{"$f":"SUM(G4:G212)","v":{"v":169116,"d":"€ 169,116.00"}},{"$f":"SUM(H4:H212)","v":{"v":173936,"d":"€ 173,936.00"}},{"$f":"SUM(I4:I212)","v":{"v":178756,"d":"€ 178,756.00"}},{"$f":"SUM(J4:J212)","v":{"v":183576,"d":"€ 183,576.00"}}]

{"sheet":"Hilfstabelle","index":1,"n_rows":220,"n_cols":30,"rows_kept":220,"merged":[[6,29,6,32],[7,29,7,32],[8,29,8,32]]}
[]
[null,"Miete 6 Monate","Miete 5 Monate","Miete 4 Monate","Miete 3 Monate","Miete 2 Monate",null,"Basis 6",null,"Fläche","Zimmer","Freifläche",{"$nulls":10},"alte Basis","Änderung","neue Basis",{"$nulls":4},"Mietanpassung Index"]
[{"$nulls":25},"manuell zum","Kontrolle",null,null,"Formel"]
[{"$nulls":16},"Dif Altpre","Dif Neup",{"$nulls":7},"Kopieren",{"$nulls":3},"\"=AUFRUNDEN(H5*1,035;-1)-1\""]
[101,{"v":679,"d":"€ 679.00"},{"$f":"B5+20","v":{"v":699,"d":"€ 699.00"}},{"$f":"C5+20","v":{"v":719,"d":"€ 719.00"}},{"v":739,"d":"€ 739.00"},{"v":759,"d":"€ 759.00"},null,{"v":629,"d":"€ 629.00"},null,22.21,1,{"v":0,"d":"0.00"},{"v":629,"d":"€ 629.00"},{"$f":"M5*1.04","v":{"v":654.16,"d":"€ 654.16"}},{"$f":"ROUNDDOWN(N5/10,0)*10-1","v":{"v":649,"d":"€ 649.00"}},null,{"$f":"O5-M5","v":{"v":20,"d":"€ 20.00"}},{"$f":"C5-B5","v":{"v":20,"d":"€ 20.00"}},null,{"$f":"IF(Q5=R5, \"Preis passt\", \"Korrektur\")","v":"Preis passt"},null,null,{"$f":"B5","v":{"v":679,"d":"€ 679.00"}},20,{"$f":"W5+X5","v":{"v":699,"d":"€ 699.00"}},679,{"$f":"IF(Y5=Z5,\"richtig\",\"FALSCH\")","v":"FALSCH"}]
[102,{"v":679,"d":"€ 679.00"},{"$f":"B6+20","v":{"v":699,"d":"€ 699.00"}},{"v":719,"d":"€ 719.00"},{"v":739,"d":"€ 739.00"},{"v":759,"d":"€ 759.00"},null,{"v":629,"d":"€ 629.00"},null,18.19,1,{"v":0,"d":"0.00"},{"v":629,"d":"€ 629.00"},{"$f":"M6*1.04","v":{"v":654.16,"d":"€ 654.16"}},{"$f":"ROUNDDOWN(N6/10,0)*10-1","v":{"v":649,"d":"€ 649.00"}},null,{"$f":"O6-M6","v":{"v":20,"d":"€ 20.00"}},{"$f":"C6-B6","v":{"v":20,"d":"€ 20.00"}},null,{"$f":"IF(Q6=R6, \"Preis passt\", \"Korrektur\")","v":"Preis passt"},null,null,{"$f":"B6","v":{"v":679,"d":"€ 679.00"}},20,{"$f":"W6+X6","v":{"v":699,"d":"€ 699.00"}},679,{"$f":"IF(Y6=Z6,\"richtig\",\"FALSCH\")","v":"FALSCH"}]
[103,{"v":679,"d":"€ 679.00"},{"v":699,"d":"€ 699.00"},{"v":719,"d":"€ 719.00"},{"v":739,"d":"€ 739.00"},{"v":759,"d":"€ 759.00"},null,{"v":629,"d":"€ 629.00"},null,21.45,1,{"v":0,"d":"0.00"},{"v":629,"d":"€ 629.00"},{"v":654.16,"d":"€ 654.16"},{"v":649,"d":"€ 649.00"},null,{"v":20,"d":"€ 20.00"},{"v":20,"d":"€ 20.00"},null,"Preis passt",null,null,{"v":679,"d":"€ 679.00"},20,{"v":699,"d":"€ 699.00"},679,"FALSCH",null,null,"nach Übertrag der manuell Kopie"]
[104,{"v":679,"d":"€ 679.00"},{"v":699,"d":"€ 699.00"},{"v":719,"d":"€ 719.00"},{"v":739,"d":"€ 739.00"},{"v":759,"d":"€ 759.00"},null,{"v":629,"d":"€ 629.00"},null,22.14,1,{"v":0,"d":"0.00"},{"v":629,"d":"€ 629.00"},{"v":654.16,"d":"€ 654.16"},{"v":649,"d":"€ 649.00"},null,{"v":20,"d":"€ 20.00"},{"v":20,"d":"€ 20.00"},null,"Preis passt",null,null,{"v":679,"d":"€ 679.00"},20,{"v":699,"d":"€ 699.00"},679,"FALSCH",null,null,"soll Kontrolle Falsch bei "]
[105,{"v":679,"d":"€ 679.00"},{"v":699,"d":"€ 699.00"},{"v":719,"d":"€ 719.00"},{"v":739,"d":"€ 739.00"},{"v":759,"d":"€ 759.00"},null,{"v":629,"d":"€ 629.00"},null,22.34,1,{"v":0,"d":"0.00"},{"v":629,"d":"€ 629.00"},{"v":654.16,"d":"€ 654.16"},{"v":649,"d":"€ 649.00"},null,{"v":20,"d":"€ 20.00"},{"v":20,"d":"€ 20.00"},null,"Preis passt",null,null,{"v":679,"d":"€ 679.00"},20,{"v":699,"d":"€ 699.00"},679,"FALSCH",null,null,"geänderten Werten sein"]
[106,{"v":679,"d":"€ 679.00"},{"v":699,"d":"€ 699.00"},{"v":719,"d":"€ 719.00"},{"v":739,"d":"€ 739.00"},{"v":759,"d":"€ 759.00"},null,{"v":629,"d":"€ 629.00"},null,22.15,1,{"v":0,"d":"0.00"},{"v":629,"d":"€ 629.00"},{"v":654.16,"d":"€ 654.16"},{"v":649,"d":"€ 649.00"},null,{"v":20,"d":"€ 20.00"},{"v":20,"d":"€ 20.00"},null,"Preis passt",null,null,{"v":679,"d":"€ 679.00"},20,{"v":699,"d":"€ 699.00"},679,"FALSCH"]
[107,{"v":679,"d":"€ 679.00"},{"v":699,"d":"€ 699.00"},{"v":719,"d":"€ 719.00"},{"v":739,"d":"€ 739.00"},{"v":759,"d":"€ 759.00"},null,{"v":629,"d":"€ 629.00"},null,22.34,1,{"v":0,"d":"0.00"},{"v":629,"d":"€ 629.00"},{"v":654.16,"d":"€ 654.16"},{"v":649,"d":"€ 649.00"},null,{"v":20,"d":"€ 20.00"},{"v":20,"d":"€ 20.00"},null,"Preis passt",null,null,{"v":679,"d":"€ 679.00"},20,{"v":699,"d":"€ 699.00"},679,"FALSCH"]
[108,{"v":679,"d":"€ 679.00"},{"v":699,"d":"€ 699.00"},{"v":719,"d":"€ 719.00"},{"v":739,"d":"€ 739.00"},{"v":759,"d":"€ 759.00"},null,{"v":629,"d":"€ 629.00"},null,22.15,1,{"v":0,"d":"0.00"},{"v":629,"d":"€ 629.00"},{"v":654.16,"d":"€ 654.16"},{"v":649,"d":"€ 649.00"},null,{"v":20,"d":"€ 20.00"},{"v":20,"d":"€ 20.00"},null,"Preis passt",null,null,{"v":679,"d":"€ 679.00"},20,{"v":699,"d":"€ 699.00"},679,"FALSCH"]
[109,{"v":679,"d":"€ 679.00"},{"v":699,"d":"€ 699.00"},{"v":719,"d":"€ 719.00"},{"v":739,"d":"€ 739.00"},{"v":759,"d":"€ 759.00"},null,{"v":629,"d":"€ 629.00"},null,22.34,1,{"v":0,"d":"0.00"},{"v":629,"d":"€ 629.00"},{"v":654.16,"d":"€ 654.16"},{"v":649,"d":"€ 649.00"},null,{"v":20,"d":"€ 20.00"},{"v":20,"d":"€ 20.00"},null,"Preis passt",null,null,{"v":679,"d":"€ 679.00"},20,{"v":699,"d":"€ 699.00"},679,"FALSCH"]
[110,{"v":679,"d":"€ 679.00"},{"v":699,"d":"€ 699.00"},{"v":719,"d":"€ 719.00"},{"v":739,"d":"€ 739.00"},{"v":759,"d":"€ 759.00"},null,{"v":629,"d":"€ 629.00"},null,22.15,1,{"v":0,"d":"0.00"},{"v":629,"d":"€ 629.00"},{"v":654.16,"d":"€ 654.16"},{"v":649,"d":"€ 649.00"},null,{"v":20,"d":"€ 20.00"},{"v":20,"d":"€ 20.00"},null,"Preis passt",null,null,{"v":679,"d":"€ 679.00"},20,{"v":699,"d":"€ 699.00"},679,"FALSCH"]
[111,{"v":679,"d":"€ 679.00"},{"v":699,"d":"€ 699.00"},{"v":719,"d":"€ 719.00"},{"v":739,"d":"€ 739.00"},{"v":759,"d":"€ 759.00"},null,{"v":629,"d":"€ 629.00"},null,22.34,1,{"v":0,"d":"0.00"},{"v":629,"d":"€ 629.00"},{"v":654.16,"d":"€ 654.16"},{"v":649,"d":"€ 649.00"},null,{"v":20,"d":"€ 20.00"},{"v":20,"d":"€ 20.00"},null,"Preis passt",null,null,{"v":679,"d":"€ 679.00"},20,{"v":699,"d":"€ 699.00"},679,"FALSCH"]
[112,{"v":679,"d":"€ 679.00"},{"v":699,"d":"€ 699.00"},{"v":719,"d":"€ 719.00"},{"v":739,"d":"€ 739.00"},{"v":759,"d":"€ 759.00"},null,{"v":629,"d":"€ 629.00"},null,22.15,1,{"v":0,"d":"0.00"},{"v":629,"d":"€ 629.00"},{"v":654.16,"d":"€ 654.16"},{"v":649,"d":"€ 649.00"},null,{"v":20,"d":"€ 20.00"},{"v":20,"d":"€ 20.00"},null,"Preis passt",null,null,{"v":679,"d":"€ 679.00"},20,{"v":699,"d":"€ 699.00"},679,"FALSCH"]
[113,{"v":679,"d":"€ 679.00"},{"v":699,"d":"€ 699.00"},{"v":719,"d":"€ 719.00"},{"v":739,"d":"€ 739.00"},{"v":759,"d":"€ 759.00"},null,{"v":629,"d":"€ 629.00"},null,22.34,1,{"v":0,"d":"0.00"},{"v":629,"d":"€ 629.00"},{"v":654.16,"d":"€ 654.16"},{"v":649,"d":"€ 649.00"},null,{"v":20,"d":"€ 20.00"},{"v":20,"d":"€ 20.00"},null,"Preis passt",null,null,{"v":679,"d":"€ 679.00"},20,{"v":699,"d":"€ 699.00"},679,"FALSCH"]
[114,{"v":679,"d":"€ 679.00"},{"v":699,"d":"€ 699.00"},{"v":719,"d":"€ 719.00"},{"v":739,"d":"€ 739.00"},{"v":759,"d":"€ 759.00"},null,{"v":629,"d":"€ 629.00"},null,22.15,1,{"v":0,"d":"0.00"},{"v":629,"d":"€ 629.00"},{"v":654.16,"d":"€ 654.16"},{"v":649,"d":"€ 649.00"},null,{"v":20,"d":"€ 20.00"},{"v":20,"d":"€ 20.00"},null,"Preis passt",null,null,{"v":679,"d":"€ 679.00"},20,{"v":699,"d":"€ 699.00"},679,"FALSCH"]
[115,{"v":679,"d":"€ 679.00"},{"v":699,"d":"€ 699.00"},{"v":719,"d":"€ 719.00"},{"v":739,"d":"€ 739.00"},{"v":759,"d":"€ 759.00"},null,{"v":629,"d":"€ 629.00"},null,22.34,1,{"v":0,"d":"0.00"},{"v":629,"d":"€ 629.00"},{"v":654.16,"d":"€ 654.16"},{"v":649,"d":"€ 649.00"},null,{"v":20,"d":"€ 20.00"},{"v":20,"d":"€ 20.00"},null,"Preis passt",null,null,{"v":679,"d":"€ 679.00"},20,{"v":699,"d":"€ 699.00"},679,"FALSCH"]
[116,{"v":679,"d":"€ 679.00"},{"v":699,"d":"€ 699.00"},{"v":719,"d":"€ 719.00"},{"v":739,"d":"€ 739.00"},{"v":759,"d":"€ 759.00"},null,{"v":629,"d":"€ 629.00"},null,22.15,1,{"v":0,"d":"0.00"},{"v":629,"d":"€ 629.00"},{"v":654.16,"d":"€ 654.16"},{"v":649,"d":"€ 649.00"},null,{"v":20,"d":"€ 20.00"},{"v":20,"d":"€ 20.00"},null,"Preis passt",null,null,{"v":679,"d":"€ 679.00"},20,{"v":699,"d":"€ 699.00"},679,"FALSCH"]
[117,{"v":679,"d":"€ 679.00"},{"v":699,"d":"€ 699.00"},{"$f":"C21+20","v":{"v":719,"d":"€ 719.00"}},{"$f":"D21+20","v":{"v":739,"d":"€ 739.00"}},{"$f":"E21+20","v":{"v":759,"d":"€ 759.00"}},null,{"v":629,"d":"€ 629.00"},null,22.29,1,{"v":0,"d":"0.00"},{"v":629,"d":"€ 629.00"},{"v":654.16,"d":"€ 654.16"},{"v":649,"d":"€ 649.00"},null,{"v":20,"d":"€ 20.00"},{"v":20,"d":"€ 20.00"},null,"Preis passt",null,null,{"v":679,"d":"€ 679.00"},20,{"v":699,"d":"€ 699.00"},679,"FALSCH"]
[118,{"v":1239,"d":"€ 1,239.00"},{"$f":"B22+40","v":{"v":1279,"d":"€ 1,279.00"}},{"$f":"C22+40","v":{"v":1319,"d":"€ 1,319.00"}},{"v":1359,"d":"€ 1,359.00"},{"v":1399,"d":"€ 1,399.00"},null,{"v":1099,"d":"€ 1,099.00"},null,{"v":51.4,"d":"51.40"},2,{"v":0,"d":"0.00"},{"v":1099,"d":"€ 1,099.00"},{"v":1142.96,"d":"€ 1,142.96"},{"$f":"ROUNDDOWN(N22/10,0)*10-1","v":{"v":1139,"d":"€ 1,139.00"}},null,{"v":40,"d":"€ 40.00"},{"v":40,"d":"€ 40.00"},null,"Preis passt",null,null,{"v":1239,"d":"€ 1,239.00"},100,{"v":1339,"d":"€ 1,339.00"},1239,"FALSCH"]
[119,{"v":969,"d":"€ 969.00"},{"$f":"B23+30","v":{"v":999,"d":"€ 999.00"}},{"$f":"C23+30","v":{"v":1029,"d":"€ 1,029.00"}},{"v":1059,"d":"€ 1,059.00"},{"v":1089,"d":"€ 1,089.00"},null,{"v":929,"d":"€ 929.00"},null,40.33,1,{"v":0,"d":"0.00"},{"v":929,"d":"€ 929.00"},{"v":966.1600000000001,"d":"€ 966.16"},{"$f":"ROUNDDOWN(N23/10,0)*10-1","v":{"v":959,"d":"€ 959.00"}},null,{"v":30,"d":"€ 30.00"},{"v":30,"d":"€ 30.00"},null,"Preis passt",null,null,{"v":969,"d":"€ 969.00"},0,{"v":969,"d":"€ 969.00"},969,"richtig"]
[120,{"v":679,"d":"€ 679.00"},{"v":699,"d":"€ 699.00"},{"$f":"C24+20","v":{"v":719,"d":"€ 719.00"}},{"$f":"D24+20","v":{"v":739,"d":"€ 739.00"}},{"$f":"E24+20","v":{"v":759,"d":"€ 759.00"}},null,{"v":629,"d":"€ 629.00"},null,22.98,1,{"v":0,"d":"0.00"},{"v":629,"d":"€ 629.00"},{"v":654.16,"d":"€ 654.16"},{"$f":"ROUNDDOWN(N24/10,0)*10-1","v":{"v":649,"d":"€ 649.00"}},null,{"v":20,"d":"€ 20.00"},{"v":20,"d":"€ 20.00"},null,"Preis passt",null,null,{"v":679,"d":"€ 679.00"},20,{"v":699,"d":"€ 699.00"},679,"FALSCH"]
[121,{"v":809,"d":"€ 809.00"},{"$f":"B25+30","v":{"v":839,"d":"€ 839.00"}},{"$f":"C25+30","v":{"v":869,"d":"€ 869.00"}},{"v":899,"d":"€ 899.00"},{"v":929,"d":"€ 929.00"},null,{"v":779,"d":"€ 779.00"},null,27.61,1,15.92,{"v":779,"d":"€ 779.00"},{"v":810.1600000000001,"d":"€ 810.16"},{"$f":"ROUNDDOWN(N25/10,0)*10-1","v":{"v":809,"d":"€ 809.00"}},null,{"v":30,"d":"€ 30.00"},{"v":30,"d":"€ 30.00"},null,"Preis passt",null,null,{"v":809,"d":"€ 809.00"},0,{"v":809,"d":"€ 809.00"},809,"richtig"]
[122,{"v":739,"d":"€ 739.00"},{"v":759,"d":"€ 759.00"},{"$f":"C26+20","v":{"v":779,"d":"€ 779.00"}},{"$f":"D26+20","v":{"v":799,"d":"€ 799.00"}},{"$f":"E26+20","v":{"v":819,"d":"€ 819.00"}},null,{"v":689,"d":"€ 689.00"},null,21.91,1,{"v":6.1,"d":"6.10"},{"v":689,"d":"€ 689.00"},{"v":716.5600000000001,"d":"€ 716.56"},{"$f":"ROUNDDOWN(N26/10,0)*10-1","v":{"v":709,"d":"€ 709.00"}},null,{"v":20,"d":"€ 20.00"},{"v":20,"d":"€ 20.00"},null,"Preis passt",null,null,{"v":739,"d":"€ 739.00"},20,{"v":759,"d":"€ 759.00"},739,"FALSCH"]
[123,{"v":739,"d":"€ 739.00"},{"v":759,"d":"€ 759.00"},{"v":779,"d":"€ 779.00"},{"v":799,"d":"€ 799.00"},{"v":819,"d":"€ 819.00"},null,{"v":689,"d":"€ 689.00"},null,21.91,1,{"v":6.1,"d":"6.10"},{"v":689,"d":"€ 689.00"},{"v":716.5600000000001,"d":"€ 716.56"},{"v":709,"d":"€ 709.00"},null,{"v":20,"d":"€ 20.00"},{"v":20,"d":"€ 20.00"},null,"Preis passt",null,null,{"v":739,"d":"€ 739.00"},20,{"v":759,"d":"€ 759.00"},739,"FALSCH"]
[124,{"v":739,"d":"€ 739.00"},{"v":759,"d":"€ 759.00"},{"v":779,"d":"€ 779.00"},{"v":799,"d":"€ 799.00"},{"v":819,"d":"€ 819.00"},null,{"v":689,"d":"€ 689.00"},null,21.64,1,{"v":6.1,"d":"6.10"},{"v":689,"d":"€ 689.00"},{"v":716.5600000000001,"d":"€ 716.56"},{"v":709,"d":"€ 709.00"},null,{"v":20,"d":"€ 20.00"},{"v":20,"d":"€ 20.00"},null,"Preis passt",null,null,{"v":739,"d":"€ 739.00"},20,{"v":759,"d":"€ 759.00"},739,"FALSCH"]
[125,{"v":739,"d":"€ 739.00"},{"v":759,"d":"€ 759.00"},{"v":779,"d":"€ 779.00"},{"v":799,"d":"€ 799.00"},{"v":819,"d":"€ 819.00"},null,{"v":689,"d":"€ 689.00"},null,{"v":21.9,"d":"21.90"},1,{"v":6.1,"d":"6.10"},{"v":689,"d":"€ 689.00"},{"v":716.5600000000001,"d":"€ 716.56"},{"v":709,"d":"€ 709.00"},null,{"v":20,"d":"€ 20.00"},{"v":20,"d":"€ 20.00"},null,"Preis passt",null,null,{"v":739,"d":"€ 739.00"},20,{"v":759,"d":"€ 759.00"},739,"FALSCH"]
[126,{"v":739,"d":"€ 739.00"},{"v":759,"d":"€ 759.00"},{"v":779,"d":"€ 779.00"},{"v":799,"d":"€ 799.00"},{"v":819,"d":"€ 819.00"},null,{"v":689,"d":"€ 689.00"},null,21.91,1,{"v":6.1,"d":"6.10"},{"v":689,"d":"€ 689.00"},{"v":716.5600000000001,"d":"€ 716.56"},{"v":709,"d":"€ 709.00"},null,{"v":20,"d":"€ 20.00"},{"v":20,"d":"€ 20.00"},null,"Preis passt",null,null,{"v":739,"d":"€ 739.00"},20,{"v":759,"d":"€ 759.00"},739,"FALSCH"]
[127,{"v":739,"d":"€ 739.00"},{"v":759,"d":"€ 759.00"},{"v":779,"d":"€ 779.00"},{"v":799,"d":"€ 799.00"},{"v":819,"d":"€ 819.00"},null,{"v":689,"d":"€ 689.00"},null,21.74,1,{"v":6.1,"d":"6.10"},{"v":689,"d":"€ 689.00"},{"v":716.5600000000001,"d":"€ 716.56"},{"v":709,"d":"€ 709.00"},null,{"v":20,"d":"€ 20.00"},{"v":20,"d":"€ 20.00"},null,"Preis passt",null,null,{"v":739,"d":"€ 739.00"},20,{"v":759,"d":"€ 759.00"},739,"FALSCH"]
[128,{"v":739,"d":"€ 739.00"},{"v":759,"d":"€ 759.00"},{"v":779,"d":"€ 779.00"},{"v":799,"d":"€ 799.00"},{"v":819,"d":"€ 819.00"},null,{"v":689,"d":"€ 689.00"},null,{"v":21.9,"d":"21.90"},1,{"v":6.1,"d":"6.10"},{"v":689,"d":"€ 689.00"},{"v":716.5600000000001,"d":"€ 716.56"},{"v":709,"d":"€ 709.00"},null,{"v":20,"d":"€ 20.00"},{"v":20,"d":"€ 20.00"},null,"Preis passt",null,null,{"v":739,"d":"€ 739.00"},20,{"v":759,"d":"€ 759.00"},739,"FALSCH"]
[129,{"v":739,"d":"€ 739.00"},{"v":759,"d":"€ 759.00"},{"v":779,"d":"€ 779.00"},{"v":799,"d":"€ 799.00"},{"v":819,"d":"€ 819.00"},null,{"v":689,"d":"€ 689.00"},null,21.71,1,{"v":6.1,"d":"6.10"},{"v":689,"d":"€ 689.00"},{"v":716.5600000000001,"d":"€ 716.56"},{"v":709,"d":"€ 709.00"},null,{"v":20,"d":"€ 20.00"},{"v":20,"d":"€ 20.00"},null,"Preis passt",null,null,{"v":739,"d":"€ 739.00"},20,{"v":759,"d":"€ 759.00"},739,"FALSCH"]
[130,{"v":739,"d":"€ 739.00"},{"v":759,"d":"€ 759.00"},{"v":779,"d":"€ 779.00"},{"v":799,"d":"€ 799.00"},{"v":819,"d":"€ 819.00"},null,{"v":689,"d":"€ 689.00"},null,21.89,1,{"v":6.1,"d":"6.10"},{"v":689,"d":"€ 689.00"},{"v":716.5600000000001,"d":"€ 716.56"},{"v":709,"d":"€ 709.00"},null,{"v":20,"d":"€ 20.00"},{"v":20,"d":"€ 20.00"},null,"Preis passt",null,null,{"v":739,"d":"€ 739.00"},20,{"v":759,"d":"€ 759.00"},739,"FALSCH"]
[131,{"v":739,"d":"€ 739.00"},{"v":759,"d":"€ 759.00"},{"v":779,"d":"€ 779.00"},{"v":799,"d":"€ 799.00"},{"v":819,"d":"€ 819.00"},null,{"v":689,"d":"€ 689.00"},null,21.71,1,{"v":6.1,"d":"6.10"},{"v":689,"d":"€ 689.00"},{"v":716.5600000000001,"d":"€ 716.56"},{"v":709,"d":"€ 709.00"},null,{"v":20,"d":"€ 20.00"},{"v":20,"d":"€ 20.00"},null,"Preis passt",null,null,{"v":739,"d":"€ 739.00"},20,{"v":759,"d":"€ 759.00"},739,"FALSCH"]
[132,{"v":1199,"d":"€ 1,199.00"},{"$f":"B36+40","v":{"v":1239,"d":"€ 1,239.00"}},{"$f":"C36+40","v":{"v":1279,"d":"€ 1,279.00"}},{"v":1319,"d":"€ 1,319.00"},{"v":1359,"d":"€ 1,359.00"},null,{"v":1159,"d":"€ 1,159.00"},null,46.21,"2 + AR",9.46,{"v":1159,"d":"€ 1,159.00"},{"v":1205.3600000000001,"d":"€ 1,205.36"},{"v":1199,"d":"€ 1,199.00"},null,{"v":40,"d":"€ 40.00"},{"v":40,"d":"€ 40.00"},null,"Preis passt",null,null,{"v":1199,"d":"€ 1,199.00"},0,{"v":1199,"d":"€ 1,199.00"},1199,"richtig"]
[133,{"v":739,"d":"€ 739.00"},{"v":759,"d":"€ 759.00"},{"$f":"C37+20","v":{"v":779,"d":"€ 779.00"}},{"$f":"D37+20","v":{"v":799,"d":"€ 799.00"}},{"$f":"E37+20","v":{"v":819,"d":"€ 819.00"}},null,{"v":689,"d":"€ 689.00"},null,21.72,1,{"v":6.1,"d":"6.10"},{"v":689,"d":"€ 689.00"},{"v":716.5600000000001,"d":"€ 716.56"},{"v":709,"d":"€ 709.00"},null,{"v":20,"d":"€ 20.00"},{"v":20,"d":"€ 20.00"},null,"Preis passt",null,null,{"v":739,"d":"€ 739.00"},20,{"v":759,"d":"€ 759.00"},739,"FALSCH"]
[134,{"v":739,"d":"€ 739.00"},{"v":759,"d":"€ 759.00"},{"v":779,"d":"€ 779.00"},{"v":799,"d":"€ 799.00"},{"v":819,"d":"€ 819.00"},null,{"v":689,"d":"€ 689.00"},null,21.92,1,{"v":6.1,"d":"6.10"},{"v":689,"d":"€ 689.00"},{"v":716.5600000000001,"d":"€ 716.56"},{"v":709,"d":"€ 709.00"},null,{"v":20,"d":"€ 20.00"},{"v":20,"d":"€ 20.00"},null,"Preis passt",null,null,{"v":739,"d":"€ 739.00"},20,{"v":759,"d":"€ 759.00"},739,"FALSCH"]
[135,{"v":739,"d":"€ 739.00"},{"v":759,"d":"€ 759.00"},{"v":779,"d":"€ 779.00"},{"v":799,"d":"€ 799.00"},{"v":819,"d":"€ 819.00"},null,{"v":689,"d":"€ 689.00"},null,21.72,1,{"v":6.1,"d":"6.10"},{"v":689,"d":"€ 689.00"},{"v":716.5600000000001,"d":"€ 716.56"},{"v":709,"d":"€ 709.00"},null,{"v":20,"d":"€ 20.00"},{"v":20,"d":"€ 20.00"},null,"Preis passt",null,null,{"v":739,"d":"€ 739.00"},20,{"v":759,"d":"€ 759.00"},739,"FALSCH"]
[136,{"v":739,"d":"€ 739.00"},{"v":759,"d":"€ 759.00"},{"v":779,"d":"€ 779.00"},{"v":799,"d":"€ 799.00"},{"v":819,"d":"€ 819.00"},null,{"v":689,"d":"€ 689.00"},null,21.64,1,{"v":6.1,"d":"6.10"},{"v":689,"d":"€ 689.00"},{"v":716.5600000000001,"d":"€ 716.56"},{"v":709,"d":"€ 709.00"},null,{"v":20,"d":"€ 20.00"},{"v":20,"d":"€ 20.00"},null,"Preis passt",null,null,{"v":739,"d":"€ 739.00"},20,{"v":759,"d":"€ 759.00"},739,"FALSCH"]
[137,{"v":1059,"d":"€ 1,059.00"},{"$f":"B41+30","v":{"v":1089,"d":"€ 1,089.00"}},{"$f":"C41+30","v":{"v":1119,"d":"€ 1,119.00"}},{"v":1149,"d":"€ 1,149.00"},{"v":1179,"d":"€ 1,179.00"},null,{"v":1019,"d":"€ 1,019.00"},null,33.66,2,12.54,{"v":1019,"d":"€ 1,019.00"},{"v":1059.76,"d":"€ 1,059.76"},{"v":1049,"d":"€ 1,049.00"},null,{"v":30,"d":"€ 30.00"},{"v":30,"d":"€ 30.00"},null,"Preis passt",null,null,{"v":1059,"d":"€ 1,059.00"},0,{"v":1059,"d":"€ 1,059.00"},1059,"richtig"]
[{"$nulls":13},{"v":0,"d":"€ 0.00"},null,null,{"v":0,"d":"€ 0.00"},{"v":0,"d":"€ 0.00"},null,"Preis passt",null,null,{"v":0,"d":"€ 0.00"},null,{"v":0,"d":"€ 0.00"},null,"richtig"]
[201,{"v":989,"d":"€ 989.00"},{"$f":"B43+30","v":{"v":1019,"d":"€ 1,019.00"}},{"$f":"C43+30","v":{"v":1049,"d":"€ 1,049.00"}},{"v":1079,"d":"€ 1,079.00"},{"v":1109,"d":"€ 1,109.00"},null,{"v":949,"d":"€ 949.00"},null,33.62,2,{"v":0,"d":"0.00"},{"v":949,"d":"€ 949.00"},{"v":986.96,"d":"€ 986.96"},{"$f":"ROUNDDOWN(N43/10,0)*10-1","v":{"v":979,"d":"€ 979.00"}},null,{"v":30,"d":"€ 30.00"},{"v":30,"d":"€ 30.00"},null,"Preis passt",null,null,{"v":989,"d":"€ 989.00"},0,{"v":989,"d":"€ 989.00"},989,"richtig"]
[202,{"v":689,"d":"€ 689.00"},{"$f":"B44+20","v":{"v":709,"d":"€ 709.00"}},{"$f":"C44+20","v":{"v":729,"d":"€ 729.00"}},{"$f":"D44+20","v":{"v":749,"d":"€ 749.00"}},{"$f":"E44+20","v":{"v":769,"d":"€ 769.00"}},null,{"v":639,"d":"€ 639.00"},null,22.75,1,{"v":0,"d":"0.00"},{"v":639,"d":"€ 639.00"},{"v":664.5600000000001,"d":"€ 664.56"},{"$f":"ROUNDDOWN(N44/10,0)*10-1","v":{"v":659,"d":"€ 659.00"}},null,{"v":20,"d":"€ 20.00"},{"v":20,"d":"€ 20.00"},null,"Preis passt",null,null,{"v":689,"d":"€ 689.00"},20,{"v":709,"d":"€ 709.00"},689,"FALSCH"]
[203,{"v":689,"d":"€ 689.00"},{"$f":"B45+20","v":{"v":709,"d":"€ 709.00"}},{"v":729,"d":"€ 729.00"},{"v":749,"d":"€ 749.00"},{"v":769,"d":"€ 769.00"},null,{"v":639,"d":"€ 639.00"},null,23.83,1,{"v":0,"d":"0.00"},{"v":639,"d":"€ 639.00"},{"v":664.5600000000001,"d":"€ 664.56"},{"v":659,"d":"€ 659.00"},null,{"v":20,"d":"€ 20.00"},{"v":20,"d":"€ 20.00"},null,"Preis passt",null,null,{"v":689,"d":"€ 689.00"},20,{"v":709,"d":"€ 709.00"},689,"FALSCH"]
[204,{"v":689,"d":"€ 689.00"},{"$f":"B46+20","v":{"v":709,"d":"€ 709.00"}},{"v":729,"d":"€ 729.00"},{"v":749,"d":"€ 749.00"},{"v":769,"d":"€ 769.00"},null,{"v":639,"d":"€ 639.00"},null,23.72,1,{"v":0,"d":"0.00"},{"v":639,"d":"€ 639.00"},{"v":664.5600000000001,"d":"€ 664.56"},{"v":659,"d":"€ 659.00"},null,{"v":20,"d":"€ 20.00"},{"v":20,"d":"€ 20.00"},null,"Preis passt",null,null,{"v":689,"d":"€ 689.00"},20,{"v":709,"d":"€ 709.00"},689,"FALSCH"]
[205,{"v":689,"d":"€ 689.00"},{"$f":"B47+20","v":{"v":709,"d":"€ 709.00"}},{"v":729,"d":"€ 729.00"},{"v":749,"d":"€ 749.00"},{"v":769,"d":"€ 769.00"},null,{"v":639,"d":"€ 639.00"},null,23.91,1,{"v":0,"d":"0.00"},{"v":639,"d":"€ 639.00"},{"v":664.5600000000001,"d":"€ 664.56"},{"v":659,"d":"€ 659.00"},null,{"v":20,"d":"€ 20.00"},{"v":20,"d":"€ 20.00"},null,"Preis passt",null,null,{"v":689,"d":"€ 689.00"},20,{"v":709,"d":"€ 709.00"},689,"FALSCH"]
[206,{"v":689,"d":"€ 689.00"},{"$f":"B48+20","v":{"v":709,"d":"€ 709.00"}},{"v":729,"d":"€ 729.00"},{"v":749,"d":"€ 749.00"},{"v":769,"d":"€ 769.00"},null,{"v":639,"d":"€ 639.00"},null,23.72,1,{"v":0,"d":"0.00"},{"v":639,"d":"€ 639.00"},{"v":664.5600000000001,"d":"€ 664.56"},{"v":659,"d":"€ 659.00"},null,{"v":20,"d":"€ 20.00"},{"v":20,"d":"€ 20.00"},null,"Preis passt",null,null,{"v":689,"d":"€ 689.00"},20,{"v":709,"d":"€ 709.00"},689,"FALSCH"]
[207,{"v":689,"d":"€ 689.00"},{"$f":"B49+20","v":{"v":709,"d":"€ 709.00"}},{"v":729,"d":"€ 729.00"},{"v":749,"d":"€ 749.00"},{"v":769,"d":"€ 769.00"},null,{"v":639,"d":"€ 639.00"},null,23.91,1,{"v":0,"d":"0.00"},{"v":639,"d":"€ 639.00"},{"v":664.5600000000001,"d":"€ 664.56"},{"v":659,"d":"€ 659.00"},null,{"v":20,"d":"€ 20.00"},{"v":20,"d":"€ 20.00"},null,"Preis passt",null,null,{"v":689,"d":"€ 689.00"},20,{"v":709,"d":"€ 709.00"},689,"FALSCH"]
[208,{"v":689,"d":"€ 689.00"},{"$f":"B50+20","v":{"v":709,"d":"€ 709.00"}},{"v":729,"d":"€ 729.00"},{"v":749,"d":"€ 749.00"},{"v":769,"d":"€ 769.00"},null,{"v":639,"d":"€ 639.00"},null,23.72,1,{"v":0,"d":"0.00"},{"v":639,"d":"€ 639.00"},{"v":664.5600000000001,"d":"€ 664.56"},{"v":659,"d":"€ 659.00"},null,{"v":20,"d":"€ 20.00"},{"v":20,"d":"€ 20.00"},null,"Preis passt",null,null,{"v":689,"d":"€ 689.00"},20,{"v":709,"d":"€ 709.00"},689,"FALSCH"]
[209,{"v":689,"d":"€ 689.00"},{"$f":"B51+20","v":{"v":709,"d":"€ 709.00"}},{"v":729,"d":"€ 729.00"},{"v":749,"d":"€ 749.00"},{"v":769,"d":"€ 769.00"},null,{"v":639,"d":"€ 639.00"},null,23.91,1,{"v":0,"d":"0.00"},{"v":639,"d":"€ 639.00"},{"v":664.5600000000001,"d":"€ 664.56"},{"v":659,"d":"€ 659.00"},null,{"v":20,"d":"€ 20.00"},{"v":20,"d":"€ 20.00"},null,"Preis passt",null,null,{"v":689,"d":"€ 689.00"},20,{"v":709,"d":"€ 709.00"},689,"FALSCH"]
[210,{"v":689,"d":"€ 689.00"},{"$f":"B52+20","v":{"v":709,"d":"€ 709.00"}},{"v":729,"d":"€ 729.00"},{"v":749,"d":"€ 749.00"},{"v":769,"d":"€ 769.00"},null,{"v":639,"d":"€ 639.00"},null,23.72,1,{"v":0,"d":"0.00"},{"v":639,"d":"€ 639.00"},{"v":664.5600000000001,"d":"€ 664.56"},{"v":659,"d":"€ 659.00"},null,{"v":20,"d":"€ 20.00"},{"v":20,"d":"€ 20.00"},null,"Preis passt",null,null,{"v":689,"d":"€ 689.00"},20,{"v":709,"d":"€ 709.00"},689,"FALSCH"]
[211,{"v":689,"d":"€ 689.00"},{"$f":"B53+20","v":{"v":709,"d":"€ 709.00"}},{"v":729,"d":"€ 729.00"},{"v":749,"d":"€ 749.00"},{"v":769,"d":"€ 769.00"},null,{"v":639,"d":"€ 639.00"},null,23.91,1,{"v":0,"d":"0.00"},{"v":639,"d":"€ 639.00"},{"v":664.5600000000001,"d":"€ 664.56"},{"v":659,"d":"€ 659.00"},null,{"v":20,"d":"€ 20.00"},{"v":20,"d":"€ 20.00"},null,"Preis passt",null,null,{"v":689,"d":"€ 689.00"},20,{"v":709,"d":"€ 709.00"},689,"FALSCH"]
[212,{"v":689,"d":"€ 689.00"},{"$f":"B54+20","v":{"v":709,"d":"€ 709.00"}},{"v":729,"d":"€ 729.00"},{"v":749,"d":"€ 749.00"},{"v":769,"d":"€ 769.00"},null,{"v":639,"d":"€ 639.00"},null,23.72,1,{"v":0,"d":"0.00"},{"v":639,"d":"€ 639.00"},{"v":664.5600000000001,"d":"€ 664.56"},{"v":659,"d":"€ 659.00"},null,{"v":20,"d":"€ 20.00"},{"v":20,"d":"€ 20.00"},null,"Preis passt",null,null,{"v":689,"d":"€ 689.00"},20,{"v":709,"d":"€ 709.00"},689,"FALSCH"]
[213,{"v":689,"d":"€ 689.00"},{"$f":"B55+20","v":{"v":709,"d":"€ 709.00"}},{"v":729,"d":"€ 729.00"},{"v":749,"d":"€ 749.00"},{"v":769,"d":"€ 769.00"},null,{"v":639,"d":"€ 639.00"},null,23.91,1,{"v":0,"d":"0.00"},{"v":639,"d":"€ 639.00"},{"v":664.5600000000001,"d":"€ 664.56"},{"v":659,"d":"€ 659.00"},null,{"v":20,"d":"€ 20.00"},{"v":20,"d":"€ 20.00"},null,"Preis passt",null,null,{"v":689,"d":"€ 689.00"},20,{"v":709,"d":"€ 709.00"},689,"FALSCH"]
[214,{"v":689,"d":"€ 689.00"},{"$f":"B56+20","v":{"v":709,"d":"€ 709.00"}},{"v":729,"d":"€ 729.00"},{"v":749,"d":"€ 749.00"},{"v":769,"d":"€ 769.00"},null,{"v":639,"d":"€ 639.00"},null,23.72,1,{"v":0,"d":"0.00"},{"v":639,"d":"€ 639.00"},{"v":664.5600000000001,"d":"€ 664.56"},{"v":659,"d":"€ 659.00"},null,{"v":20,"d":"€ 20.00"},{"v":20,"d":"€ 20.00"},null,"Preis passt",null,null,{"v":689,"d":"€ 689.00"},20,{"v":709,"d":"€ 709.00"},689,"FALSCH"]
[215,{"v":689,"d":"€ 689.00"},{"$f":"B57+20","v":{"v":709,"d":"€ 709.00"}},{"v":729,"d":"€ 729.00"},{"v":749,"d":"€ 749.00"},{"v":769,"d":"€ 769.00"},null,{"v":639,"d":"€ 639.00"},null,23.91,1,{"v":0,"d":"0.00"},{"v":639,"d":"€ 639.00"},{"v":664.5600000000001,"d":"€ 664.56"},{"v":659,"d":"€ 659.00"},null,{"v":20,"d":"€ 20.00"},{"v":20,"d":"€ 20.00"},null,"Preis passt",null,null,{"v":689,"d":"€ 689.00"},20,{"v":709,"d":"€ 709.00"},689,"FALSCH"]
[216,{"v":689,"d":"€ 689.00"},{"$f":"B58+20","v":{"v":709,"d":"€ 709.00"}},{"v":729,"d":"€ 729.00"},{"v":749,"d":"€ 749.00"},{"v":769,"d":"€ 769.00"},null,{"v":639,"d":"€ 639.00"},null,23.26,1,{"v":0,"d":"0.00"},{"v":639,"d":"€ 639.00"},{"v":664.5600000000001,"d":"€ 664.56"},{"v":659,"d":"€ 659.00"},null,{"v":20,"d":"€ 20.00"},{"v":20,"d":"€ 20.00"},null,"Preis passt",null,null,{"v":689,"d":"€ 689.00"},20,{"v":709,"d":"€ 709.00"},689,"FALSCH"]
[217,{"v":689,"d":"€ 689.00"},{"$f":"B59+20","v":{"v":709,"d":"€ 709.00"}},{"v":729,"d":"€ 729.00"},{"v":749,"d":"€ 749.00"},{"v":769,"d":"€ 769.00"},null,{"v":639,"d":"€ 639.00"},null,22.53,1,{"v":0,"d":"0.00"},{"v":639,"d":"€ 639.00"},{"v":664.5600000000001,"d":"€ 664.56"},{"v":659,"d":"€ 659.00"},null,{"v":20,"d":"€ 20.00"},{"v":20,"d":"€ 20.00"},null,"Preis passt",null,null,{"v":689,"d":"€ 689.00"},20,{"v":709,"d":"€ 709.00"},689,"FALSCH"]
[218,{"v":1239,"d":"€ 1,239.00"},{"$f":"B60+40","v":{"v":1279,"d":"€ 1,279.00"}},{"$f":"C60+40","v":{"v":1319,"d":"€ 1,319.00"}},{"v":1359,"d":"€ 1,359.00"},{"v":1399,"d":"€ 1,399.00"},null,{"v":1099,"d":"€ 1,099.00"},null,{"v":51.4,"d":"51.40"},2,{"v":0,"d":"0.00"},{"v":1099,"d":"€ 1,099.00"},{"v":1142.96,"d":"€ 1,142.96"},{"$f":"ROUNDDOWN(N60/10,0)*10-1","v":{"v":1139,"d":"€ 1,139.00"}},null,{"v":40,"d":"€ 40.00"},{"v":40,"d":"€ 40.00"},null,"Preis passt",null,null,{"v":1239,"d":"€ 1,239.00"},100,{"v":1339,"d":"€ 1,339.00"},1239,"FALSCH"]
[219,{"v":969,"d":"€ 969.00"},{"$f":"B61+30","v":{"v":999,"d":"€ 999.00"}},{"$f":"C61+30","v":{"v":1029,"d":"€ 1,029.00"}},{"v":1059,"d":"€ 1,059.00"},{"v":1089,"d":"€ 1,089.00"},null,{"v":929,"d":"€ 929.00"},null,40.33,1,{"v":0,"d":"0.00"},{"v":929,"d":"€ 929.00"},{"v":966.1600000000001,"d":"€ 966.16"},{"$f":"ROUNDDOWN(N61/10,0)*10-1","v":{"v":959,"d":"€ 959.00"}},null,{"v":30,"d":"€ 30.00"},{"v":30,"d":"€ 30.00"},null,"Preis passt",null,null,{"v":969,"d":"€ 969.00"},0,{"v":969,"d":"€ 969.00"},969,"richtig"]
[220,{"v":689,"d":"€ 689.00"},{"$f":"B62+20","v":{"v":709,"d":"€ 709.00"}},{"$f":"C62+20","v":{"v":729,"d":"€ 729.00"}},{"$f":"D62+20","v":{"v":749,"d":"€ 749.00"}},{"$f":"E62+20","v":{"v":769,"d":"€ 769.00"}},null,{"v":639,"d":"€ 639.00"},null,21.81,1,{"v":0,"d":"0.00"},{"v":639,"d":"€ 639.00"},{"v":664.5600000000001,"d":"€ 664.56"},{"$f":"ROUNDDOWN(N62/10,0)*10-1","v":{"v":659,"d":"€ 659.00"}},null,{"v":20,"d":"€ 20.00"},{"v":20,"d":"€ 20.00"},null,"Preis passt",null,null,{"v":689,"d":"€ 689.00"},20,{"v":709,"d":"€ 709.00"},689,"FALSCH"]
[221,{"v":889,"d":"€ 889.00"},{"$f":"B63+30","v":{"v":919,"d":"€ 919.00"}},{"$f":"C63+30","v":{"v":949,"d":"€ 949.00"}},{"v":979,"d":"€ 979.00"},{"v":1009,"d":"€ 1,009.00"},null,{"v":859,"d":"€ 859.00"},null,{"v":33.7,"d":"33.70"},1,12.44,{"v":859,"d":"€ 859.00"},{"v":893.36,"d":"€ 893.36"},{"$f":"ROUNDDOWN(N63/10,0)*10-1","v":{"v":889,"d":"€ 889.00"}},null,{"v":30,"d":"€ 30.00"},{"v":30,"d":"€ 30.00"},null,"Preis passt",null,null,{"v":889,"d":"€ 889.00"},0,{"v":889,"d":"€ 889.00"},889,"richtig"]
[222,{"v":739,"d":"€ 739.00"},{"$f":"B64+20","v":{"v":759,"d":"€ 759.00"}},{"$f":"C64+20","v":{"v":779,"d":"€ 779.00"}},{"$f":"D64+20","v":{"v":799,"d":"€ 799.00"}},{"$f":"E64+20","v":{"v":819,"d":"€ 819.00"}},null,{"v":689,"d":"€ 689.00"},null,23.48,1,4.77,{"v":689,"d":"€ 689.00"},{"v":716.5600000000001,"d":"€ 716.56"},{"$f":"ROUNDDOWN(N64/10,0)*10-1","v":{"v":709,"d":"€ 709.00"}},null,{"v":20,"d":"€ 20.00"},{"v":20,"d":"€ 20.00"},null,"Preis passt",null,null,{"v":739,"d":"€ 739.00"},20,{"v":759,"d":"€ 759.00"},739,"FALSCH"]
[223,{"v":739,"d":"€ 739.00"},{"$f":"B65+20","v":{"v":759,"d":"€ 759.00"}},{"v":779,"d":"€ 779.00"},{"v":799,"d":"€ 799.00"},{"v":819,"d":"€ 819.00"},null,{"v":689,"d":"€ 689.00"},null,23.48,1,4.77,{"v":689,"d":"€ 689.00"},{"v":716.5600000000001,"d":"€ 716.56"},{"v":709,"d":"€ 709.00"},null,{"v":20,"d":"€ 20.00"},{"v":20,"d":"€ 20.00"},null,"Preis passt",null,null,{"v":739,"d":"€ 739.00"},20,{"v":759,"d":"€ 759.00"},739,"FALSCH"]
[224,{"v":739,"d":"€ 739.00"},{"$f":"B66+20","v":{"v":759,"d":"€ 759.00"}},{"v":779,"d":"€ 779.00"},{"v":799,"d":"€ 799.00"},{"v":819,"d":"€ 819.00"},null,{"v":689,"d":"€ 689.00"},null,23.21,1,4.77,{"v":689,"d":"€ 689.00"},{"v":716.5600000000001,"d":"€ 716.56"},{"v":709,"d":"€ 709.00"},null,{"v":20,"d":"€ 20.00"},{"v":20,"d":"€ 20.00"},null,"Preis passt",null,null,{"v":739,"d":"€ 739.00"},20,{"v":759,"d":"€ 759.00"},739,"FALSCH"]
[225,{"v":739,"d":"€ 739.00"},{"$f":"B67+20","v":{"v":759,"d":"€ 759.00"}},{"v":779,"d":"€ 779.00"},{"v":799,"d":"€ 799.00"},{"v":819,"d":"€ 819.00"},null,{"v":689,"d":"€ 689.00"},null,23.52,1,4.77,{"v":689,"d":"€ 689.00"},{"v":716.5600000000001,"d":"€ 716.56"},{"v":709,"d":"€ 709.00"},null,{"v":20,"d":"€ 20.00"},{"v":20,"d":"€ 20.00"},null,"Preis passt",null,null,{"v":739,"d":"€ 739.00"},20,{"v":759,"d":"€ 759.00"},739,"FALSCH"]
[226,{"v":739,"d":"€ 739.00"},{"$f":"B68+20","v":{"v":759,"d":"€ 759.00"}},{"v":779,"d":"€ 779.00"},{"v":799,"d":"€ 799.00"},{"v":819,"d":"€ 819.00"},null,{"v":689,"d":"€ 689.00"},null,23.46,1,4.77,{"v":689,"d":"€ 689.00"},{"v":716.5600000000001,"d":"€ 716.56"},{"v":709,"d":"€ 709.00"},null,{"v":20,"d":"€ 20.00"},{"v":20,"d":"€ 20.00"},null,"Preis passt",null,null,{"v":739,"d":"€ 739.00"},20,{"v":759,"d":"€ 759.00"},739,"FALSCH"]
[227,{"v":739,"d":"€ 739.00"},{"$f":"B69+20","v":{"v":759,"d":"€ 759.00"}},{"v":779,"d":"€ 779.00"},{"v":799,"d":"€ 799.00"},{"v":819,"d":"€ 819.00"},null,{"v":689,"d":"€ 689.00"},null,23.31,1,4.77,{"v":689,"d":"€ 689.00"},{"v":716.5600000000001,"d":"€ 716.56"},{"v":709,"d":"€ 709.00"},null,{"v":20,"d":"€ 20.00"},{"v":20,"d":"€ 20.00"},null,"Preis passt",null,null,{"v":739,"d":"€ 739.00"},20,{"v":759,"d":"€ 759.00"},739,"FALSCH"]
[228,{"v":739,"d":"€ 739.00"},{"$f":"B70+20","v":{"v":759,"d":"€ 759.00"}},{"v":779,"d":"€ 779.00"},{"v":799,"d":"€ 799.00"},{"v":819,"d":"€ 819.00"},null,{"v":689,"d":"€ 689.00"},null,23.44,1,4.77,{"v":689,"d":"€ 689.00"},{"$f":"M70*1.04","v":{"v":716.5600000000001,"d":"€ 716.56"}},{"v":709,"d":"€ 709.00"},null,{"$f":"O70-M70","v":{"v":20,"d":"€ 20.00"}},{"$f":"C70-B70","v":{"v":20,"d":"€ 20.00"}},null,{"$f":"IF(Q70=R70, \"Preis passt\", \"Korrektur\")","v":"Preis passt"},null,null,{"$f":"B70","v":{"v":739,"d":"€ 739.00"}},20,{"$f":"W70+X70","v":{"v":759,"d":"€ 759.00"}},739,{"$f":"IF(Y70=Z70,\"richtig\",\"FALSCH\")","v":"FALSCH"}]
[229,{"v":739,"d":"€ 739.00"},{"$f":"B71+20","v":{"v":759,"d":"€ 759.00"}},{"v":779,"d":"€ 779.00"},{"v":799,"d":"€ 799.00"},{"v":819,"d":"€ 819.00"},null,{"v":689,"d":"€ 689.00"},null,23.31,1,4.77,{"v":689,"d":"€ 689.00"},{"v":716.5600000000001,"d":"€ 716.56"},{"v":709,"d":"€ 709.00"},null,{"v":20,"d":"€ 20.00"},{"v":20,"d":"€ 20.00"},null,"Preis passt",null,null,{"v":739,"d":"€ 739.00"},20,{"v":759,"d":"€ 759.00"},739,"FALSCH"]
[230,{"v":739,"d":"€ 739.00"},{"$f":"B72+20","v":{"v":759,"d":"€ 759.00"}},{"v":779,"d":"€ 779.00"},{"v":799,"d":"€ 799.00"},{"v":819,"d":"€ 819.00"},null,{"v":689,"d":"€ 689.00"},null,23.44,1,4.77,{"v":689,"d":"€ 689.00"},{"v":716.5600000000001,"d":"€ 716.56"},{"v":709,"d":"€ 709.00"},null,{"v":20,"d":"€ 20.00"},{"v":20,"d":"€ 20.00"},null,"Preis passt",null,null,{"v":739,"d":"€ 739.00"},20,{"v":759,"d":"€ 759.00"},739,"FALSCH"]
[231,{"v":739,"d":"€ 739.00"},{"$f":"B73+20","v":{"v":759,"d":"€ 759.00"}},{"v":779,"d":"€ 779.00"},{"v":799,"d":"€ 799.00"},{"v":819,"d":"€ 819.00"},null,{"v":689,"d":"€ 689.00"},null,23.28,1,4.77,{"v":689,"d":"€ 689.00"},{"v":716.5600000000001,"d":"€ 716.56"},{"v":709,"d":"€ 709.00"},null,{"v":20,"d":"€ 20.00"},{"v":20,"d":"€ 20.00"},null,"Preis passt",null,null,{"v":739,"d":"€ 739.00"},20,{"v":759,"d":"€ 759.00"},739,"FALSCH"]
[232,{"v":1239,"d":"€ 1,239.00"},{"$f":"B74+40","v":{"v":1279,"d":"€ 1,279.00"}},{"$f":"C74+40","v":{"v":1319,"d":"€ 1,319.00"}},{"v":1359,"d":"€ 1,359.00"},{"v":1399,"d":"€ 1,399.00"},null,{"v":1189,"d":"€ 1,189.00"},null,48.92,"2 + AR",7.39,{"v":1189,"d":"€ 1,189.00"},{"v":1236.56,"d":"€ 1,236.56"},{"v":1229,"d":"€ 1,229.00"},null,{"v":40,"d":"€ 40.00"},{"v":40,"d":"€ 40.00"},null,"Preis passt",null,null,{"v":1239,"d":"€ 1,239.00"},0,{"v":1239,"d":"€ 1,239.00"},1239,"richtig"]
[233,{"v":739,"d":"€ 739.00"},{"$f":"B75+20","v":{"v":759,"d":"€ 759.00"}},{"$f":"C75+20","v":{"v":779,"d":"€ 779.00"}},{"$f":"D75+20","v":{"v":799,"d":"€ 799.00"}},{"$f":"E75+20","v":{"v":819,"d":"€ 819.00"}},null,{"v":689,"d":"€ 689.00"},null,23.29,1,4.77,{"v":689,"d":"€ 689.00"},{"v":716.5600000000001,"d":"€ 716.56"},{"v":709,"d":"€ 709.00"},null,{"v":20,"d":"€ 20.00"},{"v":20,"d":"€ 20.00"},null,"Preis passt",null,null,{"v":739,"d":"€ 739.00"},20,{"v":759,"d":"€ 759.00"},739,"FALSCH"]
[234,{"v":739,"d":"€ 739.00"},{"$f":"B76+20","v":{"v":759,"d":"€ 759.00"}},{"v":779,"d":"€ 779.00"},{"v":799,"d":"€ 799.00"},{"v":819,"d":"€ 819.00"},null,{"v":689,"d":"€ 689.00"},null,23.48,1,4.77,{"v":689,"d":"€ 689.00"},{"v":716.5600000000001,"d":"€ 716.56"},{"v":709,"d":"€ 709.00"},null,{"v":20,"d":"€ 20.00"},{"v":20,"d":"€ 20.00"},null,"Preis passt",null,null,{"v":739,"d":"€ 739.00"},20,{"v":759,"d":"€ 759.00"},739,"FALSCH"]
[235,{"v":739,"d":"€ 739.00"},{"$f":"B77+20","v":{"v":759,"d":"€ 759.00"}},{"v":779,"d":"€ 779.00"},{"v":799,"d":"€ 799.00"},{"v":819,"d":"€ 819.00"},null,{"v":689,"d":"€ 689.00"},null,23.29,1,4.77,{"v":689,"d":"€ 689.00"},{"v":716.5600000000001,"d":"€ 716.56"},{"v":709,"d":"€ 709.00"},null,{"v":20,"d":"€ 20.00"},{"v":20,"d":"€ 20.00"},null,"Preis passt",null,null,{"v":739,"d":"€ 739.00"},20,{"v":759,"d":"€ 759.00"},739,"FALSCH"]
[236,{"v":739,"d":"€ 739.00"},{"$f":"B78+20","v":{"v":759,"d":"€ 759.00"}},{"v":779,"d":"€ 779.00"},{"v":799,"d":"€ 799.00"},{"v":819,"d":"€ 819.00"},null,{"v":689,"d":"€ 689.00"},null,23.48,1,3.34,{"v":689,"d":"€ 689.00"},{"v":716.5600000000001,"d":"€ 716.56"},{"v":709,"d":"€ 709.00"},null,{"v":20,"d":"€ 20.00"},{"v":20,"d":"€ 20.00"},null,"Preis passt",null,null,{"v":739,"d":"€ 739.00"},20,{"v":759,"d":"€ 759.00"},739,"FALSCH"]
[237,{"v":1309,"d":"€ 1,309.00"},{"$f":"B79+40","v":{"v":1349,"d":"€ 1,349.00"}},{"$f":"C79+40","v":{"v":1389,"d":"€ 1,389.00"}},{"v":1429,"d":"€ 1,429.00"},{"v":1469,"d":"€ 1,469.00"},null,{"v":1259,"d":"€ 1,259.00"},null,48.46,3,{"v":9.8,"d":"9.80"},{"v":1259,"d":"€ 1,259.00"},{"v":1309.3600000000001,"d":"€ 1,309.36"},{"v":1299,"d":"€ 1,299.00"},null,{"v":40,"d":"€ 40.00"},{"v":40,"d":"€ 40.00"},null,"Preis passt",null,null,{"v":1309,"d":"€ 1,309.00"},0,{"v":1309,"d":"€ 1,309.00"},1309,"richtig"]
[{"$nulls":13},{"v":0,"d":"€ 0.00"},null,null,{"v":0,"d":"€ 0.00"},{"v":0,"d":"€ 0.00"},null,"Preis passt",null,null,{"v":0,"d":"€ 0.00"},null,{"v":0,"d":"€ 0.00"},null,"richtig"]
[301,{"v":989,"d":"€ 989.00"},{"$f":"B81+30","v":{"v":1019,"d":"€ 1,019.00"}},{"$f":"C81+30","v":{"v":1049,"d":"€ 1,049.00"}},{"v":1079,"d":"€ 1,079.00"},{"v":1109,"d":"€ 1,109.00"},null,{"v":949,"d":"€ 949.00"},null,33.63,2,{"v":0,"d":"0.00"},{"v":949,"d":"€ 949.00"},{"v":986.96,"d":"€ 986.96"},{"$f":"ROUNDDOWN(N81/10,0)*10-1","v":{"v":979,"d":"€ 979.00"}},null,{"v":30,"d":"€ 30.00"},{"v":30,"d":"€ 30.00"},null,"Preis passt",null,null,{"v":989,"d":"€ 989.00"},0,{"v":989,"d":"€ 989.00"},989,"richtig"]
[302,{"v":689,"d":"€ 689.00"},{"$f":"B82+20","v":{"v":709,"d":"€ 709.00"}},{"$f":"C82+20","v":{"v":729,"d":"€ 729.00"}},{"$f":"D82+20","v":{"v":749,"d":"€ 749.00"}},{"$f":"E82+20","v":{"v":769,"d":"€ 769.00"}},null,{"v":639,"d":"€ 639.00"},null,22.75,1,{"v":0,"d":"0.00"},{"v":639,"d":"€ 639.00"},{"v":664.5600000000001,"d":"€ 664.56"},{"$f":"ROUNDDOWN(N82/10,0)*10-1","v":{"v":659,"d":"€ 659.00"}},null,{"v":20,"d":"€ 20.00"},{"v":20,"d":"€ 20.00"},null,"Preis passt",null,null,{"v":689,"d":"€ 689.00"},20,{"v":709,"d":"€ 709.00"},689,"FALSCH"]
[303,{"v":689,"d":"€ 689.00"},{"$f":"B83+20","v":{"v":709,"d":"€ 709.00"}},{"v":729,"d":"€ 729.00"},{"v":749,"d":"€ 749.00"},{"v":769,"d":"€ 769.00"},null,{"v":639,"d":"€ 639.00"},null,23.83,1,{"v":0,"d":"0.00"},{"v":639,"d":"€ 639.00"},{"v":664.5600000000001,"d":"€ 664.56"},{"v":659,"d":"€ 659.00"},null,{"v":20,"d":"€ 20.00"},{"v":20,"d":"€ 20.00"},null,"Preis passt",null,null,{"v":689,"d":"€ 689.00"},20,{"v":709,"d":"€ 709.00"},689,"FALSCH"]
[304,{"v":689,"d":"€ 689.00"},{"$f":"B84+20","v":{"v":709,"d":"€ 709.00"}},{"v":729,"d":"€ 729.00"},{"v":749,"d":"€ 749.00"},{"v":769,"d":"€ 769.00"},null,{"v":639,"d":"€ 639.00"},null,23.72,1,{"v":0,"d":"0.00"},{"v":639,"d":"€ 639.00"},{"v":664.5600000000001,"d":"€ 664.56"},{"v":659,"d":"€ 659.00"},null,{"v":20,"d":"€ 20.00"},{"v":20,"d":"€ 20.00"},null,"Preis passt",null,null,{"v":689,"d":"€ 689.00"},20,{"v":709,"d":"€ 709.00"},689,"FALSCH"]
[305,{"v":689,"d":"€ 689.00"},{"$f":"B85+20","v":{"v":709,"d":"€ 709.00"}},{"v":729,"d":"€ 729.00"},{"v":749,"d":"€ 749.00"},{"v":769,"d":"€ 769.00"},null,{"v":639,"d":"€ 639.00"},null,23.91,1,{"v":0,"d":"0.00"},{"v":639,"d":"€ 639.00"},{"v":664.5600000000001,"d":"€ 664.56"},{"v":659,"d":"€ 659.00"},null,{"v":20,"d":"€ 20.00"},{"v":20,"d":"€ 20.00"},null,"Preis passt",null,null,{"v":689,"d":"€ 689.00"},20,{"v":709,"d":"€ 709.00"},689,"FALSCH"]
[306,{"v":689,"d":"€ 689.00"},{"$f":"B86+20","v":{"v":709,"d":"€ 709.00"}},{"v":729,"d":"€ 729.00"},{"v":749,"d":"€ 749.00"},{"v":769,"d":"€ 769.00"},null,{"v":639,"d":"€ 639.00"},null,23.72,1,{"v":0,"d":"0.00"},{"v":639,"d":"€ 639.00"},{"v":664.5600000000001,"d":"€ 664.56"},{"v":659,"d":"€ 659.00"},null,{"v":20,"d":"€ 20.00"},{"v":20,"d":"€ 20.00"},null,"Preis passt",null,null,{"v":689,"d":"€ 689.00"},20,{"v":709,"d":"€ 709.00"},689,"FALSCH"]
[307,{"v":689,"d":"€ 689.00"},{"$f":"B87+20","v":{"v":709,"d":"€ 709.00"}},{"v":729,"d":"€ 729.00"},{"v":749,"d":"€ 749.00"},{"v":769,"d":"€ 769.00"},null,{"v":639,"d":"€ 639.00"},null,23.91,1,{"v":0,"d":"0.00"},{"v":639,"d":"€ 639.00"},{"v":664.5600000000001,"d":"€ 664.56"},{"v":659,"d":"€ 659.00"},null,{"v":20,"d":"€ 20.00"},{"v":20,"d":"€ 20.00"},null,"Preis passt",null,null,{"v":689,"d":"€ 689.00"},20,{"v":709,"d":"€ 709.00"},689,"FALSCH"]
[308,{"v":689,"d":"€ 689.00"},{"$f":"B88+20","v":{"v":709,"d":"€ 709.00"}},{"v":729,"d":"€ 729.00"},{"v":749,"d":"€ 749.00"},{"v":769,"d":"€ 769.00"},null,{"v":639,"d":"€ 639.00"},null,23.72,1,{"v":0,"d":"0.00"},{"v":639,"d":"€ 639.00"},{"v":664.5600000000001,"d":"€ 664.56"},{"v":659,"d":"€ 659.00"},null,{"v":20,"d":"€ 20.00"},{"v":20,"d":"€ 20.00"},null,"Preis passt",null,null,{"v":689,"d":"€ 689.00"},20,{"v":709,"d":"€ 709.00"},689,"FALSCH"]
[309,{"v":689,"d":"€ 689.00"},{"$f":"B89+20","v":{"v":709,"d":"€ 709.00"}},{"v":729,"d":"€ 729.00"},{"v":749,"d":"€ 749.00"},{"v":769,"d":"€ 769.00"},null,{"v":639,"d":"€ 639.00"},null,23.91,1,{"v":0,"d":"0.00"},{"v":639,"d":"€ 639.00"},{"v":664.5600000000001,"d":"€ 664.56"},{"v":659,"d":"€ 659.00"},null,{"v":20,"d":"€ 20.00"},{"v":20,"d":"€ 20.00"},null,"Preis passt",null,null,{"v":689,"d":"€ 689.00"},20,{"v":709,"d":"€ 709.00"},689,"FALSCH"]
[310,{"v":689,"d":"€ 689.00"},{"$f":"B90+20","v":{"v":709,"d":"€ 709.00"}},{"v":729,"d":"€ 729.00"},{"v":749,"d":"€ 749.00"},{"v":769,"d":"€ 769.00"},null,{"v":639,"d":"€ 639.00"},null,23.72,1,{"v":0,"d":"0.00"},{"v":639,"d":"€ 639.00"},{"v":664.5600000000001,"d":"€ 664.56"},{"v":659,"d":"€ 659.00"},null,{"v":20,"d":"€ 20.00"},{"v":20,"d":"€ 20.00"},null,"Preis passt",null,null,{"v":689,"d":"€ 689.00"},20,{"v":709,"d":"€ 709.00"},689,"FALSCH"]
[311,{"v":689,"d":"€ 689.00"},{"$f":"B91+20","v":{"v":709,"d":"€ 709.00"}},{"v":729,"d":"€ 729.00"},{"v":749,"d":"€ 749.00"},{"v":769,"d":"€ 769.00"},null,{"v":639,"d":"€ 639.00"},null,23.91,1,{"v":0,"d":"0.00"},{"v":639,"d":"€ 639.00"},{"v":664.5600000000001,"d":"€ 664.56"},{"v":659,"d":"€ 659.00"},null,{"v":20,"d":"€ 20.00"},{"v":20,"d":"€ 20.00"},null,"Preis passt",null,null,{"v":689,"d":"€ 689.00"},20,{"v":709,"d":"€ 709.00"},689,"FALSCH"]
[312,{"v":689,"d":"€ 689.00"},{"$f":"B92+20","v":{"v":709,"d":"€ 709.00"}},{"v":729,"d":"€ 729.00"},{"v":749,"d":"€ 749.00"},{"v":769,"d":"€ 769.00"},null,{"v":639,"d":"€ 639.00"},null,23.72,1,{"v":0,"d":"0.00"},{"v":639,"d":"€ 639.00"},{"v":664.5600000000001,"d":"€ 664.56"},{"v":659,"d":"€ 659.00"},null,{"v":20,"d":"€ 20.00"},{"v":20,"d":"€ 20.00"},null,"Preis passt",null,null,{"v":689,"d":"€ 689.00"},20,{"v":709,"d":"€ 709.00"},689,"FALSCH"]
[313,{"v":689,"d":"€ 689.00"},{"$f":"B93+20","v":{"v":709,"d":"€ 709.00"}},{"v":729,"d":"€ 729.00"},{"v":749,"d":"€ 749.00"},{"v":769,"d":"€ 769.00"},null,{"v":639,"d":"€ 639.00"},null,23.91,1,{"v":0,"d":"0.00"},{"v":639,"d":"€ 639.00"},{"v":664.5600000000001,"d":"€ 664.56"},{"v":659,"d":"€ 659.00"},null,{"v":20,"d":"€ 20.00"},{"v":20,"d":"€ 20.00"},null,"Preis passt",null,null,{"v":689,"d":"€ 689.00"},20,{"v":709,"d":"€ 709.00"},689,"FALSCH"]
[314,{"v":689,"d":"€ 689.00"},{"$f":"B94+20","v":{"v":709,"d":"€ 709.00"}},{"v":729,"d":"€ 729.00"},{"v":749,"d":"€ 749.00"},{"v":769,"d":"€ 769.00"},null,{"v":639,"d":"€ 639.00"},null,23.72,1,{"v":0,"d":"0.00"},{"v":639,"d":"€ 639.00"},{"v":664.5600000000001,"d":"€ 664.56"},{"v":659,"d":"€ 659.00"},null,{"v":20,"d":"€ 20.00"},{"v":20,"d":"€ 20.00"},null,"Preis passt",null,null,{"v":689,"d":"€ 689.00"},20,{"v":709,"d":"€ 709.00"},689,"FALSCH"]
[315,{"v":689,"d":"€ 689.00"},{"$f":"B95+20","v":{"v":709,"d":"€ 709.00"}},{"v":729,"d":"€ 729.00"},{"v":749,"d":"€ 749.00"},{"v":769,"d":"€ 769.00"},null,{"v":639,"d":"€ 639.00"},null,23.91,1,{"v":0,"d":"0.00"},{"v":639,"d":"€ 639.00"},{"v":664.5600000000001,"d":"€ 664.56"},{"v":659,"d":"€ 659.00"},null,{"v":20,"d":"€ 20.00"},{"v":20,"d":"€ 20.00"},null,"Preis passt",null,null,{"v":689,"d":"€ 689.00"},20,{"v":709,"d":"€ 709.00"},689,"FALSCH"]
[316,{"v":689,"d":"€ 689.00"},{"$f":"B96+20","v":{"v":709,"d":"€ 709.00"}},{"v":729,"d":"€ 729.00"},{"v":749,"d":"€ 749.00"},{"v":769,"d":"€ 769.00"},null,{"v":639,"d":"€ 639.00"},null,23.25,1,{"v":0,"d":"0.00"},{"v":639,"d":"€ 639.00"},{"v":664.5600000000001,"d":"€ 664.56"},{"v":659,"d":"€ 659.00"},null,{"v":20,"d":"€ 20.00"},{"v":20,"d":"€ 20.00"},null,"Preis passt",null,null,{"v":689,"d":"€ 689.00"},20,{"v":709,"d":"€ 709.00"},689,"FALSCH"]
[317,{"v":689,"d":"€ 689.00"},{"$f":"B97+20","v":{"v":709,"d":"€ 709.00"}},{"v":729,"d":"€ 729.00"},{"v":749,"d":"€ 749.00"},{"v":769,"d":"€ 769.00"},null,{"v":639,"d":"€ 639.00"},null,22.53,1,{"v":0,"d":"0.00"},{"v":639,"d":"€ 639.00"},{"v":664.5600000000001,"d":"€ 664.56"},{"v":659,"d":"€ 659.00"},null,{"v":20,"d":"€ 20.00"},{"v":20,"d":"€ 20.00"},null,"Preis passt",null,null,{"v":689,"d":"€ 689.00"},20,{"v":709,"d":"€ 709.00"},689,"FALSCH"]
[318,{"v":1239,"d":"€ 1,239.00"},{"$f":"B98+40","v":{"v":1279,"d":"€ 1,279.00"}},{"$f":"C98+40","v":{"v":1319,"d":"€ 1,319.00"}},{"v":1359,"d":"€ 1,359.00"},{"v":1399,"d":"€ 1,399.00"},null,{"v":1099,"d":"€ 1,099.00"},null,51.41,2,{"v":0,"d":"0.00"},{"v":1099,"d":"€ 1,099.00"},{"v":1142.96,"d":"€ 1,142.96"},{"$f":"ROUNDDOWN(N98/10,0)*10-1","v":{"v":1139,"d":"€ 1,139.00"}},null,{"v":40,"d":"€ 40.00"},{"v":40,"d":"€ 40.00"},null,"Preis passt",null,null,{"v":1239,"d":"€ 1,239.00"},100,{"v":1339,"d":"€ 1,339.00"},1239,"FALSCH"]
[319,{"v":969,"d":"€ 969.00"},{"$f":"B99+30","v":{"v":999,"d":"€ 999.00"}},{"$f":"C99+30","v":{"v":1029,"d":"€ 1,029.00"}},{"v":1059,"d":"€ 1,059.00"},{"v":1089,"d":"€ 1,089.00"},null,{"v":929,"d":"€ 929.00"},null,40.33,1,{"v":0,"d":"0.00"},{"v":929,"d":"€ 929.00"},{"v":966.1600000000001,"d":"€ 966.16"},{"$f":"ROUNDDOWN(N99/10,0)*10-1","v":{"v":959,"d":"€ 959.00"}},null,{"v":30,"d":"€ 30.00"},{"v":30,"d":"€ 30.00"},null,"Preis passt",null,null,{"v":969,"d":"€ 969.00"},0,{"v":969,"d":"€ 969.00"},969,"richtig"]
[320,{"v":689,"d":"€ 689.00"},{"$f":"B100+20","v":{"v":709,"d":"€ 709.00"}},{"$f":"C100+20","v":{"v":729,"d":"€ 729.00"}},{"$f":"D100+20","v":{"v":749,"d":"€ 749.00"}},{"$f":"E100+20","v":{"v":769,"d":"€ 769.00"}},null,{"v":639,"d":"€ 639.00"},null,21.81,1,{"v":0,"d":"0.00"},{"v":639,"d":"€ 639.00"},{"v":664.5600000000001,"d":"€ 664.56"},{"$f":"ROUNDDOWN(N100/10,0)*10-1","v":{"v":659,"d":"€ 659.00"}},null,{"v":20,"d":"€ 20.00"},{"v":20,"d":"€ 20.00"},null,"Preis passt",null,null,{"v":689,"d":"€ 689.00"},20,{"v":709,"d":"€ 709.00"},689,"FALSCH"]
[321,{"v":889,"d":"€ 889.00"},{"$f":"B101+30","v":{"v":919,"d":"€ 919.00"}},{"$f":"C101+30","v":{"v":949,"d":"€ 949.00"}},{"v":979,"d":"€ 979.00"},{"v":1009,"d":"€ 1,009.00"},null,{"v":859,"d":"€ 859.00"},null,33.39,1,12.44,{"v":859,"d":"€ 859.00"},{"v":893.36,"d":"€ 893.36"},{"$f":"ROUNDDOWN(N101/10,0)*10-1","v":{"v":889,"d":"€ 889.00"}},null,{"v":30,"d":"€ 30.00"},{"v":30,"d":"€ 30.00"},null,"Preis passt",null,null,{"v":889,"d":"€ 889.00"},0,{"v":889,"d":"€ 889.00"},889,"richtig"]
[322,{"v":739,"d":"€ 739.00"},{"$f":"B102+20","v":{"v":759,"d":"€ 759.00"}},{"$f":"C102+20","v":{"v":779,"d":"€ 779.00"}},{"$f":"D102+20","v":{"v":799,"d":"€ 799.00"}},{"$f":"E102+20","v":{"v":819,"d":"€ 819.00"}},null,{"v":689,"d":"€ 689.00"},null,23.48,1,4.77,{"v":689,"d":"€ 689.00"},{"v":716.5600000000001,"d":"€ 716.56"},{"$f":"ROUNDDOWN(N102/10,0)*10-1","v":{"v":709,"d":"€ 709.00"}},null,{"v":20,"d":"€ 20.00"},{"v":20,"d":"€ 20.00"},null,"Preis passt",null,null,{"v":739,"d":"€ 739.00"},20,{"v":759,"d":"€ 759.00"},739,"FALSCH"]
[323,{"v":739,"d":"€ 739.00"},{"$f":"B103+20","v":{"v":759,"d":"€ 759.00"}},{"v":779,"d":"€ 779.00"},{"v":799,"d":"€ 799.00"},{"v":819,"d":"€ 819.00"},null,{"v":689,"d":"€ 689.00"},null,23.48,1,4.77,{"v":689,"d":"€ 689.00"},{"v":716.5600000000001,"d":"€ 716.56"},{"v":709,"d":"€ 709.00"},null,{"v":20,"d":"€ 20.00"},{"v":20,"d":"€ 20.00"},null,"Preis passt",null,null,{"v":739,"d":"€ 739.00"},20,{"v":759,"d":"€ 759.00"},739,"FALSCH"]
[324,{"v":739,"d":"€ 739.00"},{"$f":"B104+20","v":{"v":759,"d":"€ 759.00"}},{"v":779,"d":"€ 779.00"},{"v":799,"d":"€ 799.00"},{"v":819,"d":"€ 819.00"},null,{"v":689,"d":"€ 689.00"},null,23.21,1,4.77,{"v":689,"d":"€ 689.00"},{"v":716.5600000000001,"d":"€ 716.56"},{"v":709,"d":"€ 709.00"},null,{"v":20,"d":"€ 20.00"},{"v":20,"d":"€ 20.00"},null,"Preis passt",null,null,{"v":739,"d":"€ 739.00"},20,{"v":759,"d":"€ 759.00"},739,"FALSCH"]
[325,{"v":739,"d":"€ 739.00"},{"$f":"B105+20","v":{"v":759,"d":"€ 759.00"}},{"v":779,"d":"€ 779.00"},{"v":799,"d":"€ 799.00"},{"v":819,"d":"€ 819.00"},null,{"v":689,"d":"€ 689.00"},null,23.52,1,4.77,{"v":689,"d":"€ 689.00"},{"v":716.5600000000001,"d":"€ 716.56"},{"v":709,"d":"€ 709.00"},null,{"v":20,"d":"€ 20.00"},{"v":20,"d":"€ 20.00"},null,"Preis passt",null,null,{"v":739,"d":"€ 739.00"},20,{"v":759,"d":"€ 759.00"},739,"FALSCH"]
[326,{"v":739,"d":"€ 739.00"},{"$f":"B106+20","v":{"v":759,"d":"€ 759.00"}},{"v":779,"d":"€ 779.00"},{"v":799,"d":"€ 799.00"},{"v":819,"d":"€ 819.00"},null,{"v":689,"d":"€ 689.00"},null,23.46,1,4.77,{"v":689,"d":"€ 689.00"},{"v":716.5600000000001,"d":"€ 716.56"},{"v":709,"d":"€ 709.00"},null,{"v":20,"d":"€ 20.00"},{"v":20,"d":"€ 20.00"},null,"Preis passt",null,null,{"v":739,"d":"€ 739.00"},20,{"v":759,"d":"€ 759.00"},739,"FALSCH"]
[327,{"v":739,"d":"€ 739.00"},{"$f":"B107+20","v":{"v":759,"d":"€ 759.00"}},{"v":779,"d":"€ 779.00"},{"v":799,"d":"€ 799.00"},{"v":819,"d":"€ 819.00"},null,{"v":689,"d":"€ 689.00"},null,{"v":23.3,"d":"23.30"},1,4.77,{"v":689,"d":"€ 689.00"},{"v":716.5600000000001,"d":"€ 716.56"},{"v":709,"d":"€ 709.00"},null,{"v":20,"d":"€ 20.00"},{"v":20,"d":"€ 20.00"},null,"Preis passt",null,null,{"v":739,"d":"€ 739.00"},20,{"v":759,"d":"€ 759.00"},739,"FALSCH"]
[328,{"v":739,"d":"€ 739.00"},{"$f":"B108+20","v":{"v":759,"d":"€ 759.00"}},{"v":779,"d":"€ 779.00"},{"v":799,"d":"€ 799.00"},{"v":819,"d":"€ 819.00"},null,{"v":689,"d":"€ 689.00"},null,23.44,1,4.77,{"v":689,"d":"€ 689.00"},{"v":716.5600000000001,"d":"€ 716.56"},{"v":709,"d":"€ 709.00"},null,{"v":20,"d":"€ 20.00"},{"v":20,"d":"€ 20.00"},null,"Preis passt",null,null,{"v":739,"d":"€ 739.00"},20,{"v":759,"d":"€ 759.00"},739,"FALSCH"]
[329,{"v":739,"d":"€ 739.00"},{"$f":"B109+20","v":{"v":759,"d":"€ 759.00"}},{"v":779,"d":"€ 779.00"},{"v":799,"d":"€ 799.00"},{"v":819,"d":"€ 819.00"},null,{"v":689,"d":"€ 689.00"},null,{"v":23.3,"d":"23.30"},1,4.77,{"v":689,"d":"€ 689.00"},{"v":716.5600000000001,"d":"€ 716.56"},{"v":709,"d":"€ 709.00"},null,{"v":20,"d":"€ 20.00"},{"v":20,"d":"€ 20.00"},null,"Preis passt",null,null,{"v":739,"d":"€ 739.00"},20,{"v":759,"d":"€ 759.00"},739,"FALSCH"]
[330,{"v":739,"d":"€ 739.00"},{"$f":"B110+20","v":{"v":759,"d":"€ 759.00"}},{"v":779,"d":"€ 779.00"},{"v":799,"d":"€ 799.00"},{"v":819,"d":"€ 819.00"},null,{"v":689,"d":"€ 689.00"},null,23.45,1,4.77,{"v":689,"d":"€ 689.00"},{"v":716.5600000000001,"d":"€ 716.56"},{"v":709,"d":"€ 709.00"},null,{"v":20,"d":"€ 20.00"},{"v":20,"d":"€ 20.00"},null,"Preis passt",null,null,{"v":739,"d":"€ 739.00"},20,{"v":759,"d":"€ 759.00"},739,"FALSCH"]
[331,{"v":739,"d":"€ 739.00"},{"$f":"B111+20","v":{"v":759,"d":"€ 759.00"}},{"v":779,"d":"€ 779.00"},{"v":799,"d":"€ 799.00"},{"v":819,"d":"€ 819.00"},null,{"v":689,"d":"€ 689.00"},null,23.28,1,4.77,{"v":689,"d":"€ 689.00"},{"v":716.5600000000001,"d":"€ 716.56"},{"v":709,"d":"€ 709.00"},null,{"v":20,"d":"€ 20.00"},{"v":20,"d":"€ 20.00"},null,"Preis passt",null,null,{"v":739,"d":"€ 739.00"},20,{"v":759,"d":"€ 759.00"},739,"FALSCH"]
[332,{"v":1239,"d":"€ 1,239.00"},{"$f":"B112+40","v":{"v":1279,"d":"€ 1,279.00"}},{"$f":"C112+40","v":{"v":1319,"d":"€ 1,319.00"}},{"v":1359,"d":"€ 1,359.00"},{"v":1399,"d":"€ 1,399.00"},null,{"v":1189,"d":"€ 1,189.00"},null,48.86,"2 + AR",7.39,{"v":1189,"d":"€ 1,189.00"},{"v":1236.56,"d":"€ 1,236.56"},{"v":1229,"d":"€ 1,229.00"},null,{"v":40,"d":"€ 40.00"},{"v":40,"d":"€ 40.00"},null,"Preis passt",null,null,{"v":1239,"d":"€ 1,239.00"},0,{"v":1239,"d":"€ 1,239.00"},1239,"richtig"]
[333,{"v":739,"d":"€ 739.00"},{"$f":"B113+20","v":{"v":759,"d":"€ 759.00"}},{"$f":"C113+20","v":{"v":779,"d":"€ 779.00"}},{"$f":"D113+20","v":{"v":799,"d":"€ 799.00"}},{"$f":"E113+20","v":{"v":819,"d":"€ 819.00"}},null,{"v":689,"d":"€ 689.00"},null,23.29,1,4.77,{"v":689,"d":"€ 689.00"},{"v":716.5600000000001,"d":"€ 716.56"},{"v":709,"d":"€ 709.00"},null,{"v":20,"d":"€ 20.00"},{"v":20,"d":"€ 20.00"},null,"Preis passt",null,null,{"v":739,"d":"€ 739.00"},20,{"v":759,"d":"€ 759.00"},739,"FALSCH"]
[334,{"v":739,"d":"€ 739.00"},{"$f":"B114+20","v":{"v":759,"d":"€ 759.00"}},{"v":779,"d":"€ 779.00"},{"v":799,"d":"€ 799.00"},{"v":819,"d":"€ 819.00"},null,{"v":689,"d":"€ 689.00"},null,23.48,1,4.77,{"v":689,"d":"€ 689.00"},{"v":716.5600000000001,"d":"€ 716.56"},{"v":709,"d":"€ 709.00"},null,{"v":20,"d":"€ 20.00"},{"v":20,"d":"€ 20.00"},null,"Preis passt",null,null,{"v":739,"d":"€ 739.00"},20,{"v":759,"d":"€ 759.00"},739,"FALSCH"]
[335,{"v":739,"d":"€ 739.00"},{"$f":"B115+20","v":{"v":759,"d":"€ 759.00"}},{"v":779,"d":"€ 779.00"},{"v":799,"d":"€ 799.00"},{"v":819,"d":"€ 819.00"},null,{"v":689,"d":"€ 689.00"},null,23.29,1,4.77,{"v":689,"d":"€ 689.00"},{"v":716.5600000000001,"d":"€ 716.56"},{"v":709,"d":"€ 709.00"},null,{"v":20,"d":"€ 20.00"},{"v":20,"d":"€ 20.00"},null,"Preis passt",null,null,{"v":739,"d":"€ 739.00"},20,{"v":759,"d":"€ 759.00"},739,"FALSCH"]
[336,{"v":739,"d":"€ 739.00"},{"$f":"B116+20","v":{"v":759,"d":"€ 759.00"}},{"v":779,"d":"€ 779.00"},{"v":799,"d":"€ 799.00"},{"v":819,"d":"€ 819.00"},null,{"v":689,"d":"€ 689.00"},null,23.48,1,3.34,{"v":689,"d":"€ 689.00"},{"v":716.5600000000001,"d":"€ 716.56"},{"v":709,"d":"€ 709.00"},null,{"v":20,"d":"€ 20.00"},{"v":20,"d":"€ 20.00"},null,"Preis passt",null,null,{"v":739,"d":"€ 739.00"},20,{"v":759,"d":"€ 759.00"},739,"FALSCH"]
[337,{"v":1309,"d":"€ 1,309.00"},{"$f":"B117+40","v":{"v":1349,"d":"€ 1,349.00"}},{"$f":"C117+40","v":{"v":1389,"d":"€ 1,389.00"}},{"v":1429,"d":"€ 1,429.00"},{"v":1469,"d":"€ 1,469.00"},null,{"v":1259,"d":"€ 1,259.00"},null,48.47,3,{"v":9.8,"d":"9.80"},{"v":1259,"d":"€ 1,259.00"},{"v":1309.3600000000001,"d":"€ 1,309.36"},{"v":1299,"d":"€ 1,299.00"},null,{"v":40,"d":"€ 40.00"},{"v":40,"d":"€ 40.00"},null,"Preis passt",null,null,{"v":1309,"d":"€ 1,309.00"},0,{"v":1309,"d":"€ 1,309.00"},1309,"richtig"]
[{"$nulls":13},{"v":0,"d":"€ 0.00"},null,null,{"v":0,"d":"€ 0.00"},{"v":0,"d":"€ 0.00"},null,"Preis passt",null,null,{"v":0,"d":"€ 0.00"},null,{"v":0,"d":"€ 0.00"},null,"richtig"]
[401,{"v":989,"d":"€ 989.00"},{"$f":"B119+30","v":{"v":1019,"d":"€ 1,019.00"}},{"$f":"C119+30","v":{"v":1049,"d":"€ 1,049.00"}},{"v":1079,"d":"€ 1,079.00"},{"v":1109,"d":"€ 1,109.00"},null,{"v":949,"d":"€ 949.00"},null,33.63,2,{"v":0,"d":"0.00"},{"v":949,"d":"€ 949.00"},{"v":986.96,"d":"€ 986.96"},{"$f":"ROUNDDOWN(N119/10,0)*10-1","v":{"v":979,"d":"€ 979.00"}},null,{"v":30,"d":"€ 30.00"},{"v":30,"d":"€ 30.00"},null,"Preis passt",null,null,{"v":989,"d":"€ 989.00"},0,{"v":989,"d":"€ 989.00"},989,"richtig"]
[402,{"v":719,"d":"€ 719.00"},{"$f":"B120+20","v":{"v":739,"d":"€ 739.00"}},{"$f":"C120+20","v":{"v":759,"d":"€ 759.00"}},{"$f":"D120+20","v":{"v":779,"d":"€ 779.00"}},{"$f":"E120+20","v":{"v":799,"d":"€ 799.00"}},null,{"v":669,"d":"€ 669.00"},null,22.75,1,{"v":0,"d":"0.00"},{"v":669,"d":"€ 669.00"},{"v":695.76,"d":"€ 695.76"},{"$f":"ROUNDDOWN(N120/10,0)*10-1","v":{"v":689,"d":"€ 689.00"}},null,{"v":20,"d":"€ 20.00"},{"v":20,"d":"€ 20.00"},null,"Preis passt",null,null,{"v":719,"d":"€ 719.00"},20,{"v":739,"d":"€ 739.00"},719,"FALSCH"]
[403,{"v":719,"d":"€ 719.00"},{"$f":"B121+20","v":{"v":739,"d":"€ 739.00"}},{"v":759,"d":"€ 759.00"},{"v":779,"d":"€ 779.00"},{"v":799,"d":"€ 799.00"},null,{"v":669,"d":"€ 669.00"},null,23.83,1,{"v":0,"d":"0.00"},{"v":669,"d":"€ 669.00"},{"v":695.76,"d":"€ 695.76"},{"v":689,"d":"€ 689.00"},null,{"v":20,"d":"€ 20.00"},{"v":20,"d":"€ 20.00"},null,"Preis passt",null,null,{"v":719,"d":"€ 719.00"},20,{"v":739,"d":"€ 739.00"},719,"FALSCH"]
[404,{"v":719,"d":"€ 719.00"},{"$f":"B122+20","v":{"v":739,"d":"€ 739.00"}},{"v":759,"d":"€ 759.00"},{"v":779,"d":"€ 779.00"},{"v":799,"d":"€ 799.00"},null,{"v":669,"d":"€ 669.00"},null,23.72,1,{"v":0,"d":"0.00"},{"v":669,"d":"€ 669.00"},{"v":695.76,"d":"€ 695.76"},{"v":689,"d":"€ 689.00"},null,{"v":20,"d":"€ 20.00"},{"v":20,"d":"€ 20.00"},null,"Preis passt",null,null,{"v":719,"d":"€ 719.00"},20,{"v":739,"d":"€ 739.00"},719,"FALSCH"]
[405,{"v":719,"d":"€ 719.00"},{"$f":"B123+20","v":{"v":739,"d":"€ 739.00"}},{"v":759,"d":"€ 759.00"},{"v":779,"d":"€ 779.00"},{"v":799,"d":"€ 799.00"},null,{"v":669,"d":"€ 669.00"},null,23.91,1,{"v":0,"d":"0.00"},{"v":669,"d":"€ 669.00"},{"v":695.76,"d":"€ 695.76"},{"v":689,"d":"€ 689.00"},null,{"v":20,"d":"€ 20.00"},{"v":20,"d":"€ 20.00"},null,"Preis passt",null,null,{"v":719,"d":"€ 719.00"},20,{"v":739,"d":"€ 739.00"},719,"FALSCH"]
[406,{"v":719,"d":"€ 719.00"},{"$f":"B124+20","v":{"v":739,"d":"€ 739.00"}},{"v":759,"d":"€ 759.00"},{"v":779,"d":"€ 779.00"},{"v":799,"d":"€ 799.00"},null,{"v":669,"d":"€ 669.00"},null,23.72,1,{"v":0,"d":"0.00"},{"v":669,"d":"€ 669.00"},{"v":695.76,"d":"€ 695.76"},{"v":689,"d":"€ 689.00"},null,{"v":20,"d":"€ 20.00"},{"v":20,"d":"€ 20.00"},null,"Preis passt",null,null,{"v":719,"d":"€ 719.00"},20,{"v":739,"d":"€ 739.00"},719,"FALSCH"]
[407,{"v":719,"d":"€ 719.00"},{"$f":"B125+20","v":{"v":739,"d":"€ 739.00"}},{"v":759,"d":"€ 759.00"},{"v":779,"d":"€ 779.00"},{"v":799,"d":"€ 799.00"},null,{"v":669,"d":"€ 669.00"},null,23.91,1,{"v":0,"d":"0.00"},{"v":669,"d":"€ 669.00"},{"v":695.76,"d":"€ 695.76"},{"v":689,"d":"€ 689.00"},null,{"v":20,"d":"€ 20.00"},{"v":20,"d":"€ 20.00"},null,"Preis passt",null,null,{"v":719,"d":"€ 719.00"},20,{"v":739,"d":"€ 739.00"},719,"FALSCH"]
[408,{"v":719,"d":"€ 719.00"},{"$f":"B126+20","v":{"v":739,"d":"€ 739.00"}},{"v":759,"d":"€ 759.00"},{"v":779,"d":"€ 779.00"},{"v":799,"d":"€ 799.00"},null,{"v":669,"d":"€ 669.00"},null,23.72,1,{"v":0,"d":"0.00"},{"v":669,"d":"€ 669.00"},{"v":695.76,"d":"€ 695.76"},{"v":689,"d":"€ 689.00"},null,{"v":20,"d":"€ 20.00"},{"v":20,"d":"€ 20.00"},null,"Preis passt",null,null,{"v":719,"d":"€ 719.00"},20,{"v":739,"d":"€ 739.00"},719,"FALSCH"]
[409,{"v":719,"d":"€ 719.00"},{"$f":"B127+20","v":{"v":739,"d":"€ 739.00"}},{"v":759,"d":"€ 759.00"},{"v":779,"d":"€ 779.00"},{"v":799,"d":"€ 799.00"},null,{"v":669,"d":"€ 669.00"},null,23.91,1,{"v":0,"d":"0.00"},{"v":669,"d":"€ 669.00"},{"v":695.76,"d":"€ 695.76"},{"v":689,"d":"€ 689.00"},null,{"v":20,"d":"€ 20.00"},{"v":20,"d":"€ 20.00"},null,"Preis passt",null,null,{"v":719,"d":"€ 719.00"},20,{"v":739,"d":"€ 739.00"},719,"FALSCH"]
[410,{"v":719,"d":"€ 719.00"},{"$f":"B128+20","v":{"v":739,"d":"€ 739.00"}},{"v":759,"d":"€ 759.00"},{"v":779,"d":"€ 779.00"},{"v":799,"d":"€ 799.00"},null,{"v":669,"d":"€ 669.00"},null,23.72,1,{"v":0,"d":"0.00"},{"v":669,"d":"€ 669.00"},{"v":695.76,"d":"€ 695.76"},{"v":689,"d":"€ 689.00"},null,{"v":20,"d":"€ 20.00"},{"v":20,"d":"€ 20.00"},null,"Preis passt",null,null,{"v":719,"d":"€ 719.00"},20,{"v":739,"d":"€ 739.00"},719,"FALSCH"]
[411,{"v":719,"d":"€ 719.00"},{"$f":"B129+20","v":{"v":739,"d":"€ 739.00"}},{"v":759,"d":"€ 759.00"},{"v":779,"d":"€ 779.00"},{"v":799,"d":"€ 799.00"},null,{"v":669,"d":"€ 669.00"},null,23.91,1,{"v":0,"d":"0.00"},{"v":669,"d":"€ 669.00"},{"v":695.76,"d":"€ 695.76"},{"v":689,"d":"€ 689.00"},null,{"v":20,"d":"€ 20.00"},{"v":20,"d":"€ 20.00"},null,"Preis passt",null,null,{"v":719,"d":"€ 719.00"},20,{"v":739,"d":"€ 739.00"},719,"FALSCH"]
[412,{"v":719,"d":"€ 719.00"},{"$f":"B130+20","v":{"v":739,"d":"€ 739.00"}},{"v":759,"d":"€ 759.00"},{"v":779,"d":"€ 779.00"},{"v":799,"d":"€ 799.00"},null,{"v":669,"d":"€ 669.00"},null,23.72,1,{"v":0,"d":"0.00"},{"v":669,"d":"€ 669.00"},{"v":695.76,"d":"€ 695.76"},{"v":689,"d":"€ 689.00"},null,{"v":20,"d":"€ 20.00"},{"v":20,"d":"€ 20.00"},null,"Preis passt",null,null,{"v":719,"d":"€ 719.00"},20,{"v":739,"d":"€ 739.00"},719,"FALSCH"]
[413,{"v":719,"d":"€ 719.00"},{"$f":"B131+20","v":{"v":739,"d":"€ 739.00"}},{"v":759,"d":"€ 759.00"},{"v":779,"d":"€ 779.00"},{"v":799,"d":"€ 799.00"},null,{"v":669,"d":"€ 669.00"},null,23.91,1,{"v":0,"d":"0.00"},{"v":669,"d":"€ 669.00"},{"v":695.76,"d":"€ 695.76"},{"v":689,"d":"€ 689.00"},null,{"v":20,"d":"€ 20.00"},{"v":20,"d":"€ 20.00"},null,"Preis passt",null,null,{"v":719,"d":"€ 719.00"},20,{"v":739,"d":"€ 739.00"},719,"FALSCH"]
[414,{"v":719,"d":"€ 719.00"},{"$f":"B132+20","v":{"v":739,"d":"€ 739.00"}},{"v":759,"d":"€ 759.00"},{"v":779,"d":"€ 779.00"},{"v":799,"d":"€ 799.00"},null,{"v":669,"d":"€ 669.00"},null,23.72,1,{"v":0,"d":"0.00"},{"v":669,"d":"€ 669.00"},{"v":695.76,"d":"€ 695.76"},{"v":689,"d":"€ 689.00"},null,{"v":20,"d":"€ 20.00"},{"v":20,"d":"€ 20.00"},null,"Preis passt",null,null,{"v":719,"d":"€ 719.00"},20,{"v":739,"d":"€ 739.00"},719,"FALSCH"]
[415,{"v":719,"d":"€ 719.00"},{"$f":"B133+20","v":{"v":739,"d":"€ 739.00"}},{"v":759,"d":"€ 759.00"},{"v":779,"d":"€ 779.00"},{"v":799,"d":"€ 799.00"},null,{"v":669,"d":"€ 669.00"},null,23.91,1,{"v":0,"d":"0.00"},{"v":669,"d":"€ 669.00"},{"v":695.76,"d":"€ 695.76"},{"v":689,"d":"€ 689.00"},null,{"v":20,"d":"€ 20.00"},{"v":20,"d":"€ 20.00"},null,"Preis passt",null,null,{"v":719,"d":"€ 719.00"},20,{"v":739,"d":"€ 739.00"},719,"FALSCH"]
[416,{"v":719,"d":"€ 719.00"},{"$f":"B134+20","v":{"v":739,"d":"€ 739.00"}},{"v":759,"d":"€ 759.00"},{"v":779,"d":"€ 779.00"},{"v":799,"d":"€ 799.00"},null,{"v":669,"d":"€ 669.00"},null,23.25,1,{"v":0,"d":"0.00"},{"v":669,"d":"€ 669.00"},{"$f":"M134*1.04","v":{"v":695.76,"d":"€ 695.76"}},{"v":689,"d":"€ 689.00"},null,{"$f":"O134-M134","v":{"v":20,"d":"€ 20.00"}},{"$f":"C134-B134","v":{"v":20,"d":"€ 20.00"}},null,{"$f":"IF(Q134=R134, \"Preis passt\", \"Korrektur\")","v":"Preis passt"},null,null,{"$f":"B134","v":{"v":719,"d":"€ 719.00"}},20,{"$f":"W134+X134","v":{"v":739,"d":"€ 739.00"}},719,{"$f":"IF(Y134=Z134,\"richtig\",\"FALSCH\")","v":"FALSCH"}]
[417,{"v":719,"d":"€ 719.00"},{"$f":"B135+20","v":{"v":739,"d":"€ 739.00"}},{"v":759,"d":"€ 759.00"},{"v":779,"d":"€ 779.00"},{"v":799,"d":"€ 799.00"},null,{"v":669,"d":"€ 669.00"},null,22.53,1,{"v":0,"d":"0.00"},{"v":669,"d":"€ 669.00"},{"v":695.76,"d":"€ 695.76"},{"v":689,"d":"€ 689.00"},null,{"v":20,"d":"€ 20.00"},{"v":20,"d":"€ 20.00"},null,"Preis passt",null,null,{"v":719,"d":"€ 719.00"},20,{"v":739,"d":"€ 739.00"},719,"FALSCH"]
[418,{"v":1239,"d":"€ 1,239.00"},{"$f":"B136+40","v":{"v":1279,"d":"€ 1,279.00"}},{"$f":"C136+40","v":{"v":1319,"d":"€ 1,319.00"}},{"v":1359,"d":"€ 1,359.00"},{"v":1399,"d":"€ 1,399.00"},null,{"v":1099,"d":"€ 1,099.00"},null,{"v":51.4,"d":"51.40"},2,{"v":0,"d":"0.00"},{"v":1099,"d":"€ 1,099.00"},{"v":1142.96,"d":"€ 1,142.96"},{"$f":"ROUNDDOWN(N136/10,0)*10-1","v":{"v":1139,"d":"€ 1,139.00"}},null,{"v":40,"d":"€ 40.00"},{"v":40,"d":"€ 40.00"},null,"Preis passt",null,null,{"v":1239,"d":"€ 1,239.00"},100,{"v":1339,"d":"€ 1,339.00"},1239,"FALSCH"]
[419,{"v":969,"d":"€ 969.00"},{"$f":"B137+30","v":{"v":999,"d":"€ 999.00"}},{"$f":"C137+30","v":{"v":1029,"d":"€ 1,029.00"}},{"v":1059,"d":"€ 1,059.00"},{"v":1089,"d":"€ 1,089.00"},null,{"v":929,"d":"€ 929.00"},null,40.33,1,{"v":0,"d":"0.00"},{"v":929,"d":"€ 929.00"},{"v":966.1600000000001,"d":"€ 966.16"},{"$f":"ROUNDDOWN(N137/10,0)*10-1","v":{"v":959,"d":"€ 959.00"}},null,{"v":30,"d":"€ 30.00"},{"v":30,"d":"€ 30.00"},null,"Preis passt",null,null,{"v":969,"d":"€ 969.00"},0,{"v":969,"d":"€ 969.00"},969,"richtig"]
[420,{"v":719,"d":"€ 719.00"},{"$f":"B138+20","v":{"v":739,"d":"€ 739.00"}},{"$f":"C138+20","v":{"v":759,"d":"€ 759.00"}},{"$f":"D138+20","v":{"v":779,"d":"€ 779.00"}},{"$f":"E138+20","v":{"v":799,"d":"€ 799.00"}},null,{"v":669,"d":"€ 669.00"},null,21.81,1,{"v":0,"d":"0.00"},{"v":669,"d":"€ 669.00"},{"v":695.76,"d":"€ 695.76"},{"$f":"ROUNDDOWN(N138/10,0)*10-1","v":{"v":689,"d":"€ 689.00"}},null,{"v":20,"d":"€ 20.00"},{"v":20,"d":"€ 20.00"},null,"Preis passt",null,null,{"v":719,"d":"€ 719.00"},20,{"v":739,"d":"€ 739.00"},719,"FALSCH"]
[421,{"v":889,"d":"€ 889.00"},{"$f":"B139+30","v":{"v":919,"d":"€ 919.00"}},{"$f":"C139+30","v":{"v":949,"d":"€ 949.00"}},{"v":979,"d":"€ 979.00"},{"v":1009,"d":"€ 1,009.00"},null,{"v":859,"d":"€ 859.00"},null,33.39,1,12.44,{"v":859,"d":"€ 859.00"},{"v":893.36,"d":"€ 893.36"},{"$f":"ROUNDDOWN(N139/10,0)*10-1","v":{"v":889,"d":"€ 889.00"}},null,{"v":30,"d":"€ 30.00"},{"v":30,"d":"€ 30.00"},null,"Preis passt",null,null,{"v":889,"d":"€ 889.00"},0,{"v":889,"d":"€ 889.00"},889,"richtig"]
[422,{"v":759,"d":"€ 759.00"},{"$f":"B140+20","v":{"v":779,"d":"€ 779.00"}},{"$f":"C140+20","v":{"v":799,"d":"€ 799.00"}},{"$f":"D140+20","v":{"v":819,"d":"€ 819.00"}},{"$f":"E140+20","v":{"v":839,"d":"€ 839.00"}},null,{"v":709,"d":"€ 709.00"},null,23.48,1,4.77,{"v":709,"d":"€ 709.00"},{"v":737.36,"d":"€ 737.36"},{"$f":"ROUNDDOWN(N140/10,0)*10-1","v":{"v":729,"d":"€ 729.00"}},null,{"v":20,"d":"€ 20.00"},{"v":20,"d":"€ 20.00"},null,"Preis passt",null,null,{"v":759,"d":"€ 759.00"},20,{"v":779,"d":"€ 779.00"},759,"FALSCH"]
[423,{"v":759,"d":"€ 759.00"},{"$f":"B141+20","v":{"v":779,"d":"€ 779.00"}},{"v":799,"d":"€ 799.00"},{"v":819,"d":"€ 819.00"},{"v":839,"d":"€ 839.00"},null,{"v":709,"d":"€ 709.00"},null,23.48,1,4.77,{"v":709,"d":"€ 709.00"},{"v":737.36,"d":"€ 737.36"},{"v":729,"d":"€ 729.00"},null,{"v":20,"d":"€ 20.00"},{"v":20,"d":"€ 20.00"},null,"Preis passt",null,null,{"v":759,"d":"€ 759.00"},20,{"v":779,"d":"€ 779.00"},759,"FALSCH"]
[424,{"v":759,"d":"€ 759.00"},{"$f":"B142+20","v":{"v":779,"d":"€ 779.00"}},{"v":799,"d":"€ 799.00"},{"v":819,"d":"€ 819.00"},{"v":839,"d":"€ 839.00"},null,{"v":709,"d":"€ 709.00"},null,23.21,1,4.77,{"v":709,"d":"€ 709.00"},{"v":737.36,"d":"€ 737.36"},{"v":729,"d":"€ 729.00"},null,{"v":20,"d":"€ 20.00"},{"v":20,"d":"€ 20.00"},null,"Preis passt",null,null,{"v":759,"d":"€ 759.00"},20,{"v":779,"d":"€ 779.00"},759,"FALSCH"]
[425,{"v":759,"d":"€ 759.00"},{"$f":"B143+20","v":{"v":779,"d":"€ 779.00"}},{"v":799,"d":"€ 799.00"},{"v":819,"d":"€ 819.00"},{"v":839,"d":"€ 839.00"},null,{"v":709,"d":"€ 709.00"},null,23.47,1,4.77,{"v":709,"d":"€ 709.00"},{"v":737.36,"d":"€ 737.36"},{"v":729,"d":"€ 729.00"},null,{"v":20,"d":"€ 20.00"},{"v":20,"d":"€ 20.00"},null,"Preis passt",null,null,{"v":759,"d":"€ 759.00"},20,{"v":779,"d":"€ 779.00"},759,"FALSCH"]
[426,{"v":759,"d":"€ 759.00"},{"$f":"B144+20","v":{"v":779,"d":"€ 779.00"}},{"v":799,"d":"€ 799.00"},{"v":819,"d":"€ 819.00"},{"v":839,"d":"€ 839.00"},null,{"v":709,"d":"€ 709.00"},null,23.45,1,4.77,{"v":709,"d":"€ 709.00"},{"v":737.36,"d":"€ 737.36"},{"v":729,"d":"€ 729.00"},null,{"v":20,"d":"€ 20.00"},{"v":20,"d":"€ 20.00"},null,"Preis passt",null,null,{"v":759,"d":"€ 759.00"},20,{"v":779,"d":"€ 779.00"},759,"FALSCH"]
[427,{"v":759,"d":"€ 759.00"},{"$f":"B145+20","v":{"v":779,"d":"€ 779.00"}},{"v":799,"d":"€ 799.00"},{"v":819,"d":"€ 819.00"},{"v":839,"d":"€ 839.00"},null,{"v":709,"d":"€ 709.00"},null,23.29,1,4.77,{"v":709,"d":"€ 709.00"},{"v":737.36,"d":"€ 737.36"},{"v":729,"d":"€ 729.00"},null,{"v":20,"d":"€ 20.00"},{"v":20,"d":"€ 20.00"},null,"Preis passt",null,null,{"v":759,"d":"€ 759.00"},20,{"v":779,"d":"€ 779.00"},759,"FALSCH"]
[428,{"v":759,"d":"€ 759.00"},{"$f":"B146+20","v":{"v":779,"d":"€ 779.00"}},{"v":799,"d":"€ 799.00"},{"v":819,"d":"€ 819.00"},{"v":839,"d":"€ 839.00"},null,{"v":709,"d":"€ 709.00"},null,23.45,1,4.77,{"v":709,"d":"€ 709.00"},{"v":737.36,"d":"€ 737.36"},{"v":729,"d":"€ 729.00"},null,{"v":20,"d":"€ 20.00"},{"v":20,"d":"€ 20.00"},null,"Preis passt",null,null,{"v":759,"d":"€ 759.00"},20,{"v":779,"d":"€ 779.00"},759,"FALSCH"]
[429,{"v":759,"d":"€ 759.00"},{"$f":"B147+20","v":{"v":779,"d":"€ 779.00"}},{"v":799,"d":"€ 799.00"},{"v":819,"d":"€ 819.00"},{"v":839,"d":"€ 839.00"},null,{"v":709,"d":"€ 709.00"},null,23.27,1,4.77,{"v":709,"d":"€ 709.00"},{"v":737.36,"d":"€ 737.36"},{"v":729,"d":"€ 729.00"},null,{"v":20,"d":"€ 20.00"},{"v":20,"d":"€ 20.00"},null,"Preis passt",null,null,{"v":759,"d":"€ 759.00"},20,{"v":779,"d":"€ 779.00"},759,"FALSCH"]
[430,{"v":759,"d":"€ 759.00"},{"$f":"B148+20","v":{"v":779,"d":"€ 779.00"}},{"v":799,"d":"€ 799.00"},{"v":819,"d":"€ 819.00"},{"v":839,"d":"€ 839.00"},null,{"v":709,"d":"€ 709.00"},null,23.45,1,4.77,{"v":709,"d":"€ 709.00"},{"v":737.36,"d":"€ 737.36"},{"v":729,"d":"€ 729.00"},null,{"v":20,"d":"€ 20.00"},{"v":20,"d":"€ 20.00"},null,"Preis passt",null,null,{"v":759,"d":"€ 759.00"},20,{"v":779,"d":"€ 779.00"},759,"FALSCH"]
[431,{"v":759,"d":"€ 759.00"},{"$f":"B149+20","v":{"v":779,"d":"€ 779.00"}},{"v":799,"d":"€ 799.00"},{"v":819,"d":"€ 819.00"},{"v":839,"d":"€ 839.00"},null,{"v":709,"d":"€ 709.00"},null,23.28,1,4.77,{"v":709,"d":"€ 709.00"},{"v":737.36,"d":"€ 737.36"},{"v":729,"d":"€ 729.00"},null,{"v":20,"d":"€ 20.00"},{"v":20,"d":"€ 20.00"},null,"Preis passt",null,null,{"v":759,"d":"€ 759.00"},20,{"v":779,"d":"€ 779.00"},759,"FALSCH"]
[432,{"v":1229,"d":"€ 1,229.00"},{"$f":"B150+40","v":{"v":1269,"d":"€ 1,269.00"}},{"$f":"C150+40","v":{"v":1309,"d":"€ 1,309.00"}},{"v":1349,"d":"€ 1,349.00"},{"v":1389,"d":"€ 1,389.00"},null,{"v":1179,"d":"€ 1,179.00"},null,48.85,"2 + AR",7.39,{"v":1179,"d":"€ 1,179.00"},{"v":1226.16,"d":"€ 1,226.16"},{"v":1219,"d":"€ 1,219.00"},null,{"v":40,"d":"€ 40.00"},{"v":40,"d":"€ 40.00"},null,"Preis passt",null,null,{"v":1229,"d":"€ 1,229.00"},0,{"v":1229,"d":"€ 1,229.00"},1229,"richtig"]
[433,{"v":759,"d":"€ 759.00"},{"$f":"B151+20","v":{"v":779,"d":"€ 779.00"}},{"$f":"C151+20","v":{"v":799,"d":"€ 799.00"}},{"$f":"D151+20","v":{"v":819,"d":"€ 819.00"}},{"$f":"E151+20","v":{"v":839,"d":"€ 839.00"}},null,{"v":709,"d":"€ 709.00"},null,23.29,1,4.77,{"v":709,"d":"€ 709.00"},{"v":737.36,"d":"€ 737.36"},{"v":729,"d":"€ 729.00"},null,{"v":20,"d":"€ 20.00"},{"v":20,"d":"€ 20.00"},null,"Preis passt",null,null,{"v":759,"d":"€ 759.00"},20,{"v":779,"d":"€ 779.00"},759,"FALSCH"]
[434,{"v":759,"d":"€ 759.00"},{"$f":"B152+20","v":{"v":779,"d":"€ 779.00"}},{"v":799,"d":"€ 799.00"},{"v":819,"d":"€ 819.00"},{"v":839,"d":"€ 839.00"},null,{"v":709,"d":"€ 709.00"},null,23.48,1,4.77,{"v":709,"d":"€ 709.00"},{"v":737.36,"d":"€ 737.36"},{"v":729,"d":"€ 729.00"},null,{"v":20,"d":"€ 20.00"},{"v":20,"d":"€ 20.00"},null,"Preis passt",null,null,{"v":759,"d":"€ 759.00"},20,{"v":779,"d":"€ 779.00"},759,"FALSCH"]
[435,{"v":759,"d":"€ 759.00"},{"$f":"B153+20","v":{"v":779,"d":"€ 779.00"}},{"v":799,"d":"€ 799.00"},{"v":819,"d":"€ 819.00"},{"v":839,"d":"€ 839.00"},null,{"v":709,"d":"€ 709.00"},null,23.29,1,4.77,{"v":709,"d":"€ 709.00"},{"v":737.36,"d":"€ 737.36"},{"v":729,"d":"€ 729.00"},null,{"v":20,"d":"€ 20.00"},{"v":20,"d":"€ 20.00"},null,"Preis passt",null,null,{"v":759,"d":"€ 759.00"},20,{"v":779,"d":"€ 779.00"},759,"FALSCH"]
[436,{"v":759,"d":"€ 759.00"},{"$f":"B154+20","v":{"v":779,"d":"€ 779.00"}},{"v":799,"d":"€ 799.00"},{"v":819,"d":"€ 819.00"},{"v":839,"d":"€ 839.00"},null,{"v":709,"d":"€ 709.00"},null,23.48,1,3.34,{"v":709,"d":"€ 709.00"},{"v":737.36,"d":"€ 737.36"},{"v":729,"d":"€ 729.00"},null,{"v":20,"d":"€ 20.00"},{"v":20,"d":"€ 20.00"},null,"Preis passt",null,null,{"v":759,"d":"€ 759.00"},20,{"v":779,"d":"€ 779.00"},759,"FALSCH"]
[437,{"v":1279,"d":"€ 1,279.00"},{"$f":"B155+40","v":{"v":1319,"d":"€ 1,319.00"}},{"$f":"C155+40","v":{"v":1359,"d":"€ 1,359.00"}},{"v":1399,"d":"€ 1,399.00"},{"v":1439,"d":"€ 1,439.00"},null,{"v":1229,"d":"€ 1,229.00"},null,48.39,3,{"v":9.8,"d":"9.80"},{"v":1229,"d":"€ 1,229.00"},{"v":1278.16,"d":"€ 1,278.16"},{"v":1269,"d":"€ 1,269.00"},null,{"v":40,"d":"€ 40.00"},{"v":40,"d":"€ 40.00"},null,"Preis passt",null,null,{"v":1279,"d":"€ 1,279.00"},0,{"v":1279,"d":"€ 1,279.00"},1279,"richtig"]
[{"$nulls":13},{"v":0,"d":"€ 0.00"},null,null,{"v":0,"d":"€ 0.00"},{"v":0,"d":"€ 0.00"},null,"Preis passt",null,null,{"v":0,"d":"€ 0.00"},null,{"v":0,"d":"€ 0.00"},null,"richtig"]
[501,{"v":989,"d":"€ 989.00"},{"$f":"B157+30","v":{"v":1019,"d":"€ 1,019.00"}},{"$f":"C157+30","v":{"v":1049,"d":"€ 1,049.00"}},{"v":1079,"d":"€ 1,079.00"},{"v":1109,"d":"€ 1,109.00"},null,{"v":949,"d":"€ 949.00"},null,33.63,2,{"v":0,"d":"0.00"},{"v":949,"d":"€ 949.00"},{"v":986.96,"d":"€ 986.96"},{"$f":"ROUNDDOWN(N157/10,0)*10-1","v":{"v":979,"d":"€ 979.00"}},null,{"v":30,"d":"€ 30.00"},{"v":30,"d":"€ 30.00"},null,"Preis passt",null,null,{"v":989,"d":"€ 989.00"},0,{"v":989,"d":"€ 989.00"},989,"richtig"]
[502,{"v":719,"d":"€ 719.00"},{"$f":"B158+20","v":{"v":739,"d":"€ 739.00"}},{"$f":"C158+20","v":{"v":759,"d":"€ 759.00"}},{"$f":"D158+20","v":{"v":779,"d":"€ 779.00"}},{"$f":"E158+20","v":{"v":799,"d":"€ 799.00"}},null,{"v":669,"d":"€ 669.00"},null,22.75,1,{"v":0,"d":"0.00"},{"v":669,"d":"€ 669.00"},{"v":695.76,"d":"€ 695.76"},{"$f":"ROUNDDOWN(N158/10,0)*10-1","v":{"v":689,"d":"€ 689.00"}},null,{"v":20,"d":"€ 20.00"},{"v":20,"d":"€ 20.00"},null,"Preis passt",null,null,{"v":719,"d":"€ 719.00"},20,{"v":739,"d":"€ 739.00"},719,"FALSCH"]
[503,{"v":719,"d":"€ 719.00"},{"$f":"B159+20","v":{"v":739,"d":"€ 739.00"}},{"v":759,"d":"€ 759.00"},{"v":779,"d":"€ 779.00"},{"v":799,"d":"€ 799.00"},null,{"v":669,"d":"€ 669.00"},null,23.82,1,{"v":0,"d":"0.00"},{"v":669,"d":"€ 669.00"},{"v":695.76,"d":"€ 695.76"},{"v":689,"d":"€ 689.00"},null,{"v":20,"d":"€ 20.00"},{"v":20,"d":"€ 20.00"},null,"Preis passt",null,null,{"v":719,"d":"€ 719.00"},20,{"v":739,"d":"€ 739.00"},719,"FALSCH"]
[504,{"v":719,"d":"€ 719.00"},{"$f":"B160+20","v":{"v":739,"d":"€ 739.00"}},{"v":759,"d":"€ 759.00"},{"v":779,"d":"€ 779.00"},{"v":799,"d":"€ 799.00"},null,{"v":669,"d":"€ 669.00"},null,23.71,1,{"v":0,"d":"0.00"},{"v":669,"d":"€ 669.00"},{"v":695.76,"d":"€ 695.76"},{"v":689,"d":"€ 689.00"},null,{"v":20,"d":"€ 20.00"},{"v":20,"d":"€ 20.00"},null,"Preis passt",null,null,{"v":719,"d":"€ 719.00"},20,{"v":739,"d":"€ 739.00"},719,"FALSCH"]
[505,{"v":719,"d":"€ 719.00"},{"$f":"B161+20","v":{"v":739,"d":"€ 739.00"}},{"v":759,"d":"€ 759.00"},{"v":779,"d":"€ 779.00"},{"v":799,"d":"€ 799.00"},null,{"v":669,"d":"€ 669.00"},null,{"v":23.9,"d":"23.90"},1,{"v":0,"d":"0.00"},{"v":669,"d":"€ 669.00"},{"v":695.76,"d":"€ 695.76"},{"v":689,"d":"€ 689.00"},null,{"v":20,"d":"€ 20.00"},{"v":20,"d":"€ 20.00"},null,"Preis passt",null,null,{"v":719,"d":"€ 719.00"},20,{"v":739,"d":"€ 739.00"},719,"FALSCH"]
[506,{"v":719,"d":"€ 719.00"},{"$f":"B162+20","v":{"v":739,"d":"€ 739.00"}},{"v":759,"d":"€ 759.00"},{"v":779,"d":"€ 779.00"},{"v":799,"d":"€ 799.00"},null,{"v":669,"d":"€ 669.00"},null,23.72,1,{"v":0,"d":"0.00"},{"v":669,"d":"€ 669.00"},{"v":695.76,"d":"€ 695.76"},{"v":689,"d":"€ 689.00"},null,{"v":20,"d":"€ 20.00"},{"v":20,"d":"€ 20.00"},null,"Preis passt",null,null,{"v":719,"d":"€ 719.00"},20,{"v":739,"d":"€ 739.00"},719,"FALSCH"]
[507,{"v":719,"d":"€ 719.00"},{"$f":"B163+20","v":{"v":739,"d":"€ 739.00"}},{"v":759,"d":"€ 759.00"},{"v":779,"d":"€ 779.00"},{"v":799,"d":"€ 799.00"},null,{"v":669,"d":"€ 669.00"},null,23.91,1,{"v":0,"d":"0.00"},{"v":669,"d":"€ 669.00"},{"v":695.76,"d":"€ 695.76"},{"v":689,"d":"€ 689.00"},null,{"v":20,"d":"€ 20.00"},{"v":20,"d":"€ 20.00"},null,"Preis passt",null,null,{"v":719,"d":"€ 719.00"},20,{"v":739,"d":"€ 739.00"},719,"FALSCH"]
[508,{"v":719,"d":"€ 719.00"},{"$f":"B164+20","v":{"v":739,"d":"€ 739.00"}},{"v":759,"d":"€ 759.00"},{"v":779,"d":"€ 779.00"},{"v":799,"d":"€ 799.00"},null,{"v":669,"d":"€ 669.00"},null,23.71,1,{"v":0,"d":"0.00"},{"v":669,"d":"€ 669.00"},{"v":695.76,"d":"€ 695.76"},{"v":689,"d":"€ 689.00"},null,{"v":20,"d":"€ 20.00"},{"v":20,"d":"€ 20.00"},null,"Preis passt",null,null,{"v":719,"d":"€ 719.00"},20,{"v":739,"d":"€ 739.00"},719,"FALSCH"]
[509,{"v":719,"d":"€ 719.00"},{"$f":"B165+20","v":{"v":739,"d":"€ 739.00"}},{"v":759,"d":"€ 759.00"},{"v":779,"d":"€ 779.00"},{"v":799,"d":"€ 799.00"},null,{"v":669,"d":"€ 669.00"},null,{"v":23.9,"d":"23.90"},1,{"v":0,"d":"0.00"},{"v":669,"d":"€ 669.00"},{"v":695.76,"d":"€ 695.76"},{"v":689,"d":"€ 689.00"},null,{"v":20,"d":"€ 20.00"},{"v":20,"d":"€ 20.00"},null,"Preis passt",null,null,{"v":719,"d":"€ 719.00"},20,{"v":739,"d":"€ 739.00"},719,"FALSCH"]
[510,{"v":719,"d":"€ 719.00"},{"$f":"B166+20","v":{"v":739,"d":"€ 739.00"}},{"v":759,"d":"€ 759.00"},{"v":779,"d":"€ 779.00"},{"v":799,"d":"€ 799.00"},null,{"v":669,"d":"€ 669.00"},null,23.71,1,{"v":0,"d":"0.00"},{"v":669,"d":"€ 669.00"},{"v":695.76,"d":"€ 695.76"},{"v":689,"d":"€ 689.00"},null,{"v":20,"d":"€ 20.00"},{"v":20,"d":"€ 20.00"},null,"Preis passt",null,null,{"v":719,"d":"€ 719.00"},20,{"v":739,"d":"€ 739.00"},719,"FALSCH"]
[511,{"v":719,"d":"€ 719.00"},{"$f":"B167+20","v":{"v":739,"d":"€ 739.00"}},{"v":759,"d":"€ 759.00"},{"v":779,"d":"€ 779.00"},{"v":799,"d":"€ 799.00"},null,{"v":669,"d":"€ 669.00"},null,{"v":23.9,"d":"23.90"},1,{"v":0,"d":"0.00"},{"v":669,"d":"€ 669.00"},{"v":695.76,"d":"€ 695.76"},{"v":689,"d":"€ 689.00"},null,{"v":20,"d":"€ 20.00"},{"v":20,"d":"€ 20.00"},null,"Preis passt",null,null,{"v":719,"d":"€ 719.00"},20,{"v":739,"d":"€ 739.00"},719,"FALSCH"]
[512,{"v":719,"d":"€ 719.00"},{"$f":"B168+20","v":{"v":739,"d":"€ 739.00"}},{"v":759,"d":"€ 759.00"},{"v":779,"d":"€ 779.00"},{"v":799,"d":"€ 799.00"},null,{"v":669,"d":"€ 669.00"},null,23.72,1,{"v":0,"d":"0.00"},{"v":669,"d":"€ 669.00"},{"v":695.76,"d":"€ 695.76"},{"v":689,"d":"€ 689.00"},null,{"v":20,"d":"€ 20.00"},{"v":20,"d":"€ 20.00"},null,"Preis passt",null,null,{"v":719,"d":"€ 719.00"},20,{"v":739,"d":"€ 739.00"},719,"FALSCH"]
[513,{"v":719,"d":"€ 719.00"},{"$f":"B169+20","v":{"v":739,"d":"€ 739.00"}},{"v":759,"d":"€ 759.00"},{"v":779,"d":"€ 779.00"},{"v":799,"d":"€ 799.00"},null,{"v":669,"d":"€ 669.00"},null,23.91,1,{"v":0,"d":"0.00"},{"v":669,"d":"€ 669.00"},{"v":695.76,"d":"€ 695.76"},{"v":689,"d":"€ 689.00"},null,{"v":20,"d":"€ 20.00"},{"v":20,"d":"€ 20.00"},null,"Preis passt",null,null,{"v":719,"d":"€ 719.00"},20,{"v":739,"d":"€ 739.00"},719,"FALSCH"]
[514,{"v":719,"d":"€ 719.00"},{"$f":"B170+20","v":{"v":739,"d":"€ 739.00"}},{"v":759,"d":"€ 759.00"},{"v":779,"d":"€ 779.00"},{"v":799,"d":"€ 799.00"},null,{"v":669,"d":"€ 669.00"},null,23.72,1,{"v":0,"d":"0.00"},{"v":669,"d":"€ 669.00"},{"v":695.76,"d":"€ 695.76"},{"v":689,"d":"€ 689.00"},null,{"v":20,"d":"€ 20.00"},{"v":20,"d":"€ 20.00"},null,"Preis passt",null,null,{"v":719,"d":"€ 719.00"},20,{"v":739,"d":"€ 739.00"},719,"FALSCH"]
[515,{"v":719,"d":"€ 719.00"},{"$f":"B171+20","v":{"v":739,"d":"€ 739.00"}},{"v":759,"d":"€ 759.00"},{"v":779,"d":"€ 779.00"},{"v":799,"d":"€ 799.00"},null,{"v":669,"d":"€ 669.00"},null,23.91,1,{"v":0,"d":"0.00"},{"v":669,"d":"€ 669.00"},{"v":695.76,"d":"€ 695.76"},{"v":689,"d":"€ 689.00"},null,{"v":20,"d":"€ 20.00"},{"v":20,"d":"€ 20.00"},null,"Preis passt",null,null,{"v":719,"d":"€ 719.00"},20,{"v":739,"d":"€ 739.00"},719,"FALSCH"]
[516,{"v":719,"d":"€ 719.00"},{"$f":"B172+20","v":{"v":739,"d":"€ 739.00"}},{"v":759,"d":"€ 759.00"},{"v":779,"d":"€ 779.00"},{"v":799,"d":"€ 799.00"},null,{"v":669,"d":"€ 669.00"},null,23.25,1,{"v":0,"d":"0.00"},{"v":669,"d":"€ 669.00"},{"v":695.76,"d":"€ 695.76"},{"v":689,"d":"€ 689.00"},null,{"v":20,"d":"€ 20.00"},{"v":20,"d":"€ 20.00"},null,"Preis passt",null,null,{"v":719,"d":"€ 719.00"},20,{"v":739,"d":"€ 739.00"},719,"FALSCH"]
[517,{"v":719,"d":"€ 719.00"},{"$f":"B173+20","v":{"v":739,"d":"€ 739.00"}},{"v":759,"d":"€ 759.00"},{"v":779,"d":"€ 779.00"},{"v":799,"d":"€ 799.00"},null,{"v":669,"d":"€ 669.00"},null,22.53,1,{"v":0,"d":"0.00"},{"v":669,"d":"€ 669.00"},{"v":695.76,"d":"€ 695.76"},{"v":689,"d":"€ 689.00"},null,{"v":20,"d":"€ 20.00"},{"v":20,"d":"€ 20.00"},null,"Preis passt",null,null,{"v":719,"d":"€ 719.00"},20,{"v":739,"d":"€ 739.00"},719,"FALSCH"]
[518,{"v":1239,"d":"€ 1,239.00"},{"$f":"B174+40","v":{"v":1279,"d":"€ 1,279.00"}},{"$f":"C174+40","v":{"v":1319,"d":"€ 1,319.00"}},{"v":1359,"d":"€ 1,359.00"},{"v":1399,"d":"€ 1,399.00"},null,{"v":1099,"d":"€ 1,099.00"},null,{"v":51.4,"d":"51.40"},2,{"v":0,"d":"0.00"},{"v":1099,"d":"€ 1,099.00"},{"v":1142.96,"d":"€ 1,142.96"},{"v":1139,"d":"€ 1,139.00"},null,{"v":40,"d":"€ 40.00"},{"v":40,"d":"€ 40.00"},null,"Preis passt",null,null,{"v":1239,"d":"€ 1,239.00"},100,{"v":1339,"d":"€ 1,339.00"},1239,"FALSCH"]
[519,{"v":969,"d":"€ 969.00"},{"$f":"B175+30","v":{"v":999,"d":"€ 999.00"}},{"$f":"C175+30","v":{"v":1029,"d":"€ 1,029.00"}},{"v":1059,"d":"€ 1,059.00"},{"v":1089,"d":"€ 1,089.00"},null,{"v":929,"d":"€ 929.00"},null,40.33,1,{"v":0,"d":"0.00"},{"v":929,"d":"€ 929.00"},{"v":966.1600000000001,"d":"€ 966.16"},{"v":959,"d":"€ 959.00"},null,{"v":30,"d":"€ 30.00"},{"v":30,"d":"€ 30.00"},null,"Preis passt",null,null,{"v":969,"d":"€ 969.00"},0,{"v":969,"d":"€ 969.00"},969,"richtig"]
[520,{"v":1379,"d":"€ 1,379.00"},{"$f":"B176+50","v":{"v":1429,"d":"€ 1,429.00"}},{"$f":"C176+50","v":{"v":1479,"d":"€ 1,479.00"}},{"v":1529,"d":"€ 1,529.00"},{"v":1579,"d":"€ 1,579.00"},null,{"v":1329,"d":"€ 1,329.00"},null,62.86,3,12.44,{"v":1329,"d":"€ 1,329.00"},{"v":1382.16,"d":"€ 1,382.16"},{"v":1379,"d":"€ 1,379.00"},null,{"v":50,"d":"€ 50.00"},{"v":50,"d":"€ 50.00"},null,"Preis passt",null,null,{"v":1379,"d":"€ 1,379.00"},0,{"v":1379,"d":"€ 1,379.00"},1379,"richtig"]
[521,{"v":1259,"d":"€ 1,259.00"},{"$f":"B177+40","v":{"v":1299,"d":"€ 1,299.00"}},{"$f":"C177+40","v":{"v":1339,"d":"€ 1,339.00"}},{"v":1379,"d":"€ 1,379.00"},{"v":1419,"d":"€ 1,419.00"},null,{"v":1209,"d":"€ 1,209.00"},null,{"v":48.3,"d":"48.30"},"2 + AR",9.59,{"v":1209,"d":"€ 1,209.00"},{"v":1257.3600000000001,"d":"€ 1,257.36"},{"v":1249,"d":"€ 1,249.00"},null,{"v":40,"d":"€ 40.00"},{"v":40,"d":"€ 40.00"},null,"Preis passt",null,null,{"v":1259,"d":"€ 1,259.00"},0,{"v":1259,"d":"€ 1,259.00"},1259,"richtig"]
[522,{"v":1259,"d":"€ 1,259.00"},{"$f":"B178+40","v":{"v":1299,"d":"€ 1,299.00"}},{"$f":"C178+40","v":{"v":1339,"d":"€ 1,339.00"}},{"v":1379,"d":"€ 1,379.00"},{"v":1419,"d":"€ 1,419.00"},null,{"v":1209,"d":"€ 1,209.00"},null,47.66,"2 + AR",9.59,{"v":1209,"d":"€ 1,209.00"},{"v":1257.3600000000001,"d":"€ 1,257.36"},{"v":1249,"d":"€ 1,249.00"},null,{"v":40,"d":"€ 40.00"},{"v":40,"d":"€ 40.00"},null,"Preis passt",null,null,{"v":1259,"d":"€ 1,259.00"},0,{"v":1259,"d":"€ 1,259.00"},1259,"richtig"]
[523,{"v":1259,"d":"€ 1,259.00"},{"$f":"B179+40","v":{"v":1299,"d":"€ 1,299.00"}},{"$f":"C179+40","v":{"v":1339,"d":"€ 1,339.00"}},{"v":1379,"d":"€ 1,379.00"},{"v":1419,"d":"€ 1,419.00"},null,{"v":1209,"d":"€ 1,209.00"},null,48.16,"2 + AR",9.59,{"v":1209,"d":"€ 1,209.00"},{"v":1257.3600000000001,"d":"€ 1,257.36"},{"v":1249,"d":"€ 1,249.00"},null,{"v":40,"d":"€ 40.00"},{"v":40,"d":"€ 40.00"},null,"Preis passt",null,null,{"v":1259,"d":"€ 1,259.00"},0,{"v":1259,"d":"€ 1,259.00"},1259,"richtig"]
[524,{"v":1259,"d":"€ 1,259.00"},{"$f":"B180+40","v":{"v":1299,"d":"€ 1,299.00"}},{"$f":"C180+40","v":{"v":1339,"d":"€ 1,339.00"}},{"v":1379,"d":"€ 1,379.00"},{"v":1419,"d":"€ 1,419.00"},null,{"v":1209,"d":"€ 1,209.00"},null,48.18,"2 + AR",9.59,{"v":1209,"d":"€ 1,209.00"},{"v":1257.3600000000001,"d":"€ 1,257.36"},{"v":1249,"d":"€ 1,249.00"},null,{"v":40,"d":"€ 40.00"},{"v":40,"d":"€ 40.00"},null,"Preis passt",null,null,{"v":1259,"d":"€ 1,259.00"},0,{"v":1259,"d":"€ 1,259.00"},1259,"richtig"]
[525,{"v":1259,"d":"€ 1,259.00"},{"$f":"B181+40","v":{"v":1299,"d":"€ 1,299.00"}},{"$f":"C181+40","v":{"v":1339,"d":"€ 1,339.00"}},{"v":1379,"d":"€ 1,379.00"},{"v":1419,"d":"€ 1,419.00"},null,{"v":1209,"d":"€ 1,209.00"},null,48.18,"2 + AR",9.59,{"v":1209,"d":"€ 1,209.00"},{"v":1257.3600000000001,"d":"€ 1,257.36"},{"v":1249,"d":"€ 1,249.00"},null,{"v":40,"d":"€ 40.00"},{"v":40,"d":"€ 40.00"},null,"Preis passt",null,null,{"v":1259,"d":"€ 1,259.00"},0,{"v":1259,"d":"€ 1,259.00"},1259,"richtig"]
[526,{"v":1479,"d":"€ 1,479.00"},{"$f":"B182+50","v":{"v":1529,"d":"€ 1,529.00"}},{"$f":"C182+50","v":{"v":1579,"d":"€ 1,579.00"}},{"v":1629,"d":"€ 1,629.00"},{"v":1679,"d":"€ 1,679.00"},null,{"v":1429,"d":"€ 1,429.00"},null,74.22,"3 + 2x AR",{"v":12.2,"d":"12.20"},{"v":1429,"d":"€ 1,429.00"},{"v":1486.16,"d":"€ 1,486.16"},{"v":1479,"d":"€ 1,479.00"},null,{"v":50,"d":"€ 50.00"},{"v":50,"d":"€ 50.00"},null,"Preis passt",null,null,{"v":1479,"d":"€ 1,479.00"},0,{"v":1479,"d":"€ 1,479.00"},1479,"richtig"]
[527,{"v":1309,"d":"€ 1,309.00"},{"$f":"B183+40","v":{"v":1349,"d":"€ 1,349.00"}},{"$f":"C183+40","v":{"v":1389,"d":"€ 1,389.00"}},{"v":1429,"d":"€ 1,429.00"},{"v":1469,"d":"€ 1,469.00"},null,{"v":1259,"d":"€ 1,259.00"},null,48.18,"2 + AR",9.58,{"v":1259,"d":"€ 1,259.00"},{"v":1309.3600000000001,"d":"€ 1,309.36"},{"v":1299,"d":"€ 1,299.00"},null,{"v":40,"d":"€ 40.00"},{"v":40,"d":"€ 40.00"},null,"Preis passt",null,null,{"v":1309,"d":"€ 1,309.00"},0,{"v":1309,"d":"€ 1,309.00"},1309,"richtig"]
[528,{"v":1539,"d":"€ 1,539.00"},{"$f":"B184+50","v":{"v":1589,"d":"€ 1,589.00"}},{"$f":"C184+50","v":{"v":1639,"d":"€ 1,639.00"}},{"v":1689,"d":"€ 1,689.00"},{"v":1739,"d":"€ 1,739.00"},null,{"v":1479,"d":"€ 1,479.00"},null,73.23,"4 + AR",13.14,{"v":1479,"d":"€ 1,479.00"},{"v":1538.16,"d":"€ 1,538.16"},{"v":1529,"d":"€ 1,529.00"},null,{"v":50,"d":"€ 50.00"},{"v":50,"d":"€ 50.00"},null,"Preis passt",null,null,{"v":1539,"d":"€ 1,539.00"},0,{"v":1539,"d":"€ 1,539.00"},1539,"richtig"]
[{"$nulls":13},{"v":0,"d":"€ 0.00"},null,null,{"v":0,"d":"€ 0.00"},{"v":0,"d":"€ 0.00"},null,"Preis passt",null,null,{"v":0,"d":"€ 0.00"},null,{"v":0,"d":"€ 0.00"},null,"richtig"]
[601,{"v":989,"d":"€ 989.00"},{"$f":"B186+30","v":{"v":1019,"d":"€ 1,019.00"}},{"$f":"C186+30","v":{"v":1049,"d":"€ 1,049.00"}},{"v":1079,"d":"€ 1,079.00"},{"v":1109,"d":"€ 1,109.00"},null,{"v":949,"d":"€ 949.00"},null,33.63,2,{"v":0,"d":"0.00"},{"v":949,"d":"€ 949.00"},{"v":986.96,"d":"€ 986.96"},{"$f":"ROUNDDOWN(N186/10,0)*10-1","v":{"v":979,"d":"€ 979.00"}},null,{"v":30,"d":"€ 30.00"},{"v":30,"d":"€ 30.00"},null,"Preis passt",null,null,{"v":989,"d":"€ 989.00"},0,{"v":989,"d":"€ 989.00"},989,"richtig"]
[602,{"v":719,"d":"€ 719.00"},{"$f":"B187+20","v":{"v":739,"d":"€ 739.00"}},{"$f":"C187+20","v":{"v":759,"d":"€ 759.00"}},{"$f":"D187+20","v":{"v":779,"d":"€ 779.00"}},{"$f":"E187+20","v":{"v":799,"d":"€ 799.00"}},null,{"v":669,"d":"€ 669.00"},null,22.75,1,{"v":0,"d":"0.00"},{"v":669,"d":"€ 669.00"},{"v":695.76,"d":"€ 695.76"},{"$f":"ROUNDDOWN(N187/10,0)*10-1","v":{"v":689,"d":"€ 689.00"}},null,{"v":20,"d":"€ 20.00"},{"v":20,"d":"€ 20.00"},null,"Preis passt",null,null,{"v":719,"d":"€ 719.00"},20,{"v":739,"d":"€ 739.00"},719,"FALSCH"]
[603,{"v":719,"d":"€ 719.00"},{"$f":"B188+20","v":{"v":739,"d":"€ 739.00"}},{"v":759,"d":"€ 759.00"},{"v":779,"d":"€ 779.00"},{"v":799,"d":"€ 799.00"},null,{"v":669,"d":"€ 669.00"},null,23.83,1,{"v":0,"d":"0.00"},{"v":669,"d":"€ 669.00"},{"v":695.76,"d":"€ 695.76"},{"v":689,"d":"€ 689.00"},null,{"v":20,"d":"€ 20.00"},{"v":20,"d":"€ 20.00"},null,"Preis passt",null,null,{"v":719,"d":"€ 719.00"},20,{"v":739,"d":"€ 739.00"},719,"FALSCH"]
[604,{"v":719,"d":"€ 719.00"},{"$f":"B189+20","v":{"v":739,"d":"€ 739.00"}},{"v":759,"d":"€ 759.00"},{"v":779,"d":"€ 779.00"},{"v":799,"d":"€ 799.00"},null,{"v":669,"d":"€ 669.00"},null,23.72,1,{"v":0,"d":"0.00"},{"v":669,"d":"€ 669.00"},{"v":695.76,"d":"€ 695.76"},{"v":689,"d":"€ 689.00"},null,{"v":20,"d":"€ 20.00"},{"v":20,"d":"€ 20.00"},null,"Preis passt",null,null,{"v":719,"d":"€ 719.00"},20,{"v":739,"d":"€ 739.00"},719,"FALSCH"]
[605,{"v":719,"d":"€ 719.00"},{"$f":"B190+20","v":{"v":739,"d":"€ 739.00"}},{"v":759,"d":"€ 759.00"},{"v":779,"d":"€ 779.00"},{"v":799,"d":"€ 799.00"},null,{"v":669,"d":"€ 669.00"},null,23.91,1,{"v":0,"d":"0.00"},{"v":669,"d":"€ 669.00"},{"v":695.76,"d":"€ 695.76"},{"v":689,"d":"€ 689.00"},null,{"v":20,"d":"€ 20.00"},{"v":20,"d":"€ 20.00"},null,"Preis passt",null,null,{"v":719,"d":"€ 719.00"},20,{"v":739,"d":"€ 739.00"},719,"FALSCH"]
[606,{"v":719,"d":"€ 719.00"},{"$f":"B191+20","v":{"v":739,"d":"€ 739.00"}},{"v":759,"d":"€ 759.00"},{"v":779,"d":"€ 779.00"},{"v":799,"d":"€ 799.00"},null,{"v":669,"d":"€ 669.00"},null,23.72,1,{"v":0,"d":"0.00"},{"v":669,"d":"€ 669.00"},{"v":695.76,"d":"€ 695.76"},{"v":689,"d":"€ 689.00"},null,{"v":20,"d":"€ 20.00"},{"v":20,"d":"€ 20.00"},null,"Preis passt",null,null,{"v":719,"d":"€ 719.00"},20,{"v":739,"d":"€ 739.00"},719,"FALSCH"]
[607,{"v":719,"d":"€ 719.00"},{"$f":"B192+20","v":{"v":739,"d":"€ 739.00"}},{"v":759,"d":"€ 759.00"},{"v":779,"d":"€ 779.00"},{"v":799,"d":"€ 799.00"},null,{"v":669,"d":"€ 669.00"},null,23.91,1,{"v":0,"d":"0.00"},{"v":669,"d":"€ 669.00"},{"v":695.76,"d":"€ 695.76"},{"v":689,"d":"€ 689.00"},null,{"v":20,"d":"€ 20.00"},{"v":20,"d":"€ 20.00"},null,"Preis passt",null,null,{"v":719,"d":"€ 719.00"},20,{"v":739,"d":"€ 739.00"},719,"FALSCH"]
[608,{"v":719,"d":"€ 719.00"},{"$f":"B193+20","v":{"v":739,"d":"€ 739.00"}},{"v":759,"d":"€ 759.00"},{"v":779,"d":"€ 779.00"},{"v":799,"d":"€ 799.00"},null,{"v":669,"d":"€ 669.00"},null,23.72,1,{"v":0,"d":"0.00"},{"v":669,"d":"€ 669.00"},{"v":695.76,"d":"€ 695.76"},{"v":689,"d":"€ 689.00"},null,{"v":20,"d":"€ 20.00"},{"v":20,"d":"€ 20.00"},null,"Preis passt",null,null,{"v":719,"d":"€ 719.00"},20,{"v":739,"d":"€ 739.00"},719,"FALSCH"]
[609,{"v":719,"d":"€ 719.00"},{"$f":"B194+20","v":{"v":739,"d":"€ 739.00"}},{"v":759,"d":"€ 759.00"},{"v":779,"d":"€ 779.00"},{"v":799,"d":"€ 799.00"},null,{"v":669,"d":"€ 669.00"},null,23.91,1,{"v":0,"d":"0.00"},{"v":669,"d":"€ 669.00"},{"v":695.76,"d":"€ 695.76"},{"v":689,"d":"€ 689.00"},null,{"v":20,"d":"€ 20.00"},{"v":20,"d":"€ 20.00"},null,"Preis passt",null,null,{"v":719,"d":"€ 719.00"},20,{"v":739,"d":"€ 739.00"},719,"FALSCH"]
[610,{"v":719,"d":"€ 719.00"},{"$f":"B195+20","v":{"v":739,"d":"€ 739.00"}},{"v":759,"d":"€ 759.00"},{"v":779,"d":"€ 779.00"},{"v":799,"d":"€ 799.00"},null,{"v":669,"d":"€ 669.00"},null,23.72,1,{"v":0,"d":"0.00"},{"v":669,"d":"€ 669.00"},{"v":695.76,"d":"€ 695.76"},{"v":689,"d":"€ 689.00"},null,{"v":20,"d":"€ 20.00"},{"v":20,"d":"€ 20.00"},null,"Preis passt",null,null,{"v":719,"d":"€ 719.00"},20,{"v":739,"d":"€ 739.00"},719,"FALSCH"]
[611,{"v":719,"d":"€ 719.00"},{"$f":"B196+20","v":{"v":739,"d":"€ 739.00"}},{"v":759,"d":"€ 759.00"},{"v":779,"d":"€ 779.00"},{"v":799,"d":"€ 799.00"},null,{"v":669,"d":"€ 669.00"},null,23.91,1,{"v":0,"d":"0.00"},{"v":669,"d":"€ 669.00"},{"v":695.76,"d":"€ 695.76"},{"v":689,"d":"€ 689.00"},null,{"v":20,"d":"€ 20.00"},{"v":20,"d":"€ 20.00"},null,"Preis passt",null,null,{"v":719,"d":"€ 719.00"},20,{"v":739,"d":"€ 739.00"},719,"FALSCH"]
[612,{"v":719,"d":"€ 719.00"},{"$f":"B197+20","v":{"v":739,"d":"€ 739.00"}},{"v":759,"d":"€ 759.00"},{"v":779,"d":"€ 779.00"},{"v":799,"d":"€ 799.00"},null,{"v":669,"d":"€ 669.00"},null,23.72,1,{"v":0,"d":"0.00"},{"v":669,"d":"€ 669.00"},{"v":695.76,"d":"€ 695.76"},{"v":689,"d":"€ 689.00"},null,{"v":20,"d":"€ 20.00"},{"v":20,"d":"€ 20.00"},null,"Preis passt",null,null,{"v":719,"d":"€ 719.00"},20,{"v":739,"d":"€ 739.00"},719,"FALSCH"]
[613,{"v":719,"d":"€ 719.00"},{"$f":"B198+20","v":{"v":739,"d":"€ 739.00"}},{"v":759,"d":"€ 759.00"},{"v":779,"d":"€ 779.00"},{"v":799,"d":"€ 799.00"},null,{"v":669,"d":"€ 669.00"},null,23.91,1,{"v":0,"d":"0.00"},{"v":669,"d":"€ 669.00"},{"$f":"M198*1.04","v":{"v":695.76,"d":"€ 695.76"}},{"v":689,"d":"€ 689.00"},null,{"$f":"O198-M198","v":{"v":20,"d":"€ 20.00"}},{"$f":"C198-B198","v":{"v":20,"d":"€ 20.00"}},null,{"$f":"IF(Q198=R198, \"Preis passt\", \"Korrektur\")","v":"Preis passt"},null,null,{"$f":"B198","v":{"v":719,"d":"€ 719.00"}},20,{"$f":"W198+X198","v":{"v":739,"d":"€ 739.00"}},719,{"$f":"IF(Y198=Z198,\"richtig\",\"FALSCH\")","v":"FALSCH"}]
[614,{"v":719,"d":"€ 719.00"},{"$f":"B199+20","v":{"v":739,"d":"€ 739.00"}},{"v":759,"d":"€ 759.00"},{"v":779,"d":"€ 779.00"},{"v":799,"d":"€ 799.00"},null,{"v":669,"d":"€ 669.00"},null,23.72,1,{"v":0,"d":"0.00"},{"v":669,"d":"€ 669.00"},{"v":695.76,"d":"€ 695.76"},{"v":689,"d":"€ 689.00"},null,{"v":20,"d":"€ 20.00"},{"v":20,"d":"€ 20.00"},null,"Preis passt",null,null,{"v":719,"d":"€ 719.00"},20,{"v":739,"d":"€ 739.00"},719,"FALSCH"]
[615,{"v":719,"d":"€ 719.00"},{"$f":"B200+20","v":{"v":739,"d":"€ 739.00"}},{"v":759,"d":"€ 759.00"},{"v":779,"d":"€ 779.00"},{"v":799,"d":"€ 799.00"},null,{"v":669,"d":"€ 669.00"},null,23.91,1,{"v":0,"d":"0.00"},{"v":669,"d":"€ 669.00"},{"v":695.76,"d":"€ 695.76"},{"v":689,"d":"€ 689.00"},null,{"v":20,"d":"€ 20.00"},{"v":20,"d":"€ 20.00"},null,"Preis passt",null,null,{"v":719,"d":"€ 719.00"},20,{"v":739,"d":"€ 739.00"},719,"FALSCH"]
[616,{"v":719,"d":"€ 719.00"},{"$f":"B201+20","v":{"v":739,"d":"€ 739.00"}},{"v":759,"d":"€ 759.00"},{"v":779,"d":"€ 779.00"},{"v":799,"d":"€ 799.00"},null,{"v":669,"d":"€ 669.00"},null,23.25,1,{"v":0,"d":"0.00"},{"v":669,"d":"€ 669.00"},{"v":695.76,"d":"€ 695.76"},{"v":689,"d":"€ 689.00"},null,{"v":20,"d":"€ 20.00"},{"v":20,"d":"€ 20.00"},null,"Preis passt",null,null,{"v":719,"d":"€ 719.00"},20,{"v":739,"d":"€ 739.00"},719,"FALSCH"]
[617,{"v":719,"d":"€ 719.00"},{"$f":"B202+20","v":{"v":739,"d":"€ 739.00"}},{"v":759,"d":"€ 759.00"},{"v":779,"d":"€ 779.00"},{"v":799,"d":"€ 799.00"},null,{"v":669,"d":"€ 669.00"},null,22.53,1,{"v":0,"d":"0.00"},{"v":669,"d":"€ 669.00"},{"v":695.76,"d":"€ 695.76"},{"v":689,"d":"€ 689.00"},null,{"v":20,"d":"€ 20.00"},{"v":20,"d":"€ 20.00"},null,"Preis passt",null,null,{"v":719,"d":"€ 719.00"},20,{"v":739,"d":"€ 739.00"},719,"FALSCH"]
[618,{"v":1249,"d":"€ 1,249.00"},{"$f":"B203+40","v":{"v":1289,"d":"€ 1,289.00"}},{"$f":"C203+40","v":{"v":1329,"d":"€ 1,329.00"}},{"v":1369,"d":"€ 1,369.00"},{"v":1409,"d":"€ 1,409.00"},null,{"v":1109,"d":"€ 1,109.00"},null,{"v":51.4,"d":"51.40"},2,{"v":0,"d":"0.00"},{"v":1109,"d":"€ 1,109.00"},{"v":1153.3600000000001,"d":"€ 1,153.36"},{"v":1149,"d":"€ 1,149.00"},null,{"v":40,"d":"€ 40.00"},{"v":40,"d":"€ 40.00"},null,"Preis passt",null,null,{"v":1249,"d":"€ 1,249.00"},100,{"v":1349,"d":"€ 1,349.00"},1249,"FALSCH"]
[619,{"v":969,"d":"€ 969.00"},{"$f":"B204+30","v":{"v":999,"d":"€ 999.00"}},{"$f":"C204+30","v":{"v":1029,"d":"€ 1,029.00"}},{"v":1059,"d":"€ 1,059.00"},{"v":1089,"d":"€ 1,089.00"},null,{"v":929,"d":"€ 929.00"},null,40.33,1,{"v":0,"d":"0.00"},{"v":929,"d":"€ 929.00"},{"v":966.1600000000001,"d":"€ 966.16"},{"v":959,"d":"€ 959.00"},null,{"v":30,"d":"€ 30.00"},{"v":30,"d":"€ 30.00"},null,"Preis passt",null,null,{"v":969,"d":"€ 969.00"},0,{"v":969,"d":"€ 969.00"},969,"richtig"]
[620,{"v":1029,"d":"€ 1,029.00"},{"$f":"B205+30","v":{"v":1059,"d":"€ 1,059.00"}},{"$f":"C205+30","v":{"v":1089,"d":"€ 1,089.00"}},{"v":1119,"d":"€ 1,119.00"},{"v":1149,"d":"€ 1,149.00"},null,{"v":989,"d":"€ 989.00"},null,42.05,2,12.43,{"v":989,"d":"€ 989.00"},{"v":1028.56,"d":"€ 1,028.56"},{"v":1019,"d":"€ 1,019.00"},null,{"v":30,"d":"€ 30.00"},{"v":30,"d":"€ 30.00"},null,"Preis passt",null,null,{"v":1029,"d":"€ 1,029.00"},0,{"v":1029,"d":"€ 1,029.00"},1029,"richtig"]
[621,{"v":819,"d":"€ 819.00"},{"$f":"B206+30","v":{"v":849,"d":"€ 849.00"}},{"$f":"C206+30","v":{"v":879,"d":"€ 879.00"}},{"v":909,"d":"€ 909.00"},{"v":939,"d":"€ 939.00"},null,{"v":789,"d":"€ 789.00"},null,27.74,1,16.52,{"v":789,"d":"€ 789.00"},{"v":820.5600000000001,"d":"€ 820.56"},{"v":819,"d":"€ 819.00"},null,{"v":30,"d":"€ 30.00"},{"v":30,"d":"€ 30.00"},null,"Preis passt",null,null,{"v":819,"d":"€ 819.00"},0,{"v":819,"d":"€ 819.00"},819,"richtig"]
[622,{"v":819,"d":"€ 819.00"},{"$f":"B207+30","v":{"v":849,"d":"€ 849.00"}},{"$f":"C207+30","v":{"v":879,"d":"€ 879.00"}},{"v":909,"d":"€ 909.00"},{"v":939,"d":"€ 939.00"},null,{"v":789,"d":"€ 789.00"},null,27.44,1,16.27,{"v":789,"d":"€ 789.00"},{"v":820.5600000000001,"d":"€ 820.56"},{"v":819,"d":"€ 819.00"},null,{"v":30,"d":"€ 30.00"},{"v":30,"d":"€ 30.00"},null,"Preis passt",null,null,{"v":819,"d":"€ 819.00"},0,{"v":819,"d":"€ 819.00"},819,"richtig"]
[623,{"v":819,"d":"€ 819.00"},{"$f":"B208+30","v":{"v":849,"d":"€ 849.00"}},{"$f":"C208+30","v":{"v":879,"d":"€ 879.00"}},{"v":909,"d":"€ 909.00"},{"v":939,"d":"€ 939.00"},null,{"v":789,"d":"€ 789.00"},null,27.26,1,15.62,{"v":789,"d":"€ 789.00"},{"v":820.5600000000001,"d":"€ 820.56"},{"v":819,"d":"€ 819.00"},null,{"v":30,"d":"€ 30.00"},{"v":30,"d":"€ 30.00"},null,"Preis passt",null,null,{"v":819,"d":"€ 819.00"},0,{"v":819,"d":"€ 819.00"},819,"richtig"]
[624,{"v":1069,"d":"€ 1,069.00"},{"$f":"B209+40","v":{"v":1109,"d":"€ 1,109.00"}},{"$f":"C209+40","v":{"v":1149,"d":"€ 1,149.00"}},{"v":1189,"d":"€ 1,189.00"},{"v":1229,"d":"€ 1,229.00"},null,{"v":1029,"d":"€ 1,029.00"},null,36.94,2,6.83,{"v":1029,"d":"€ 1,029.00"},{"v":1070.16,"d":"€ 1,070.16"},{"v":1069,"d":"€ 1,069.00"},null,{"v":40,"d":"€ 40.00"},{"v":40,"d":"€ 40.00"},null,"Preis passt",null,null,{"v":1069,"d":"€ 1,069.00"},0,{"v":1069,"d":"€ 1,069.00"},1069,"richtig"]
[625,{"v":819,"d":"€ 819.00"},{"$f":"B210+30","v":{"v":849,"d":"€ 849.00"}},{"$f":"C210+30","v":{"v":879,"d":"€ 879.00"}},{"v":909,"d":"€ 909.00"},{"v":939,"d":"€ 939.00"},null,{"v":789,"d":"€ 789.00"},null,27.46,1,{"v":16.1,"d":"16.10"},{"v":789,"d":"€ 789.00"},{"v":820.5600000000001,"d":"€ 820.56"},{"v":819,"d":"€ 819.00"},null,{"v":30,"d":"€ 30.00"},{"v":30,"d":"€ 30.00"},null,"Preis passt",null,null,{"v":819,"d":"€ 819.00"},0,{"v":819,"d":"€ 819.00"},819,"richtig"]
[626,{"v":1149,"d":"€ 1,149.00"},{"$f":"B211+40","v":{"v":1189,"d":"€ 1,189.00"}},{"$f":"C211+40","v":{"v":1229,"d":"€ 1,229.00"}},{"v":1269,"d":"€ 1,269.00"},{"v":1309,"d":"€ 1,309.00"},null,{"v":1109,"d":"€ 1,109.00"},null,45.31,2,23.79,{"v":1109,"d":"€ 1,109.00"},{"v":1153.3600000000001,"d":"€ 1,153.36"},{"v":1149,"d":"€ 1,149.00"},null,{"v":40,"d":"€ 40.00"},{"v":40,"d":"€ 40.00"},null,"Preis passt",null,null,{"v":1149,"d":"€ 1,149.00"},0,{"v":1149,"d":"€ 1,149.00"},1149,"richtig"]
[627,{"v":819,"d":"€ 819.00"},{"$f":"B212+30","v":{"v":849,"d":"€ 849.00"}},{"$f":"C212+30","v":{"v":879,"d":"€ 879.00"}},{"v":909,"d":"€ 909.00"},{"v":939,"d":"€ 939.00"},null,{"v":789,"d":"€ 789.00"},null,27.45,1,{"v":16.8,"d":"16.80"},{"v":789,"d":"€ 789.00"},{"v":820.5600000000001,"d":"€ 820.56"},{"v":819,"d":"€ 819.00"},null,{"v":30,"d":"€ 30.00"},{"v":30,"d":"€ 30.00"},null,"Preis passt",null,null,{"v":819,"d":"€ 819.00"},0,{"v":819,"d":"€ 819.00"},819,"richtig"]
[628,{"v":869,"d":"€ 869.00"},{"$f":"B213+30","v":{"v":899,"d":"€ 899.00"}},{"$f":"C213+30","v":{"v":929,"d":"€ 929.00"}},{"v":959,"d":"€ 959.00"},{"v":989,"d":"€ 989.00"},null,{"v":839,"d":"€ 839.00"},null,26.94,1,37.84,{"v":839,"d":"€ 839.00"},{"v":872.5600000000001,"d":"€ 872.56"},{"v":869,"d":"€ 869.00"},null,{"v":30,"d":"€ 30.00"},{"v":30,"d":"€ 30.00"},null,"Preis passt",null,null,{"v":869,"d":"€ 869.00"},0,{"v":869,"d":"€ 869.00"},869,"richtig"]
[]
[]
[null,{"$f":"SUM(B5:B213)","v":{"v":164296,"d":"€ 164,296.00"}},{"$nulls":5},{"$f":"SUM(H5:H213)","v":{"v":153906,"d":"€ 153,906.00"}},{"$f":"B216-H216","v":{"v":10390,"d":"€ 10,390.00"}}]
[]
[null,{"v":160556,"d":"160,556"},"vor Erhöhung"]
[]
[null,{"$f":"B216-B218","v":{"v":3740,"d":"€ 3,740.00"}},"mit Erhöhung"]